BEGIN:VCALENDAR
VERSION:2.0
PRODID:-//Universität Innsbruck//LFU:online//DE
METHOD:PUBLISH
BEGIN:VEVENT
UID:17S_715179_2896216@uibk.ac.at
ORGANIZER;CN="LFU:online Universität Innsbruck":MAILTO:Uni-Innsbruck-noreply@uibk.ac.at
SUMMARY:Strukturgeologie 2 (LV 715179-0 17S)
DESCRIPTION:Lehrveranstaltung 715179 17S, Gruppe 0\nTitel: Strukturgeologie 2\nOrt: Hörsaal 6\n\nhttps://lfuonline.uibk.ac.at/public/lfuonline_lv.details?sem_id_in=17S&lvnr_id_in=715179\n
CLASS:PUBLIC
DTSTART:20170508T114500Z
DTEND:20170508T131500Z
DTSTAMP:20260420T162538Z
LOCATION:Hörsaal 6
END:VEVENT
BEGIN:VEVENT
UID:17S_715179_2896217@uibk.ac.at
ORGANIZER;CN="LFU:online Universität Innsbruck":MAILTO:Uni-Innsbruck-noreply@uibk.ac.at
SUMMARY:Strukturgeologie 2 (LV 715179-0 17S)
DESCRIPTION:Lehrveranstaltung 715179 17S, Gruppe 0\nTitel: Strukturgeologie 2\nOrt: Hörsaal 6\n\nhttps://lfuonline.uibk.ac.at/public/lfuonline_lv.details?sem_id_in=17S&lvnr_id_in=715179\n
CLASS:PUBLIC
DTSTART:20170515T114500Z
DTEND:20170515T131500Z
DTSTAMP:20260420T162538Z
LOCATION:Hörsaal 6
END:VEVENT
BEGIN:VEVENT
UID:17S_715179_2896218@uibk.ac.at
ORGANIZER;CN="LFU:online Universität Innsbruck":MAILTO:Uni-Innsbruck-noreply@uibk.ac.at
SUMMARY:Strukturgeologie 2 (LV 715179-0 17S)
DESCRIPTION:Lehrveranstaltung 715179 17S, Gruppe 0\nTitel: Strukturgeologie 2\nOrt: Hörsaal 6\n\nhttps://lfuonline.uibk.ac.at/public/lfuonline_lv.details?sem_id_in=17S&lvnr_id_in=715179\n
CLASS:PUBLIC
DTSTART:20170522T114500Z
DTEND:20170522T131500Z
DTSTAMP:20260420T162538Z
LOCATION:Hörsaal 6
END:VEVENT
BEGIN:VEVENT
UID:17S_715179_2896219@uibk.ac.at
ORGANIZER;CN="LFU:online Universität Innsbruck":MAILTO:Uni-Innsbruck-noreply@uibk.ac.at
SUMMARY:Strukturgeologie 2 (LV 715179-0 17S)
DESCRIPTION:Lehrveranstaltung 715179 17S, Gruppe 0\nTitel: Strukturgeologie 2\nOrt: Hörsaal 6\n\nhttps://lfuonline.uibk.ac.at/public/lfuonline_lv.details?sem_id_in=17S&lvnr_id_in=715179\n
CLASS:PUBLIC
DTSTART:20170529T114500Z
DTEND:20170529T131500Z
DTSTAMP:20260420T162538Z
LOCATION:Hörsaal 6
END:VEVENT
BEGIN:VEVENT
UID:17S_715179_2896220@uibk.ac.at
ORGANIZER;CN="LFU:online Universität Innsbruck":MAILTO:Uni-Innsbruck-noreply@uibk.ac.at
SUMMARY:Strukturgeologie 2 (LV 715179-0 17S)
DESCRIPTION:Lehrveranstaltung 715179 17S, Gruppe 0\nTitel: Strukturgeologie 2\nOrt: Hörsaal 6\n\nhttps://lfuonline.uibk.ac.at/public/lfuonline_lv.details?sem_id_in=17S&lvnr_id_in=715179\n
CLASS:PUBLIC
DTSTART:20170612T114500Z
DTEND:20170612T131500Z
DTSTAMP:20260420T162538Z
LOCATION:Hörsaal 6
END:VEVENT
BEGIN:VEVENT
UID:17S_715179_2896221@uibk.ac.at
ORGANIZER;CN="LFU:online Universität Innsbruck":MAILTO:Uni-Innsbruck-noreply@uibk.ac.at
SUMMARY:Strukturgeologie 2 (LV 715179-0 17S)
DESCRIPTION:Lehrveranstaltung 715179 17S, Gruppe 0\nTitel: Strukturgeologie 2\nOrt: Hörsaal 6\n\nhttps://lfuonline.uibk.ac.at/public/lfuonline_lv.details?sem_id_in=17S&lvnr_id_in=715179\n
CLASS:PUBLIC
DTSTART:20170619T114500Z
DTEND:20170619T131500Z
DTSTAMP:20260420T162538Z
LOCATION:Hörsaal 6
END:VEVENT
BEGIN:VEVENT
UID:17S_715179_2896222@uibk.ac.at
ORGANIZER;CN="LFU:online Universität Innsbruck":MAILTO:Uni-Innsbruck-noreply@uibk.ac.at
SUMMARY:Strukturgeologie 2 (LV 715179-0 17S)
DESCRIPTION:Lehrveranstaltung 715179 17S, Gruppe 0\nTitel: Strukturgeologie 2\nOrt: Hörsaal 6\n\nhttps://lfuonline.uibk.ac.at/public/lfuonline_lv.details?sem_id_in=17S&lvnr_id_in=715179\n
CLASS:PUBLIC
DTSTART:20170626T114500Z
DTEND:20170626T131500Z
DTSTAMP:20260420T162538Z
LOCATION:Hörsaal 6
END:VEVENT
BEGIN:VEVENT
UID:17S_715179_2998814@uibk.ac.at
ORGANIZER;CN="LFU:online Universität Innsbruck":MAILTO:Uni-Innsbruck-noreply@uibk.ac.at
SUMMARY:Strukturgeologie 2 (LV 715179-0 17S)
DESCRIPTION:Lehrveranstaltung 715179 17S, Gruppe 0\nTitel: Strukturgeologie 2\nOrt: UR 60306\n\nhttps://lfuonline.uibk.ac.at/public/lfuonline_lv.details?sem_id_in=17S&lvnr_id_in=715179\n
CLASS:PUBLIC
DTSTART:20170707T120000Z
DTEND:20170707T160000Z
DTSTAMP:20260420T162538Z
LOCATION:UR 60306
END:VEVENT
BEGIN:VEVENT
UID:17S_715179_3040260@uibk.ac.at
ORGANIZER;CN="LFU:online Universität Innsbruck":MAILTO:Uni-Innsbruck-noreply@uibk.ac.at
SUMMARY:Strukturgeologie 2 (LV 715179-0 17S)
DESCRIPTION:Lehrveranstaltung 715179 17S, Gruppe 0\nTitel: Strukturgeologie 2\nOrt: UR 60306\n\nhttps://lfuonline.uibk.ac.at/public/lfuonline_lv.details?sem_id_in=17S&lvnr_id_in=715179\n
CLASS:PUBLIC
DTSTART:20171013T070000Z
DTEND:20171013T080000Z
DTSTAMP:20260420T162538Z
LOCATION:UR 60306
COMMENT:Prüfung Strukturgeologie 2 Ortner
END:VEVENT
END:VCALENDAR