BEGIN:VCALENDAR
VERSION:2.0
PRODID:-//Universität Innsbruck//LFU:online//DE
METHOD:PUBLISH
BEGIN:VEVENT
UID:17S_715180_2912308@uibk.ac.at
ORGANIZER;CN="LFU:online Universität Innsbruck":MAILTO:Uni-Innsbruck-noreply@uibk.ac.at
SUMMARY:Quartärgeologie (LV 715180-0 17S)
DESCRIPTION:Lehrveranstaltung 715180 17S, Gruppe 0\nTitel: Quartärgeologie\nOrt: UR 60306\n\nhttps://lfuonline.uibk.ac.at/public/lfuonline_lv.details?sem_id_in=17S&lvnr_id_in=715180\n
CLASS:PUBLIC
DTSTART:20170306T143000Z
DTEND:20170306T160000Z
DTSTAMP:20260420T163145Z
LOCATION:UR 60306
END:VEVENT
BEGIN:VEVENT
UID:17S_715180_2912309@uibk.ac.at
ORGANIZER;CN="LFU:online Universität Innsbruck":MAILTO:Uni-Innsbruck-noreply@uibk.ac.at
SUMMARY:Quartärgeologie (LV 715180-0 17S)
DESCRIPTION:Lehrveranstaltung 715180 17S, Gruppe 0\nTitel: Quartärgeologie\nOrt: UR 60306\n\nhttps://lfuonline.uibk.ac.at/public/lfuonline_lv.details?sem_id_in=17S&lvnr_id_in=715180\n
CLASS:PUBLIC
DTSTART:20170313T143000Z
DTEND:20170313T160000Z
DTSTAMP:20260420T163145Z
LOCATION:UR 60306
END:VEVENT
BEGIN:VEVENT
UID:17S_715180_2912310@uibk.ac.at
ORGANIZER;CN="LFU:online Universität Innsbruck":MAILTO:Uni-Innsbruck-noreply@uibk.ac.at
SUMMARY:Quartärgeologie (LV 715180-0 17S)
DESCRIPTION:Lehrveranstaltung 715180 17S, Gruppe 0\nTitel: Quartärgeologie\nOrt: UR 60306\n\nhttps://lfuonline.uibk.ac.at/public/lfuonline_lv.details?sem_id_in=17S&lvnr_id_in=715180\n
CLASS:PUBLIC
DTSTART:20170320T143000Z
DTEND:20170320T160000Z
DTSTAMP:20260420T163145Z
LOCATION:UR 60306
END:VEVENT
BEGIN:VEVENT
UID:17S_715180_2912311@uibk.ac.at
ORGANIZER;CN="LFU:online Universität Innsbruck":MAILTO:Uni-Innsbruck-noreply@uibk.ac.at
SUMMARY:Quartärgeologie (LV 715180-0 17S)
DESCRIPTION:Lehrveranstaltung 715180 17S, Gruppe 0\nTitel: Quartärgeologie\nOrt: UR 60306\n\nhttps://lfuonline.uibk.ac.at/public/lfuonline_lv.details?sem_id_in=17S&lvnr_id_in=715180\n
CLASS:PUBLIC
DTSTART:20170327T133000Z
DTEND:20170327T150000Z
DTSTAMP:20260420T163145Z
LOCATION:UR 60306
END:VEVENT
BEGIN:VEVENT
UID:17S_715180_2912312@uibk.ac.at
ORGANIZER;CN="LFU:online Universität Innsbruck":MAILTO:Uni-Innsbruck-noreply@uibk.ac.at
SUMMARY:Quartärgeologie (LV 715180-0 17S)
DESCRIPTION:Lehrveranstaltung 715180 17S, Gruppe 0\nTitel: Quartärgeologie\nOrt: UR 60306\n\nhttps://lfuonline.uibk.ac.at/public/lfuonline_lv.details?sem_id_in=17S&lvnr_id_in=715180\n
CLASS:PUBLIC
DTSTART:20170403T133000Z
DTEND:20170403T150000Z
DTSTAMP:20260420T163145Z
LOCATION:UR 60306
END:VEVENT
BEGIN:VEVENT
UID:17S_715180_2912313@uibk.ac.at
ORGANIZER;CN="LFU:online Universität Innsbruck":MAILTO:Uni-Innsbruck-noreply@uibk.ac.at
SUMMARY:Quartärgeologie (LV 715180-0 17S)
DESCRIPTION:Lehrveranstaltung 715180 17S, Gruppe 0\nTitel: Quartärgeologie\nOrt: UR 60306\n\nhttps://lfuonline.uibk.ac.at/public/lfuonline_lv.details?sem_id_in=17S&lvnr_id_in=715180\n
CLASS:PUBLIC
DTSTART:20170424T133000Z
DTEND:20170424T150000Z
DTSTAMP:20260420T163145Z
LOCATION:UR 60306
END:VEVENT
BEGIN:VEVENT
UID:17S_715180_2912314@uibk.ac.at
ORGANIZER;CN="LFU:online Universität Innsbruck":MAILTO:Uni-Innsbruck-noreply@uibk.ac.at
SUMMARY:Quartärgeologie (LV 715180-0 17S)
DESCRIPTION:Lehrveranstaltung 715180 17S, Gruppe 0\nTitel: Quartärgeologie\nOrt: UR 60306\n\nhttps://lfuonline.uibk.ac.at/public/lfuonline_lv.details?sem_id_in=17S&lvnr_id_in=715180\n
CLASS:PUBLIC
DTSTART:20170508T133000Z
DTEND:20170508T150000Z
DTSTAMP:20260420T163145Z
LOCATION:UR 60306
END:VEVENT
BEGIN:VEVENT
UID:17S_715180_2912315@uibk.ac.at
ORGANIZER;CN="LFU:online Universität Innsbruck":MAILTO:Uni-Innsbruck-noreply@uibk.ac.at
SUMMARY:Quartärgeologie (LV 715180-0 17S)
DESCRIPTION:Lehrveranstaltung 715180 17S, Gruppe 0\nTitel: Quartärgeologie\nOrt: UR 60306\n\nhttps://lfuonline.uibk.ac.at/public/lfuonline_lv.details?sem_id_in=17S&lvnr_id_in=715180\n
CLASS:PUBLIC
DTSTART:20170515T133000Z
DTEND:20170515T150000Z
DTSTAMP:20260420T163145Z
LOCATION:UR 60306
END:VEVENT
BEGIN:VEVENT
UID:17S_715180_2912316@uibk.ac.at
ORGANIZER;CN="LFU:online Universität Innsbruck":MAILTO:Uni-Innsbruck-noreply@uibk.ac.at
SUMMARY:Quartärgeologie (LV 715180-0 17S)
DESCRIPTION:Lehrveranstaltung 715180 17S, Gruppe 0\nTitel: Quartärgeologie\nOrt: UR 60306\n\nhttps://lfuonline.uibk.ac.at/public/lfuonline_lv.details?sem_id_in=17S&lvnr_id_in=715180\n
CLASS:PUBLIC
DTSTART:20170522T133000Z
DTEND:20170522T150000Z
DTSTAMP:20260420T163145Z
LOCATION:UR 60306
END:VEVENT
BEGIN:VEVENT
UID:17S_715180_2912317@uibk.ac.at
ORGANIZER;CN="LFU:online Universität Innsbruck":MAILTO:Uni-Innsbruck-noreply@uibk.ac.at
SUMMARY:Quartärgeologie (LV 715180-0 17S)
DESCRIPTION:Lehrveranstaltung 715180 17S, Gruppe 0\nTitel: Quartärgeologie\nOrt: UR 60306\n\nhttps://lfuonline.uibk.ac.at/public/lfuonline_lv.details?sem_id_in=17S&lvnr_id_in=715180\n
CLASS:PUBLIC
DTSTART:20170529T133000Z
DTEND:20170529T150000Z
DTSTAMP:20260420T163145Z
LOCATION:UR 60306
END:VEVENT
BEGIN:VEVENT
UID:17S_715180_2912318@uibk.ac.at
ORGANIZER;CN="LFU:online Universität Innsbruck":MAILTO:Uni-Innsbruck-noreply@uibk.ac.at
SUMMARY:Quartärgeologie (LV 715180-0 17S)
DESCRIPTION:Lehrveranstaltung 715180 17S, Gruppe 0\nTitel: Quartärgeologie\nOrt: UR 60306\n\nhttps://lfuonline.uibk.ac.at/public/lfuonline_lv.details?sem_id_in=17S&lvnr_id_in=715180\n
CLASS:PUBLIC
DTSTART:20170612T133000Z
DTEND:20170612T150000Z
DTSTAMP:20260420T163145Z
LOCATION:UR 60306
END:VEVENT
BEGIN:VEVENT
UID:17S_715180_2912319@uibk.ac.at
ORGANIZER;CN="LFU:online Universität Innsbruck":MAILTO:Uni-Innsbruck-noreply@uibk.ac.at
SUMMARY:Quartärgeologie (LV 715180-0 17S)
DESCRIPTION:Lehrveranstaltung 715180 17S, Gruppe 0\nTitel: Quartärgeologie\nOrt: UR 60306\n\nhttps://lfuonline.uibk.ac.at/public/lfuonline_lv.details?sem_id_in=17S&lvnr_id_in=715180\n
CLASS:PUBLIC
DTSTART:20170619T133000Z
DTEND:20170619T150000Z
DTSTAMP:20260420T163145Z
LOCATION:UR 60306
END:VEVENT
BEGIN:VEVENT
UID:17S_715180_2912320@uibk.ac.at
ORGANIZER;CN="LFU:online Universität Innsbruck":MAILTO:Uni-Innsbruck-noreply@uibk.ac.at
SUMMARY:Quartärgeologie (LV 715180-0 17S)
DESCRIPTION:Lehrveranstaltung 715180 17S, Gruppe 0\nTitel: Quartärgeologie\nOrt: UR 60306\n\nhttps://lfuonline.uibk.ac.at/public/lfuonline_lv.details?sem_id_in=17S&lvnr_id_in=715180\n
CLASS:PUBLIC
DTSTART:20170626T133000Z
DTEND:20170626T150000Z
DTSTAMP:20260420T163145Z
LOCATION:UR 60306
END:VEVENT
END:VCALENDAR