BEGIN:VCALENDAR
VERSION:2.0
PRODID:-//Universität Innsbruck//LFU:online//DE
METHOD:PUBLISH
BEGIN:VEVENT
UID:22S_715209_4008154@uibk.ac.at
ORGANIZER;CN="LFU:online Universität Innsbruck":MAILTO:Uni-Innsbruck-noreply@uibk.ac.at
SUMMARY:Ausgewählte Themen der marinen Erdwissenschaften (LV 715209-0 22S)
DESCRIPTION:Lehrveranstaltung 715209 22S, Gruppe 0\nTitel: Ausgewählte Themen der marinen Erdwissenschaften\nOrt: UR 60306\n\nhttps://lfuonline.uibk.ac.at/public/lfuonline_lv.details?sem_id_in=22S&lvnr_id_in=715209\n
CLASS:PUBLIC
DTSTART:20220329T063000Z
DTEND:20220329T090000Z
DTSTAMP:20260419T235841Z
LOCATION:UR 60306
END:VEVENT
BEGIN:VEVENT
UID:22S_715209_4008155@uibk.ac.at
ORGANIZER;CN="LFU:online Universität Innsbruck":MAILTO:Uni-Innsbruck-noreply@uibk.ac.at
SUMMARY:Ausgewählte Themen der marinen Erdwissenschaften (LV 715209-0 22S)
DESCRIPTION:Lehrveranstaltung 715209 22S, Gruppe 0\nTitel: Ausgewählte Themen der marinen Erdwissenschaften\nOrt: UR 60306\n\nhttps://lfuonline.uibk.ac.at/public/lfuonline_lv.details?sem_id_in=22S&lvnr_id_in=715209\n
CLASS:PUBLIC
DTSTART:20220405T063000Z
DTEND:20220405T090000Z
DTSTAMP:20260419T235841Z
LOCATION:UR 60306
END:VEVENT
BEGIN:VEVENT
UID:22S_715209_4008157@uibk.ac.at
ORGANIZER;CN="LFU:online Universität Innsbruck":MAILTO:Uni-Innsbruck-noreply@uibk.ac.at
SUMMARY:Ausgewählte Themen der marinen Erdwissenschaften (LV 715209-0 22S)
DESCRIPTION:Lehrveranstaltung 715209 22S, Gruppe 0\nTitel: Ausgewählte Themen der marinen Erdwissenschaften\nOrt: UR 60306\n\nhttps://lfuonline.uibk.ac.at/public/lfuonline_lv.details?sem_id_in=22S&lvnr_id_in=715209\n
CLASS:PUBLIC
DTSTART:20220503T063000Z
DTEND:20220503T090000Z
DTSTAMP:20260419T235841Z
LOCATION:UR 60306
END:VEVENT
BEGIN:VEVENT
UID:22S_715209_4008158@uibk.ac.at
ORGANIZER;CN="LFU:online Universität Innsbruck":MAILTO:Uni-Innsbruck-noreply@uibk.ac.at
SUMMARY:Ausgewählte Themen der marinen Erdwissenschaften (LV 715209-0 22S)
DESCRIPTION:Lehrveranstaltung 715209 22S, Gruppe 0\nTitel: Ausgewählte Themen der marinen Erdwissenschaften\nOrt: UR 60306\n\nhttps://lfuonline.uibk.ac.at/public/lfuonline_lv.details?sem_id_in=22S&lvnr_id_in=715209\n
CLASS:PUBLIC
DTSTART:20220510T063000Z
DTEND:20220510T090000Z
DTSTAMP:20260419T235841Z
LOCATION:UR 60306
END:VEVENT
BEGIN:VEVENT
UID:22S_715209_4008159@uibk.ac.at
ORGANIZER;CN="LFU:online Universität Innsbruck":MAILTO:Uni-Innsbruck-noreply@uibk.ac.at
SUMMARY:Ausgewählte Themen der marinen Erdwissenschaften (LV 715209-0 22S)
DESCRIPTION:Lehrveranstaltung 715209 22S, Gruppe 0\nTitel: Ausgewählte Themen der marinen Erdwissenschaften\nOrt: UR 60306\n\nhttps://lfuonline.uibk.ac.at/public/lfuonline_lv.details?sem_id_in=22S&lvnr_id_in=715209\n
CLASS:PUBLIC
DTSTART:20220517T063000Z
DTEND:20220517T090000Z
DTSTAMP:20260419T235841Z
LOCATION:UR 60306
END:VEVENT
BEGIN:VEVENT
UID:22S_715209_4008161@uibk.ac.at
ORGANIZER;CN="LFU:online Universität Innsbruck":MAILTO:Uni-Innsbruck-noreply@uibk.ac.at
SUMMARY:Ausgewählte Themen der marinen Erdwissenschaften (LV 715209-0 22S)
DESCRIPTION:Lehrveranstaltung 715209 22S, Gruppe 0\nTitel: Ausgewählte Themen der marinen Erdwissenschaften\nOrt: UR 60306\n\nhttps://lfuonline.uibk.ac.at/public/lfuonline_lv.details?sem_id_in=22S&lvnr_id_in=715209\n
CLASS:PUBLIC
DTSTART:20220531T063000Z
DTEND:20220531T090000Z
DTSTAMP:20260419T235841Z
LOCATION:UR 60306
END:VEVENT
END:VCALENDAR