BEGIN:VCALENDAR
VERSION:2.0
PRODID:-//Universität Innsbruck//LFU:online//DE
METHOD:PUBLISH
BEGIN:VEVENT
UID:14S_715425_2409455@uibk.ac.at
ORGANIZER;CN="LFU:online Universität Innsbruck":MAILTO:Uni-Innsbruck-noreply@uibk.ac.at
SUMMARY:Einführung in die Bodenmechanik (LV 715425-0 14S)
DESCRIPTION:Lehrveranstaltung 715425 14S, Gruppe 0\nTitel: Einführung in die Bodenmechanik\nOrt: SR Container 5\n\nhttps://lfuonline.uibk.ac.at/public/lfuonline_lv.details?sem_id_in=14S&lvnr_id_in=715425\n
CLASS:PUBLIC
DTSTART:20141022T114500Z
DTEND:20141022T134500Z
DTSTAMP:20260419T143921Z
LOCATION:SR Container 5
COMMENT:Prüfung
END:VEVENT
END:VCALENDAR