BEGIN:VCALENDAR
VERSION:2.0
PRODID:-//Universität Innsbruck//LFU:online//DE
METHOD:PUBLISH
BEGIN:VEVENT
UID:20W_716003_3610760@uibk.ac.at
ORGANIZER;CN="LFU:online Universität Innsbruck":MAILTO:Uni-Innsbruck-noreply@uibk.ac.at
SUMMARY:ABGESAGT: VO Grundlagen der Kartographie (LV 716003-0 20W)
DESCRIPTION:Lehrveranstaltung 716003 20W, Gruppe 0\nTitel: VO Grundlagen der Kartographie\nOrt: eLecture - online\n\nhttps://lfuonline.uibk.ac.at/public/lfuonline_lv.details?sem_id_in=20W&lvnr_id_in=716003\n
CLASS:PUBLIC
DTSTART:20201007T081500Z
DTEND:20201007T094500Z
DTSTAMP:20260420T061151Z
LOCATION:eLecture - online
END:VEVENT
BEGIN:VEVENT
UID:20W_716003_3727462@uibk.ac.at
ORGANIZER;CN="LFU:online Universität Innsbruck":MAILTO:Uni-Innsbruck-noreply@uibk.ac.at
SUMMARY:VO Grundlagen der Kartographie (LV 716003-0 20W)
DESCRIPTION:Lehrveranstaltung 716003 20W, Gruppe 0\nTitel: VO Grundlagen der Kartographie\nOrt: eLecture - online\n\nhttps://lfuonline.uibk.ac.at/public/lfuonline_lv.details?sem_id_in=20W&lvnr_id_in=716003\n
CLASS:PUBLIC
DTSTART:20201014T081500Z
DTEND:20201014T094500Z
DTSTAMP:20260420T061151Z
LOCATION:eLecture - online
END:VEVENT
BEGIN:VEVENT
UID:20W_716003_3715400@uibk.ac.at
ORGANIZER;CN="LFU:online Universität Innsbruck":MAILTO:Uni-Innsbruck-noreply@uibk.ac.at
SUMMARY:VO Grundlagen der Kartographie (LV 716003-0 20W)
DESCRIPTION:Lehrveranstaltung 716003 20W, Gruppe 0\nTitel: VO Grundlagen der Kartographie\nOrt: eLecture - online\n\nhttps://lfuonline.uibk.ac.at/public/lfuonline_lv.details?sem_id_in=20W&lvnr_id_in=716003\n
CLASS:PUBLIC
DTSTART:20201019T151500Z
DTEND:20201019T164500Z
DTSTAMP:20260420T061151Z
LOCATION:eLecture - online
COMMENT:Tutorium
END:VEVENT
BEGIN:VEVENT
UID:20W_716003_3610762@uibk.ac.at
ORGANIZER;CN="LFU:online Universität Innsbruck":MAILTO:Uni-Innsbruck-noreply@uibk.ac.at
SUMMARY:VO Grundlagen der Kartographie (LV 716003-0 20W)
DESCRIPTION:Lehrveranstaltung 716003 20W, Gruppe 0\nTitel: VO Grundlagen der Kartographie\nOrt: eLecture - online\n\nhttps://lfuonline.uibk.ac.at/public/lfuonline_lv.details?sem_id_in=20W&lvnr_id_in=716003\n
CLASS:PUBLIC
DTSTART:20201021T081500Z
DTEND:20201021T094500Z
DTSTAMP:20260420T061151Z
LOCATION:eLecture - online
END:VEVENT
BEGIN:VEVENT
UID:20W_716003_3610763@uibk.ac.at
ORGANIZER;CN="LFU:online Universität Innsbruck":MAILTO:Uni-Innsbruck-noreply@uibk.ac.at
SUMMARY:VO Grundlagen der Kartographie (LV 716003-0 20W)
DESCRIPTION:Lehrveranstaltung 716003 20W, Gruppe 0\nTitel: VO Grundlagen der Kartographie\nOrt: eLecture - online\n\nhttps://lfuonline.uibk.ac.at/public/lfuonline_lv.details?sem_id_in=20W&lvnr_id_in=716003\n
CLASS:PUBLIC
DTSTART:20201028T091500Z
DTEND:20201028T104500Z
DTSTAMP:20260420T061151Z
LOCATION:eLecture - online
END:VEVENT
BEGIN:VEVENT
UID:20W_716003_3610764@uibk.ac.at
ORGANIZER;CN="LFU:online Universität Innsbruck":MAILTO:Uni-Innsbruck-noreply@uibk.ac.at
SUMMARY:VO Grundlagen der Kartographie (LV 716003-0 20W)
DESCRIPTION:Lehrveranstaltung 716003 20W, Gruppe 0\nTitel: VO Grundlagen der Kartographie\nOrt: eLecture - online\n\nhttps://lfuonline.uibk.ac.at/public/lfuonline_lv.details?sem_id_in=20W&lvnr_id_in=716003\n
CLASS:PUBLIC
DTSTART:20201104T091500Z
DTEND:20201104T104500Z
DTSTAMP:20260420T061151Z
LOCATION:eLecture - online
END:VEVENT
BEGIN:VEVENT
UID:20W_716003_3715401@uibk.ac.at
ORGANIZER;CN="LFU:online Universität Innsbruck":MAILTO:Uni-Innsbruck-noreply@uibk.ac.at
SUMMARY:VO Grundlagen der Kartographie (LV 716003-0 20W)
DESCRIPTION:Lehrveranstaltung 716003 20W, Gruppe 0\nTitel: VO Grundlagen der Kartographie\nOrt: eLecture - online\n\nhttps://lfuonline.uibk.ac.at/public/lfuonline_lv.details?sem_id_in=20W&lvnr_id_in=716003\n
CLASS:PUBLIC
DTSTART:20201109T161500Z
DTEND:20201109T174500Z
DTSTAMP:20260420T061151Z
LOCATION:eLecture - online
COMMENT:Tutorium
END:VEVENT
BEGIN:VEVENT
UID:20W_716003_3610765@uibk.ac.at
ORGANIZER;CN="LFU:online Universität Innsbruck":MAILTO:Uni-Innsbruck-noreply@uibk.ac.at
SUMMARY:VO Grundlagen der Kartographie (LV 716003-0 20W)
DESCRIPTION:Lehrveranstaltung 716003 20W, Gruppe 0\nTitel: VO Grundlagen der Kartographie\nOrt: eLecture - online\n\nhttps://lfuonline.uibk.ac.at/public/lfuonline_lv.details?sem_id_in=20W&lvnr_id_in=716003\n
CLASS:PUBLIC
DTSTART:20201111T091500Z
DTEND:20201111T104500Z
DTSTAMP:20260420T061151Z
LOCATION:eLecture - online
END:VEVENT
BEGIN:VEVENT
UID:20W_716003_3715402@uibk.ac.at
ORGANIZER;CN="LFU:online Universität Innsbruck":MAILTO:Uni-Innsbruck-noreply@uibk.ac.at
SUMMARY:VO Grundlagen der Kartographie (LV 716003-0 20W)
DESCRIPTION:Lehrveranstaltung 716003 20W, Gruppe 0\nTitel: VO Grundlagen der Kartographie\nOrt: eLecture - online\n\nhttps://lfuonline.uibk.ac.at/public/lfuonline_lv.details?sem_id_in=20W&lvnr_id_in=716003\n
CLASS:PUBLIC
DTSTART:20201116T161500Z
DTEND:20201116T174500Z
DTSTAMP:20260420T061151Z
LOCATION:eLecture - online
COMMENT:Tutorium
END:VEVENT
BEGIN:VEVENT
UID:20W_716003_3610766@uibk.ac.at
ORGANIZER;CN="LFU:online Universität Innsbruck":MAILTO:Uni-Innsbruck-noreply@uibk.ac.at
SUMMARY:VO Grundlagen der Kartographie (LV 716003-0 20W)
DESCRIPTION:Lehrveranstaltung 716003 20W, Gruppe 0\nTitel: VO Grundlagen der Kartographie\nOrt: eLecture - online\n\nhttps://lfuonline.uibk.ac.at/public/lfuonline_lv.details?sem_id_in=20W&lvnr_id_in=716003\n
CLASS:PUBLIC
DTSTART:20201118T091500Z
DTEND:20201118T104500Z
DTSTAMP:20260420T061151Z
LOCATION:eLecture - online
END:VEVENT
BEGIN:VEVENT
UID:20W_716003_3715403@uibk.ac.at
ORGANIZER;CN="LFU:online Universität Innsbruck":MAILTO:Uni-Innsbruck-noreply@uibk.ac.at
SUMMARY:VO Grundlagen der Kartographie (LV 716003-0 20W)
DESCRIPTION:Lehrveranstaltung 716003 20W, Gruppe 0\nTitel: VO Grundlagen der Kartographie\nOrt: eLecture - online\n\nhttps://lfuonline.uibk.ac.at/public/lfuonline_lv.details?sem_id_in=20W&lvnr_id_in=716003\n
CLASS:PUBLIC
DTSTART:20201123T161500Z
DTEND:20201123T174500Z
DTSTAMP:20260420T061151Z
LOCATION:eLecture - online
COMMENT:Tutorium
END:VEVENT
BEGIN:VEVENT
UID:20W_716003_3613917@uibk.ac.at
ORGANIZER;CN="LFU:online Universität Innsbruck":MAILTO:Uni-Innsbruck-noreply@uibk.ac.at
SUMMARY:VO Grundlagen der Kartographie (LV 716003-0 20W)
DESCRIPTION:Lehrveranstaltung 716003 20W, Gruppe 0\nTitel: VO Grundlagen der Kartographie\nOrt: eLecture - online\n\nhttps://lfuonline.uibk.ac.at/public/lfuonline_lv.details?sem_id_in=20W&lvnr_id_in=716003\n
CLASS:PUBLIC
DTSTART:20201125T091500Z
DTEND:20201125T104500Z
DTSTAMP:20260420T061151Z
LOCATION:eLecture - online
END:VEVENT
BEGIN:VEVENT
UID:20W_716003_3735008@uibk.ac.at
ORGANIZER;CN="LFU:online Universität Innsbruck":MAILTO:Uni-Innsbruck-noreply@uibk.ac.at
SUMMARY:VO Grundlagen der Kartographie (LV 716003-0 20W)
DESCRIPTION:Lehrveranstaltung 716003 20W, Gruppe 0\nTitel: VO Grundlagen der Kartographie\nOrt: online (Geographie)\n\nhttps://lfuonline.uibk.ac.at/public/lfuonline_lv.details?sem_id_in=20W&lvnr_id_in=716003\n
CLASS:PUBLIC
DTSTART:20201127T073000Z
DTEND:20201127T090000Z
DTSTAMP:20260420T061151Z
LOCATION:online (Geographie)
END:VEVENT
BEGIN:VEVENT
UID:20W_716003_3715404@uibk.ac.at
ORGANIZER;CN="LFU:online Universität Innsbruck":MAILTO:Uni-Innsbruck-noreply@uibk.ac.at
SUMMARY:VO Grundlagen der Kartographie (LV 716003-0 20W)
DESCRIPTION:Lehrveranstaltung 716003 20W, Gruppe 0\nTitel: VO Grundlagen der Kartographie\nOrt: eLecture - online\n\nhttps://lfuonline.uibk.ac.at/public/lfuonline_lv.details?sem_id_in=20W&lvnr_id_in=716003\n
CLASS:PUBLIC
DTSTART:20201130T161500Z
DTEND:20201130T174500Z
DTSTAMP:20260420T061151Z
LOCATION:eLecture - online
COMMENT:Tutorium
END:VEVENT
BEGIN:VEVENT
UID:20W_716003_3613918@uibk.ac.at
ORGANIZER;CN="LFU:online Universität Innsbruck":MAILTO:Uni-Innsbruck-noreply@uibk.ac.at
SUMMARY:VO Grundlagen der Kartographie (LV 716003-0 20W)
DESCRIPTION:Lehrveranstaltung 716003 20W, Gruppe 0\nTitel: VO Grundlagen der Kartographie\nOrt: eLecture - online\n\nhttps://lfuonline.uibk.ac.at/public/lfuonline_lv.details?sem_id_in=20W&lvnr_id_in=716003\n
CLASS:PUBLIC
DTSTART:20201202T091500Z
DTEND:20201202T104500Z
DTSTAMP:20260420T061151Z
LOCATION:eLecture - online
END:VEVENT
BEGIN:VEVENT
UID:20W_716003_3715723@uibk.ac.at
ORGANIZER;CN="LFU:online Universität Innsbruck":MAILTO:Uni-Innsbruck-noreply@uibk.ac.at
SUMMARY:VO Grundlagen der Kartographie (LV 716003-0 20W)
DESCRIPTION:Lehrveranstaltung 716003 20W, Gruppe 0\nTitel: VO Grundlagen der Kartographie\nOrt: eLecture - online\n\nhttps://lfuonline.uibk.ac.at/public/lfuonline_lv.details?sem_id_in=20W&lvnr_id_in=716003\n
CLASS:PUBLIC
DTSTART:20201207T161500Z
DTEND:20201207T174500Z
DTSTAMP:20260420T061151Z
LOCATION:eLecture - online
COMMENT:Tutorium
END:VEVENT
BEGIN:VEVENT
UID:20W_716003_3613919@uibk.ac.at
ORGANIZER;CN="LFU:online Universität Innsbruck":MAILTO:Uni-Innsbruck-noreply@uibk.ac.at
SUMMARY:VO Grundlagen der Kartographie (LV 716003-0 20W)
DESCRIPTION:Lehrveranstaltung 716003 20W, Gruppe 0\nTitel: VO Grundlagen der Kartographie\nOrt: eLecture - online\n\nhttps://lfuonline.uibk.ac.at/public/lfuonline_lv.details?sem_id_in=20W&lvnr_id_in=716003\n
CLASS:PUBLIC
DTSTART:20201209T091500Z
DTEND:20201209T104500Z
DTSTAMP:20260420T061151Z
LOCATION:eLecture - online
COMMENT:1. Prüfungstermin
END:VEVENT
BEGIN:VEVENT
UID:20W_716003_3715405@uibk.ac.at
ORGANIZER;CN="LFU:online Universität Innsbruck":MAILTO:Uni-Innsbruck-noreply@uibk.ac.at
SUMMARY:VO Grundlagen der Kartographie (LV 716003-0 20W)
DESCRIPTION:Lehrveranstaltung 716003 20W, Gruppe 0\nTitel: VO Grundlagen der Kartographie\nOrt: eLecture - online\n\nhttps://lfuonline.uibk.ac.at/public/lfuonline_lv.details?sem_id_in=20W&lvnr_id_in=716003\n
CLASS:PUBLIC
DTSTART:20210118T161500Z
DTEND:20210118T174500Z
DTSTAMP:20260420T061151Z
LOCATION:eLecture - online
COMMENT:Tutorium
END:VEVENT
BEGIN:VEVENT
UID:20W_716003_3613920@uibk.ac.at
ORGANIZER;CN="LFU:online Universität Innsbruck":MAILTO:Uni-Innsbruck-noreply@uibk.ac.at
SUMMARY:VO Grundlagen der Kartographie (LV 716003-0 20W)
DESCRIPTION:Lehrveranstaltung 716003 20W, Gruppe 0\nTitel: VO Grundlagen der Kartographie\nOrt: eLecture - online\n\nhttps://lfuonline.uibk.ac.at/public/lfuonline_lv.details?sem_id_in=20W&lvnr_id_in=716003\n
CLASS:PUBLIC
DTSTART:20210127T091500Z
DTEND:20210127T104500Z
DTSTAMP:20260420T061151Z
LOCATION:eLecture - online
COMMENT:2. Prüfungstermin
END:VEVENT
END:VCALENDAR