BEGIN:VCALENDAR
VERSION:2.0
PRODID:-//Universität Innsbruck//LFU:online//DE
METHOD:PUBLISH
BEGIN:VEVENT
UID:22W_716102_4172056@uibk.ac.at
ORGANIZER;CN="LFU:online Universität Innsbruck":MAILTO:Uni-Innsbruck-noreply@uibk.ac.at
SUMMARY:PS Humangeographie: Proseminar, Kurs 2: Geographische Tourismusforschung (LV 716102-0 22W)
DESCRIPTION:Lehrveranstaltung 716102 22W, Gruppe 0\nTitel: PS Humangeographie: Proseminar, Kurs 2: Geographische Tourismusforschung\nOrt: 60708 SR\n\nhttps://lfuonline.uibk.ac.at/public/lfuonline_lv.details?sem_id_in=22W&lvnr_id_in=716102\n
CLASS:PUBLIC
DTSTART:20221018T133000Z
DTEND:20221018T150000Z
DTSTAMP:20260419T124014Z
LOCATION:60708 SR
END:VEVENT
BEGIN:VEVENT
UID:22W_716102_4172057@uibk.ac.at
ORGANIZER;CN="LFU:online Universität Innsbruck":MAILTO:Uni-Innsbruck-noreply@uibk.ac.at
SUMMARY:PS Humangeographie: Proseminar, Kurs 2: Geographische Tourismusforschung (LV 716102-0 22W)
DESCRIPTION:Lehrveranstaltung 716102 22W, Gruppe 0\nTitel: PS Humangeographie: Proseminar, Kurs 2: Geographische Tourismusforschung\nOrt: 60708 SR\n\nhttps://lfuonline.uibk.ac.at/public/lfuonline_lv.details?sem_id_in=22W&lvnr_id_in=716102\n
CLASS:PUBLIC
DTSTART:20221025T133000Z
DTEND:20221025T150000Z
DTSTAMP:20260419T124014Z
LOCATION:60708 SR
END:VEVENT
BEGIN:VEVENT
UID:22W_716102_4172058@uibk.ac.at
ORGANIZER;CN="LFU:online Universität Innsbruck":MAILTO:Uni-Innsbruck-noreply@uibk.ac.at
SUMMARY:PS Humangeographie: Proseminar, Kurs 2: Geographische Tourismusforschung (LV 716102-0 22W)
DESCRIPTION:Lehrveranstaltung 716102 22W, Gruppe 0\nTitel: PS Humangeographie: Proseminar, Kurs 2: Geographische Tourismusforschung\nOrt: 60708 SR\n\nhttps://lfuonline.uibk.ac.at/public/lfuonline_lv.details?sem_id_in=22W&lvnr_id_in=716102\n
CLASS:PUBLIC
DTSTART:20221108T143000Z
DTEND:20221108T160000Z
DTSTAMP:20260419T124014Z
LOCATION:60708 SR
END:VEVENT
BEGIN:VEVENT
UID:22W_716102_4172059@uibk.ac.at
ORGANIZER;CN="LFU:online Universität Innsbruck":MAILTO:Uni-Innsbruck-noreply@uibk.ac.at
SUMMARY:PS Humangeographie: Proseminar, Kurs 2: Geographische Tourismusforschung (LV 716102-0 22W)
DESCRIPTION:Lehrveranstaltung 716102 22W, Gruppe 0\nTitel: PS Humangeographie: Proseminar, Kurs 2: Geographische Tourismusforschung\nOrt: 60708 SR\n\nhttps://lfuonline.uibk.ac.at/public/lfuonline_lv.details?sem_id_in=22W&lvnr_id_in=716102\n
CLASS:PUBLIC
DTSTART:20221115T143000Z
DTEND:20221115T160000Z
DTSTAMP:20260419T124014Z
LOCATION:60708 SR
END:VEVENT
BEGIN:VEVENT
UID:22W_716102_4172060@uibk.ac.at
ORGANIZER;CN="LFU:online Universität Innsbruck":MAILTO:Uni-Innsbruck-noreply@uibk.ac.at
SUMMARY:PS Humangeographie: Proseminar, Kurs 2: Geographische Tourismusforschung (LV 716102-0 22W)
DESCRIPTION:Lehrveranstaltung 716102 22W, Gruppe 0\nTitel: PS Humangeographie: Proseminar, Kurs 2: Geographische Tourismusforschung\nOrt: 60708 SR\n\nhttps://lfuonline.uibk.ac.at/public/lfuonline_lv.details?sem_id_in=22W&lvnr_id_in=716102\n
CLASS:PUBLIC
DTSTART:20221122T143000Z
DTEND:20221122T160000Z
DTSTAMP:20260419T124014Z
LOCATION:60708 SR
END:VEVENT
BEGIN:VEVENT
UID:22W_716102_4172061@uibk.ac.at
ORGANIZER;CN="LFU:online Universität Innsbruck":MAILTO:Uni-Innsbruck-noreply@uibk.ac.at
SUMMARY:PS Humangeographie: Proseminar, Kurs 2: Geographische Tourismusforschung (LV 716102-0 22W)
DESCRIPTION:Lehrveranstaltung 716102 22W, Gruppe 0\nTitel: PS Humangeographie: Proseminar, Kurs 2: Geographische Tourismusforschung\nOrt: 60708 SR\n\nhttps://lfuonline.uibk.ac.at/public/lfuonline_lv.details?sem_id_in=22W&lvnr_id_in=716102\n
CLASS:PUBLIC
DTSTART:20221129T143000Z
DTEND:20221129T160000Z
DTSTAMP:20260419T124014Z
LOCATION:60708 SR
END:VEVENT
BEGIN:VEVENT
UID:22W_716102_4172062@uibk.ac.at
ORGANIZER;CN="LFU:online Universität Innsbruck":MAILTO:Uni-Innsbruck-noreply@uibk.ac.at
SUMMARY:PS Humangeographie: Proseminar, Kurs 2: Geographische Tourismusforschung (LV 716102-0 22W)
DESCRIPTION:Lehrveranstaltung 716102 22W, Gruppe 0\nTitel: PS Humangeographie: Proseminar, Kurs 2: Geographische Tourismusforschung\nOrt: 60708 SR\n\nhttps://lfuonline.uibk.ac.at/public/lfuonline_lv.details?sem_id_in=22W&lvnr_id_in=716102\n
CLASS:PUBLIC
DTSTART:20221206T143000Z
DTEND:20221206T160000Z
DTSTAMP:20260419T124014Z
LOCATION:60708 SR
END:VEVENT
BEGIN:VEVENT
UID:22W_716102_4172063@uibk.ac.at
ORGANIZER;CN="LFU:online Universität Innsbruck":MAILTO:Uni-Innsbruck-noreply@uibk.ac.at
SUMMARY:PS Humangeographie: Proseminar, Kurs 2: Geographische Tourismusforschung (LV 716102-0 22W)
DESCRIPTION:Lehrveranstaltung 716102 22W, Gruppe 0\nTitel: PS Humangeographie: Proseminar, Kurs 2: Geographische Tourismusforschung\nOrt: 60708 SR\n\nhttps://lfuonline.uibk.ac.at/public/lfuonline_lv.details?sem_id_in=22W&lvnr_id_in=716102\n
CLASS:PUBLIC
DTSTART:20221213T143000Z
DTEND:20221213T174500Z
DTSTAMP:20260419T124014Z
LOCATION:60708 SR
END:VEVENT
BEGIN:VEVENT
UID:22W_716102_4172064@uibk.ac.at
ORGANIZER;CN="LFU:online Universität Innsbruck":MAILTO:Uni-Innsbruck-noreply@uibk.ac.at
SUMMARY:PS Humangeographie: Proseminar, Kurs 2: Geographische Tourismusforschung (LV 716102-0 22W)
DESCRIPTION:Lehrveranstaltung 716102 22W, Gruppe 0\nTitel: PS Humangeographie: Proseminar, Kurs 2: Geographische Tourismusforschung\nOrt: 60708 SR\n\nhttps://lfuonline.uibk.ac.at/public/lfuonline_lv.details?sem_id_in=22W&lvnr_id_in=716102\n
CLASS:PUBLIC
DTSTART:20230110T143000Z
DTEND:20230110T174500Z
DTSTAMP:20260419T124014Z
LOCATION:60708 SR
END:VEVENT
BEGIN:VEVENT
UID:22W_716102_4172065@uibk.ac.at
ORGANIZER;CN="LFU:online Universität Innsbruck":MAILTO:Uni-Innsbruck-noreply@uibk.ac.at
SUMMARY:PS Humangeographie: Proseminar, Kurs 2: Geographische Tourismusforschung (LV 716102-0 22W)
DESCRIPTION:Lehrveranstaltung 716102 22W, Gruppe 0\nTitel: PS Humangeographie: Proseminar, Kurs 2: Geographische Tourismusforschung\nOrt: 60708 SR\n\nhttps://lfuonline.uibk.ac.at/public/lfuonline_lv.details?sem_id_in=22W&lvnr_id_in=716102\n
CLASS:PUBLIC
DTSTART:20230117T143000Z
DTEND:20230117T160000Z
DTSTAMP:20260419T124014Z
LOCATION:60708 SR
END:VEVENT
BEGIN:VEVENT
UID:22W_716102_4172066@uibk.ac.at
ORGANIZER;CN="LFU:online Universität Innsbruck":MAILTO:Uni-Innsbruck-noreply@uibk.ac.at
SUMMARY:PS Humangeographie: Proseminar, Kurs 2: Geographische Tourismusforschung (LV 716102-0 22W)
DESCRIPTION:Lehrveranstaltung 716102 22W, Gruppe 0\nTitel: PS Humangeographie: Proseminar, Kurs 2: Geographische Tourismusforschung\nOrt: 60708 SR\n\nhttps://lfuonline.uibk.ac.at/public/lfuonline_lv.details?sem_id_in=22W&lvnr_id_in=716102\n
CLASS:PUBLIC
DTSTART:20230124T143000Z
DTEND:20230124T160000Z
DTSTAMP:20260419T124014Z
LOCATION:60708 SR
END:VEVENT
BEGIN:VEVENT
UID:22W_716102_4172067@uibk.ac.at
ORGANIZER;CN="LFU:online Universität Innsbruck":MAILTO:Uni-Innsbruck-noreply@uibk.ac.at
SUMMARY:PS Humangeographie: Proseminar, Kurs 2: Geographische Tourismusforschung (LV 716102-0 22W)
DESCRIPTION:Lehrveranstaltung 716102 22W, Gruppe 0\nTitel: PS Humangeographie: Proseminar, Kurs 2: Geographische Tourismusforschung\nOrt: 60708 SR\n\nhttps://lfuonline.uibk.ac.at/public/lfuonline_lv.details?sem_id_in=22W&lvnr_id_in=716102\n
CLASS:PUBLIC
DTSTART:20230131T143000Z
DTEND:20230131T160000Z
DTSTAMP:20260419T124014Z
LOCATION:60708 SR
END:VEVENT
END:VCALENDAR