BEGIN:VCALENDAR
VERSION:2.0
PRODID:-//Universität Innsbruck//LFU:online//DE
METHOD:PUBLISH
BEGIN:VEVENT
UID:18W_716401_3149121@uibk.ac.at
ORGANIZER;CN="LFU:online Universität Innsbruck":MAILTO:Uni-Innsbruck-noreply@uibk.ac.at
SUMMARY:Grundlagen der Mensch-Umwelt-Beziehung in der Global Change- und Risikoforschung (LV 716401-0 18W)
DESCRIPTION:Lehrveranstaltung 716401 18W, Gruppe 0\nTitel: Grundlagen der Mensch-Umwelt-Beziehung in der Global Change- und Risikoforschung\nOrt: 60706 SR\n\nhttps://lfuonline.uibk.ac.at/public/lfuonline_lv.details?sem_id_in=18W&lvnr_id_in=716401\n
CLASS:PUBLIC
DTSTART:20181008T063000Z
DTEND:20181008T080000Z
DTSTAMP:20260423T014359Z
LOCATION:60706 SR
END:VEVENT
BEGIN:VEVENT
UID:18W_716401_3149122@uibk.ac.at
ORGANIZER;CN="LFU:online Universität Innsbruck":MAILTO:Uni-Innsbruck-noreply@uibk.ac.at
SUMMARY:Grundlagen der Mensch-Umwelt-Beziehung in der Global Change- und Risikoforschung (LV 716401-0 18W)
DESCRIPTION:Lehrveranstaltung 716401 18W, Gruppe 0\nTitel: Grundlagen der Mensch-Umwelt-Beziehung in der Global Change- und Risikoforschung\nOrt: 60706 SR\n\nhttps://lfuonline.uibk.ac.at/public/lfuonline_lv.details?sem_id_in=18W&lvnr_id_in=716401\n
CLASS:PUBLIC
DTSTART:20181015T063000Z
DTEND:20181015T080000Z
DTSTAMP:20260423T014359Z
LOCATION:60706 SR
END:VEVENT
BEGIN:VEVENT
UID:18W_716401_3149123@uibk.ac.at
ORGANIZER;CN="LFU:online Universität Innsbruck":MAILTO:Uni-Innsbruck-noreply@uibk.ac.at
SUMMARY:Grundlagen der Mensch-Umwelt-Beziehung in der Global Change- und Risikoforschung (LV 716401-0 18W)
DESCRIPTION:Lehrveranstaltung 716401 18W, Gruppe 0\nTitel: Grundlagen der Mensch-Umwelt-Beziehung in der Global Change- und Risikoforschung\nOrt: 60706 SR\n\nhttps://lfuonline.uibk.ac.at/public/lfuonline_lv.details?sem_id_in=18W&lvnr_id_in=716401\n
CLASS:PUBLIC
DTSTART:20181022T063000Z
DTEND:20181022T080000Z
DTSTAMP:20260423T014359Z
LOCATION:60706 SR
END:VEVENT
BEGIN:VEVENT
UID:18W_716401_3149124@uibk.ac.at
ORGANIZER;CN="LFU:online Universität Innsbruck":MAILTO:Uni-Innsbruck-noreply@uibk.ac.at
SUMMARY:Grundlagen der Mensch-Umwelt-Beziehung in der Global Change- und Risikoforschung (LV 716401-0 18W)
DESCRIPTION:Lehrveranstaltung 716401 18W, Gruppe 0\nTitel: Grundlagen der Mensch-Umwelt-Beziehung in der Global Change- und Risikoforschung\nOrt: 60706 SR\n\nhttps://lfuonline.uibk.ac.at/public/lfuonline_lv.details?sem_id_in=18W&lvnr_id_in=716401\n
CLASS:PUBLIC
DTSTART:20181029T073000Z
DTEND:20181029T090000Z
DTSTAMP:20260423T014359Z
LOCATION:60706 SR
END:VEVENT
BEGIN:VEVENT
UID:18W_716401_3149125@uibk.ac.at
ORGANIZER;CN="LFU:online Universität Innsbruck":MAILTO:Uni-Innsbruck-noreply@uibk.ac.at
SUMMARY:Grundlagen der Mensch-Umwelt-Beziehung in der Global Change- und Risikoforschung (LV 716401-0 18W)
DESCRIPTION:Lehrveranstaltung 716401 18W, Gruppe 0\nTitel: Grundlagen der Mensch-Umwelt-Beziehung in der Global Change- und Risikoforschung\nOrt: 60706 SR\n\nhttps://lfuonline.uibk.ac.at/public/lfuonline_lv.details?sem_id_in=18W&lvnr_id_in=716401\n
CLASS:PUBLIC
DTSTART:20181105T073000Z
DTEND:20181105T090000Z
DTSTAMP:20260423T014359Z
LOCATION:60706 SR
END:VEVENT
BEGIN:VEVENT
UID:18W_716401_3149126@uibk.ac.at
ORGANIZER;CN="LFU:online Universität Innsbruck":MAILTO:Uni-Innsbruck-noreply@uibk.ac.at
SUMMARY:Grundlagen der Mensch-Umwelt-Beziehung in der Global Change- und Risikoforschung (LV 716401-0 18W)
DESCRIPTION:Lehrveranstaltung 716401 18W, Gruppe 0\nTitel: Grundlagen der Mensch-Umwelt-Beziehung in der Global Change- und Risikoforschung\nOrt: 60706 SR\n\nhttps://lfuonline.uibk.ac.at/public/lfuonline_lv.details?sem_id_in=18W&lvnr_id_in=716401\n
CLASS:PUBLIC
DTSTART:20181112T073000Z
DTEND:20181112T090000Z
DTSTAMP:20260423T014359Z
LOCATION:60706 SR
END:VEVENT
BEGIN:VEVENT
UID:18W_716401_3149127@uibk.ac.at
ORGANIZER;CN="LFU:online Universität Innsbruck":MAILTO:Uni-Innsbruck-noreply@uibk.ac.at
SUMMARY:Grundlagen der Mensch-Umwelt-Beziehung in der Global Change- und Risikoforschung (LV 716401-0 18W)
DESCRIPTION:Lehrveranstaltung 716401 18W, Gruppe 0\nTitel: Grundlagen der Mensch-Umwelt-Beziehung in der Global Change- und Risikoforschung\nOrt: 60706 SR\n\nhttps://lfuonline.uibk.ac.at/public/lfuonline_lv.details?sem_id_in=18W&lvnr_id_in=716401\n
CLASS:PUBLIC
DTSTART:20181119T073000Z
DTEND:20181119T090000Z
DTSTAMP:20260423T014359Z
LOCATION:60706 SR
END:VEVENT
BEGIN:VEVENT
UID:18W_716401_3149128@uibk.ac.at
ORGANIZER;CN="LFU:online Universität Innsbruck":MAILTO:Uni-Innsbruck-noreply@uibk.ac.at
SUMMARY:Grundlagen der Mensch-Umwelt-Beziehung in der Global Change- und Risikoforschung (LV 716401-0 18W)
DESCRIPTION:Lehrveranstaltung 716401 18W, Gruppe 0\nTitel: Grundlagen der Mensch-Umwelt-Beziehung in der Global Change- und Risikoforschung\nOrt: 60706 SR\n\nhttps://lfuonline.uibk.ac.at/public/lfuonline_lv.details?sem_id_in=18W&lvnr_id_in=716401\n
CLASS:PUBLIC
DTSTART:20181126T073000Z
DTEND:20181126T090000Z
DTSTAMP:20260423T014359Z
LOCATION:60706 SR
END:VEVENT
BEGIN:VEVENT
UID:18W_716401_3149129@uibk.ac.at
ORGANIZER;CN="LFU:online Universität Innsbruck":MAILTO:Uni-Innsbruck-noreply@uibk.ac.at
SUMMARY:Grundlagen der Mensch-Umwelt-Beziehung in der Global Change- und Risikoforschung (LV 716401-0 18W)
DESCRIPTION:Lehrveranstaltung 716401 18W, Gruppe 0\nTitel: Grundlagen der Mensch-Umwelt-Beziehung in der Global Change- und Risikoforschung\nOrt: 60706 SR\n\nhttps://lfuonline.uibk.ac.at/public/lfuonline_lv.details?sem_id_in=18W&lvnr_id_in=716401\n
CLASS:PUBLIC
DTSTART:20181203T073000Z
DTEND:20181203T090000Z
DTSTAMP:20260423T014359Z
LOCATION:60706 SR
END:VEVENT
BEGIN:VEVENT
UID:18W_716401_3149130@uibk.ac.at
ORGANIZER;CN="LFU:online Universität Innsbruck":MAILTO:Uni-Innsbruck-noreply@uibk.ac.at
SUMMARY:Grundlagen der Mensch-Umwelt-Beziehung in der Global Change- und Risikoforschung (LV 716401-0 18W)
DESCRIPTION:Lehrveranstaltung 716401 18W, Gruppe 0\nTitel: Grundlagen der Mensch-Umwelt-Beziehung in der Global Change- und Risikoforschung\nOrt: 60706 SR\n\nhttps://lfuonline.uibk.ac.at/public/lfuonline_lv.details?sem_id_in=18W&lvnr_id_in=716401\n
CLASS:PUBLIC
DTSTART:20181210T073000Z
DTEND:20181210T090000Z
DTSTAMP:20260423T014359Z
LOCATION:60706 SR
END:VEVENT
BEGIN:VEVENT
UID:18W_716401_3149131@uibk.ac.at
ORGANIZER;CN="LFU:online Universität Innsbruck":MAILTO:Uni-Innsbruck-noreply@uibk.ac.at
SUMMARY:Grundlagen der Mensch-Umwelt-Beziehung in der Global Change- und Risikoforschung (LV 716401-0 18W)
DESCRIPTION:Lehrveranstaltung 716401 18W, Gruppe 0\nTitel: Grundlagen der Mensch-Umwelt-Beziehung in der Global Change- und Risikoforschung\nOrt: 60706 SR\n\nhttps://lfuonline.uibk.ac.at/public/lfuonline_lv.details?sem_id_in=18W&lvnr_id_in=716401\n
CLASS:PUBLIC
DTSTART:20190107T073000Z
DTEND:20190107T090000Z
DTSTAMP:20260423T014359Z
LOCATION:60706 SR
END:VEVENT
BEGIN:VEVENT
UID:18W_716401_3149132@uibk.ac.at
ORGANIZER;CN="LFU:online Universität Innsbruck":MAILTO:Uni-Innsbruck-noreply@uibk.ac.at
SUMMARY:Grundlagen der Mensch-Umwelt-Beziehung in der Global Change- und Risikoforschung (LV 716401-0 18W)
DESCRIPTION:Lehrveranstaltung 716401 18W, Gruppe 0\nTitel: Grundlagen der Mensch-Umwelt-Beziehung in der Global Change- und Risikoforschung\nOrt: 60706 SR\n\nhttps://lfuonline.uibk.ac.at/public/lfuonline_lv.details?sem_id_in=18W&lvnr_id_in=716401\n
CLASS:PUBLIC
DTSTART:20190114T073000Z
DTEND:20190114T090000Z
DTSTAMP:20260423T014359Z
LOCATION:60706 SR
END:VEVENT
BEGIN:VEVENT
UID:18W_716401_3149133@uibk.ac.at
ORGANIZER;CN="LFU:online Universität Innsbruck":MAILTO:Uni-Innsbruck-noreply@uibk.ac.at
SUMMARY:Grundlagen der Mensch-Umwelt-Beziehung in der Global Change- und Risikoforschung (LV 716401-0 18W)
DESCRIPTION:Lehrveranstaltung 716401 18W, Gruppe 0\nTitel: Grundlagen der Mensch-Umwelt-Beziehung in der Global Change- und Risikoforschung\nOrt: 60706 SR\n\nhttps://lfuonline.uibk.ac.at/public/lfuonline_lv.details?sem_id_in=18W&lvnr_id_in=716401\n
CLASS:PUBLIC
DTSTART:20190121T073000Z
DTEND:20190121T090000Z
DTSTAMP:20260423T014359Z
LOCATION:60706 SR
END:VEVENT
BEGIN:VEVENT
UID:18W_716401_3149134@uibk.ac.at
ORGANIZER;CN="LFU:online Universität Innsbruck":MAILTO:Uni-Innsbruck-noreply@uibk.ac.at
SUMMARY:Grundlagen der Mensch-Umwelt-Beziehung in der Global Change- und Risikoforschung (LV 716401-0 18W)
DESCRIPTION:Lehrveranstaltung 716401 18W, Gruppe 0\nTitel: Grundlagen der Mensch-Umwelt-Beziehung in der Global Change- und Risikoforschung\nOrt: 60706 SR\n\nhttps://lfuonline.uibk.ac.at/public/lfuonline_lv.details?sem_id_in=18W&lvnr_id_in=716401\n
CLASS:PUBLIC
DTSTART:20190128T073000Z
DTEND:20190128T090000Z
DTSTAMP:20260423T014359Z
LOCATION:60706 SR
END:VEVENT
BEGIN:VEVENT
UID:18W_716401_3332115@uibk.ac.at
ORGANIZER;CN="LFU:online Universität Innsbruck":MAILTO:Uni-Innsbruck-noreply@uibk.ac.at
SUMMARY:Grundlagen der Mensch-Umwelt-Beziehung in der Global Change- und Risikoforschung (LV 716401-0 18W)
DESCRIPTION:Lehrveranstaltung 716401 18W, Gruppe 0\nTitel: Grundlagen der Mensch-Umwelt-Beziehung in der Global Change- und Risikoforschung\nOrt: 60706 SR\n\nhttps://lfuonline.uibk.ac.at/public/lfuonline_lv.details?sem_id_in=18W&lvnr_id_in=716401\n
CLASS:PUBLIC
DTSTART:20190204T073000Z
DTEND:20190204T090000Z
DTSTAMP:20260423T014359Z
LOCATION:60706 SR
COMMENT:Prüfungstermin
END:VEVENT
END:VCALENDAR