BEGIN:VCALENDAR
VERSION:2.0
PRODID:-//Universität Innsbruck//LFU:online//DE
METHOD:PUBLISH
BEGIN:VEVENT
UID:18W_716419_3237099@uibk.ac.at
ORGANIZER;CN="LFU:online Universität Innsbruck":MAILTO:Uni-Innsbruck-noreply@uibk.ac.at
SUMMARY:Globaler Süden (LV 716419-0 18W)
DESCRIPTION:Lehrveranstaltung 716419 18W, Gruppe 0\nTitel: Globaler Süden\nOrt: Auswärtiger Ort Geographie\n\nhttps://lfuonline.uibk.ac.at/public/lfuonline_lv.details?sem_id_in=18W&lvnr_id_in=716419\n
CLASS:PUBLIC
DTSTART:20181009T160000Z
DTEND:20181009T181500Z
DTSTAMP:20260423T013322Z
LOCATION:Auswärtiger Ort Geographie
COMMENT:Sitzungszimmer Bruder und Schwester in Not
END:VEVENT
BEGIN:VEVENT
UID:18W_716419_3237100@uibk.ac.at
ORGANIZER;CN="LFU:online Universität Innsbruck":MAILTO:Uni-Innsbruck-noreply@uibk.ac.at
SUMMARY:Globaler Süden (LV 716419-0 18W)
DESCRIPTION:Lehrveranstaltung 716419 18W, Gruppe 0\nTitel: Globaler Süden\nOrt: Auswärtiger Ort Geographie\n\nhttps://lfuonline.uibk.ac.at/public/lfuonline_lv.details?sem_id_in=18W&lvnr_id_in=716419\n
CLASS:PUBLIC
DTSTART:20181016T151500Z
DTEND:20181016T173000Z
DTSTAMP:20260423T013322Z
LOCATION:Auswärtiger Ort Geographie
COMMENT:Sitzungszimmer Bruder und Schwester in Not
END:VEVENT
BEGIN:VEVENT
UID:18W_716419_3237101@uibk.ac.at
ORGANIZER;CN="LFU:online Universität Innsbruck":MAILTO:Uni-Innsbruck-noreply@uibk.ac.at
SUMMARY:Globaler Süden (LV 716419-0 18W)
DESCRIPTION:Lehrveranstaltung 716419 18W, Gruppe 0\nTitel: Globaler Süden\nOrt: Auswärtiger Ort Geographie\n\nhttps://lfuonline.uibk.ac.at/public/lfuonline_lv.details?sem_id_in=18W&lvnr_id_in=716419\n
CLASS:PUBLIC
DTSTART:20181106T161500Z
DTEND:20181106T183000Z
DTSTAMP:20260423T013322Z
LOCATION:Auswärtiger Ort Geographie
COMMENT:Sitzungszimmer Bruder und Schwester in Not
END:VEVENT
BEGIN:VEVENT
UID:18W_716419_3237106@uibk.ac.at
ORGANIZER;CN="LFU:online Universität Innsbruck":MAILTO:Uni-Innsbruck-noreply@uibk.ac.at
SUMMARY:Globaler Süden (LV 716419-0 18W)
DESCRIPTION:Lehrveranstaltung 716419 18W, Gruppe 0\nTitel: Globaler Süden\nOrt: Besprechungsraum Geographie\n\nhttps://lfuonline.uibk.ac.at/public/lfuonline_lv.details?sem_id_in=18W&lvnr_id_in=716419\n
CLASS:PUBLIC
DTSTART:20181120T133000Z
DTEND:20181120T154500Z
DTSTAMP:20260423T013322Z
LOCATION:Besprechungsraum Geographie
END:VEVENT
BEGIN:VEVENT
UID:18W_716419_3237107@uibk.ac.at
ORGANIZER;CN="LFU:online Universität Innsbruck":MAILTO:Uni-Innsbruck-noreply@uibk.ac.at
SUMMARY:Globaler Süden (LV 716419-0 18W)
DESCRIPTION:Lehrveranstaltung 716419 18W, Gruppe 0\nTitel: Globaler Süden\nOrt: 60708 SR\n\nhttps://lfuonline.uibk.ac.at/public/lfuonline_lv.details?sem_id_in=18W&lvnr_id_in=716419\n
CLASS:PUBLIC
DTSTART:20181120T161500Z
DTEND:20181120T183000Z
DTSTAMP:20260423T013322Z
LOCATION:60708 SR
END:VEVENT
BEGIN:VEVENT
UID:18W_716419_3237102@uibk.ac.at
ORGANIZER;CN="LFU:online Universität Innsbruck":MAILTO:Uni-Innsbruck-noreply@uibk.ac.at
SUMMARY:Globaler Süden (LV 716419-0 18W)
DESCRIPTION:Lehrveranstaltung 716419 18W, Gruppe 0\nTitel: Globaler Süden\nOrt: Auswärtiger Ort Geographie\n\nhttps://lfuonline.uibk.ac.at/public/lfuonline_lv.details?sem_id_in=18W&lvnr_id_in=716419\n
CLASS:PUBLIC
DTSTART:20181128T161500Z
DTEND:20181128T183000Z
DTSTAMP:20260423T013322Z
LOCATION:Auswärtiger Ort Geographie
COMMENT:Sitzungszimmer Bruder und Schwester in Not
END:VEVENT
BEGIN:VEVENT
UID:18W_716419_3237103@uibk.ac.at
ORGANIZER;CN="LFU:online Universität Innsbruck":MAILTO:Uni-Innsbruck-noreply@uibk.ac.at
SUMMARY:Globaler Süden (LV 716419-0 18W)
DESCRIPTION:Lehrveranstaltung 716419 18W, Gruppe 0\nTitel: Globaler Süden\nOrt: Auswärtiger Ort Geographie\n\nhttps://lfuonline.uibk.ac.at/public/lfuonline_lv.details?sem_id_in=18W&lvnr_id_in=716419\n
CLASS:PUBLIC
DTSTART:20181205T120000Z
DTEND:20181205T141500Z
DTSTAMP:20260423T013322Z
LOCATION:Auswärtiger Ort Geographie
COMMENT:Sitzungszimmer Bruder und Schwester in Not
END:VEVENT
BEGIN:VEVENT
UID:18W_716419_3252725@uibk.ac.at
ORGANIZER;CN="LFU:online Universität Innsbruck":MAILTO:Uni-Innsbruck-noreply@uibk.ac.at
SUMMARY:Globaler Süden (LV 716419-0 18W)
DESCRIPTION:Lehrveranstaltung 716419 18W, Gruppe 0\nTitel: Globaler Süden\nOrt: 60706 SR\n\nhttps://lfuonline.uibk.ac.at/public/lfuonline_lv.details?sem_id_in=18W&lvnr_id_in=716419\n
CLASS:PUBLIC
DTSTART:20181206T170000Z
DTEND:20181206T190000Z
DTSTAMP:20260423T013322Z
LOCATION:60706 SR
COMMENT:Swahili-Kurs
END:VEVENT
BEGIN:VEVENT
UID:18W_716419_3242901@uibk.ac.at
ORGANIZER;CN="LFU:online Universität Innsbruck":MAILTO:Uni-Innsbruck-noreply@uibk.ac.at
SUMMARY:Globaler Süden (LV 716419-0 18W)
DESCRIPTION:Lehrveranstaltung 716419 18W, Gruppe 0\nTitel: Globaler Süden\nOrt: Auswärtiger Ort Geographie\n\nhttps://lfuonline.uibk.ac.at/public/lfuonline_lv.details?sem_id_in=18W&lvnr_id_in=716419\n
CLASS:PUBLIC
DTSTART:20181212T161500Z
DTEND:20181212T183000Z
DTSTAMP:20260423T013322Z
LOCATION:Auswärtiger Ort Geographie
COMMENT:Sitzungszimmer Bruder und Schwester in Not
END:VEVENT
BEGIN:VEVENT
UID:18W_716419_3252727@uibk.ac.at
ORGANIZER;CN="LFU:online Universität Innsbruck":MAILTO:Uni-Innsbruck-noreply@uibk.ac.at
SUMMARY:Globaler Süden (LV 716419-0 18W)
DESCRIPTION:Lehrveranstaltung 716419 18W, Gruppe 0\nTitel: Globaler Süden\nOrt: 60706 SR\n\nhttps://lfuonline.uibk.ac.at/public/lfuonline_lv.details?sem_id_in=18W&lvnr_id_in=716419\n
CLASS:PUBLIC
DTSTART:20181213T151500Z
DTEND:20181213T170000Z
DTSTAMP:20260423T013322Z
LOCATION:60706 SR
COMMENT:Swahili-Kurs
END:VEVENT
BEGIN:VEVENT
UID:18W_716419_3237104@uibk.ac.at
ORGANIZER;CN="LFU:online Universität Innsbruck":MAILTO:Uni-Innsbruck-noreply@uibk.ac.at
SUMMARY:Globaler Süden (LV 716419-0 18W)
DESCRIPTION:Lehrveranstaltung 716419 18W, Gruppe 0\nTitel: Globaler Süden\nOrt: Auswärtiger Ort Geographie\n\nhttps://lfuonline.uibk.ac.at/public/lfuonline_lv.details?sem_id_in=18W&lvnr_id_in=716419\n
CLASS:PUBLIC
DTSTART:20190115T161500Z
DTEND:20190115T183000Z
DTSTAMP:20260423T013322Z
LOCATION:Auswärtiger Ort Geographie
COMMENT:Sitzungszimmer Bruder und Schwester in Not
END:VEVENT
BEGIN:VEVENT
UID:18W_716419_3237105@uibk.ac.at
ORGANIZER;CN="LFU:online Universität Innsbruck":MAILTO:Uni-Innsbruck-noreply@uibk.ac.at
SUMMARY:Globaler Süden (LV 716419-0 18W)
DESCRIPTION:Lehrveranstaltung 716419 18W, Gruppe 0\nTitel: Globaler Süden\nOrt: Auswärtiger Ort Geographie\n\nhttps://lfuonline.uibk.ac.at/public/lfuonline_lv.details?sem_id_in=18W&lvnr_id_in=716419\n
CLASS:PUBLIC
DTSTART:20190122T161500Z
DTEND:20190122T183000Z
DTSTAMP:20260423T013322Z
LOCATION:Auswärtiger Ort Geographie
COMMENT:Sitzungszimmer Bruder und Schwester in Not
END:VEVENT
BEGIN:VEVENT
UID:18W_716419_3237108@uibk.ac.at
ORGANIZER;CN="LFU:online Universität Innsbruck":MAILTO:Uni-Innsbruck-noreply@uibk.ac.at
SUMMARY:Globaler Süden (LV 716419-0 18W)
DESCRIPTION:Lehrveranstaltung 716419 18W, Gruppe 0\nTitel: Globaler Süden\nOrt: Auswärtiger Ort Geographie\n\nhttps://lfuonline.uibk.ac.at/public/lfuonline_lv.details?sem_id_in=18W&lvnr_id_in=716419\n
CLASS:PUBLIC
DTSTART:20190206T070000Z
DTEND:20190206T210000Z
DTSTAMP:20260423T013322Z
LOCATION:Auswärtiger Ort Geographie
COMMENT:Exkursion Uganda & Tansania
END:VEVENT
BEGIN:VEVENT
UID:18W_716419_3237109@uibk.ac.at
ORGANIZER;CN="LFU:online Universität Innsbruck":MAILTO:Uni-Innsbruck-noreply@uibk.ac.at
SUMMARY:Globaler Süden (LV 716419-0 18W)
DESCRIPTION:Lehrveranstaltung 716419 18W, Gruppe 0\nTitel: Globaler Süden\nOrt: Auswärtiger Ort Geographie\n\nhttps://lfuonline.uibk.ac.at/public/lfuonline_lv.details?sem_id_in=18W&lvnr_id_in=716419\n
CLASS:PUBLIC
DTSTART:20190207T070000Z
DTEND:20190207T210000Z
DTSTAMP:20260423T013322Z
LOCATION:Auswärtiger Ort Geographie
COMMENT:Exkursion Uganda & Tansania
END:VEVENT
BEGIN:VEVENT
UID:18W_716419_3237110@uibk.ac.at
ORGANIZER;CN="LFU:online Universität Innsbruck":MAILTO:Uni-Innsbruck-noreply@uibk.ac.at
SUMMARY:Globaler Süden (LV 716419-0 18W)
DESCRIPTION:Lehrveranstaltung 716419 18W, Gruppe 0\nTitel: Globaler Süden\nOrt: Auswärtiger Ort Geographie\n\nhttps://lfuonline.uibk.ac.at/public/lfuonline_lv.details?sem_id_in=18W&lvnr_id_in=716419\n
CLASS:PUBLIC
DTSTART:20190208T070000Z
DTEND:20190208T210000Z
DTSTAMP:20260423T013322Z
LOCATION:Auswärtiger Ort Geographie
COMMENT:Exkursion Uganda & Tansania
END:VEVENT
BEGIN:VEVENT
UID:18W_716419_3237111@uibk.ac.at
ORGANIZER;CN="LFU:online Universität Innsbruck":MAILTO:Uni-Innsbruck-noreply@uibk.ac.at
SUMMARY:Globaler Süden (LV 716419-0 18W)
DESCRIPTION:Lehrveranstaltung 716419 18W, Gruppe 0\nTitel: Globaler Süden\nOrt: Auswärtiger Ort Geographie\n\nhttps://lfuonline.uibk.ac.at/public/lfuonline_lv.details?sem_id_in=18W&lvnr_id_in=716419\n
CLASS:PUBLIC
DTSTART:20190209T070000Z
DTEND:20190209T210000Z
DTSTAMP:20260423T013322Z
LOCATION:Auswärtiger Ort Geographie
COMMENT:Exkursion Uganda & Tansania
END:VEVENT
BEGIN:VEVENT
UID:18W_716419_3237112@uibk.ac.at
ORGANIZER;CN="LFU:online Universität Innsbruck":MAILTO:Uni-Innsbruck-noreply@uibk.ac.at
SUMMARY:Globaler Süden (LV 716419-0 18W)
DESCRIPTION:Lehrveranstaltung 716419 18W, Gruppe 0\nTitel: Globaler Süden\nOrt: Auswärtiger Ort Geographie\n\nhttps://lfuonline.uibk.ac.at/public/lfuonline_lv.details?sem_id_in=18W&lvnr_id_in=716419\n
CLASS:PUBLIC
DTSTART:20190210T070000Z
DTEND:20190210T210000Z
DTSTAMP:20260423T013322Z
LOCATION:Auswärtiger Ort Geographie
COMMENT:Exkursion Uganda & Tansania
END:VEVENT
BEGIN:VEVENT
UID:18W_716419_3237113@uibk.ac.at
ORGANIZER;CN="LFU:online Universität Innsbruck":MAILTO:Uni-Innsbruck-noreply@uibk.ac.at
SUMMARY:Globaler Süden (LV 716419-0 18W)
DESCRIPTION:Lehrveranstaltung 716419 18W, Gruppe 0\nTitel: Globaler Süden\nOrt: Auswärtiger Ort Geographie\n\nhttps://lfuonline.uibk.ac.at/public/lfuonline_lv.details?sem_id_in=18W&lvnr_id_in=716419\n
CLASS:PUBLIC
DTSTART:20190211T070000Z
DTEND:20190211T210000Z
DTSTAMP:20260423T013322Z
LOCATION:Auswärtiger Ort Geographie
COMMENT:Exkursion Uganda & Tansania
END:VEVENT
BEGIN:VEVENT
UID:18W_716419_3237114@uibk.ac.at
ORGANIZER;CN="LFU:online Universität Innsbruck":MAILTO:Uni-Innsbruck-noreply@uibk.ac.at
SUMMARY:Globaler Süden (LV 716419-0 18W)
DESCRIPTION:Lehrveranstaltung 716419 18W, Gruppe 0\nTitel: Globaler Süden\nOrt: Auswärtiger Ort Geographie\n\nhttps://lfuonline.uibk.ac.at/public/lfuonline_lv.details?sem_id_in=18W&lvnr_id_in=716419\n
CLASS:PUBLIC
DTSTART:20190212T070000Z
DTEND:20190212T210000Z
DTSTAMP:20260423T013322Z
LOCATION:Auswärtiger Ort Geographie
COMMENT:Exkursion Uganda & Tansania
END:VEVENT
BEGIN:VEVENT
UID:18W_716419_3237115@uibk.ac.at
ORGANIZER;CN="LFU:online Universität Innsbruck":MAILTO:Uni-Innsbruck-noreply@uibk.ac.at
SUMMARY:Globaler Süden (LV 716419-0 18W)
DESCRIPTION:Lehrveranstaltung 716419 18W, Gruppe 0\nTitel: Globaler Süden\nOrt: Auswärtiger Ort Geographie\n\nhttps://lfuonline.uibk.ac.at/public/lfuonline_lv.details?sem_id_in=18W&lvnr_id_in=716419\n
CLASS:PUBLIC
DTSTART:20190213T070000Z
DTEND:20190213T210000Z
DTSTAMP:20260423T013322Z
LOCATION:Auswärtiger Ort Geographie
COMMENT:Exkursion Uganda & Tansania
END:VEVENT
BEGIN:VEVENT
UID:18W_716419_3237116@uibk.ac.at
ORGANIZER;CN="LFU:online Universität Innsbruck":MAILTO:Uni-Innsbruck-noreply@uibk.ac.at
SUMMARY:Globaler Süden (LV 716419-0 18W)
DESCRIPTION:Lehrveranstaltung 716419 18W, Gruppe 0\nTitel: Globaler Süden\nOrt: Auswärtiger Ort Geographie\n\nhttps://lfuonline.uibk.ac.at/public/lfuonline_lv.details?sem_id_in=18W&lvnr_id_in=716419\n
CLASS:PUBLIC
DTSTART:20190214T070000Z
DTEND:20190214T210000Z
DTSTAMP:20260423T013322Z
LOCATION:Auswärtiger Ort Geographie
COMMENT:Exkursion Uganda & Tansania
END:VEVENT
BEGIN:VEVENT
UID:18W_716419_3237117@uibk.ac.at
ORGANIZER;CN="LFU:online Universität Innsbruck":MAILTO:Uni-Innsbruck-noreply@uibk.ac.at
SUMMARY:Globaler Süden (LV 716419-0 18W)
DESCRIPTION:Lehrveranstaltung 716419 18W, Gruppe 0\nTitel: Globaler Süden\nOrt: Auswärtiger Ort Geographie\n\nhttps://lfuonline.uibk.ac.at/public/lfuonline_lv.details?sem_id_in=18W&lvnr_id_in=716419\n
CLASS:PUBLIC
DTSTART:20190215T070000Z
DTEND:20190215T210000Z
DTSTAMP:20260423T013322Z
LOCATION:Auswärtiger Ort Geographie
COMMENT:Exkursion Uganda & Tansania
END:VEVENT
BEGIN:VEVENT
UID:18W_716419_3237118@uibk.ac.at
ORGANIZER;CN="LFU:online Universität Innsbruck":MAILTO:Uni-Innsbruck-noreply@uibk.ac.at
SUMMARY:Globaler Süden (LV 716419-0 18W)
DESCRIPTION:Lehrveranstaltung 716419 18W, Gruppe 0\nTitel: Globaler Süden\nOrt: Auswärtiger Ort Geographie\n\nhttps://lfuonline.uibk.ac.at/public/lfuonline_lv.details?sem_id_in=18W&lvnr_id_in=716419\n
CLASS:PUBLIC
DTSTART:20190216T070000Z
DTEND:20190216T210000Z
DTSTAMP:20260423T013322Z
LOCATION:Auswärtiger Ort Geographie
COMMENT:Exkursion Uganda & Tansania
END:VEVENT
BEGIN:VEVENT
UID:18W_716419_3237119@uibk.ac.at
ORGANIZER;CN="LFU:online Universität Innsbruck":MAILTO:Uni-Innsbruck-noreply@uibk.ac.at
SUMMARY:Globaler Süden (LV 716419-0 18W)
DESCRIPTION:Lehrveranstaltung 716419 18W, Gruppe 0\nTitel: Globaler Süden\nOrt: Auswärtiger Ort Geographie\n\nhttps://lfuonline.uibk.ac.at/public/lfuonline_lv.details?sem_id_in=18W&lvnr_id_in=716419\n
CLASS:PUBLIC
DTSTART:20190217T070000Z
DTEND:20190217T210000Z
DTSTAMP:20260423T013322Z
LOCATION:Auswärtiger Ort Geographie
COMMENT:Exkursion Uganda & Tansania
END:VEVENT
END:VCALENDAR