BEGIN:VCALENDAR
VERSION:2.0
PRODID:-//Universität Innsbruck//LFU:online//DE
METHOD:PUBLISH
BEGIN:VEVENT
UID:23S_716746_4311505@uibk.ac.at
ORGANIZER;CN="LFU:online Universität Innsbruck":MAILTO:Uni-Innsbruck-noreply@uibk.ac.at
SUMMARY:EX Regionalgeographie: Großexkursion, Kurs 6 (Deutschland und Österreich: Kritische Landforschung) (LV 716746-0 23S)
DESCRIPTION:Lehrveranstaltung 716746 23S, Gruppe 0\nTitel: EX Regionalgeographie: Großexkursion, Kurs 6 (Deutschland und Österreich: Kritische Landforschung)\nOrt: 60706 SR\n\nhttps://lfuonline.uibk.ac.at/public/lfuonline_lv.details?sem_id_in=23S&lvnr_id_in=716746\n
CLASS:PUBLIC
DTSTART:20230424T151500Z
DTEND:20230424T164500Z
DTSTAMP:20260420T160943Z
LOCATION:60706 SR
COMMENT:verpflichtende Vorbesprechung
END:VEVENT
BEGIN:VEVENT
UID:23S_716746_4311509@uibk.ac.at
ORGANIZER;CN="LFU:online Universität Innsbruck":MAILTO:Uni-Innsbruck-noreply@uibk.ac.at
SUMMARY:EX Regionalgeographie: Großexkursion, Kurs 6 (Deutschland und Österreich: Kritische Landforschung) (LV 716746-0 23S)
DESCRIPTION:Lehrveranstaltung 716746 23S, Gruppe 0\nTitel: EX Regionalgeographie: Großexkursion, Kurs 6 (Deutschland und Österreich: Kritische Landforschung)\nOrt: 60408 SR\n\nhttps://lfuonline.uibk.ac.at/public/lfuonline_lv.details?sem_id_in=23S&lvnr_id_in=716746\n
CLASS:PUBLIC
DTSTART:20230605T063000Z
DTEND:20230605T150000Z
DTSTAMP:20260420T160943Z
LOCATION:60408 SR
END:VEVENT
BEGIN:VEVENT
UID:23S_716746_4405754@uibk.ac.at
ORGANIZER;CN="LFU:online Universität Innsbruck":MAILTO:Uni-Innsbruck-noreply@uibk.ac.at
SUMMARY:EX Regionalgeographie: Großexkursion, Kurs 6 (Deutschland und Österreich: Kritische Landforschung) (LV 716746-0 23S)
DESCRIPTION:Lehrveranstaltung 716746 23S, Gruppe 0\nTitel: EX Regionalgeographie: Großexkursion, Kurs 6 (Deutschland und Österreich: Kritische Landforschung)\nOrt: Auswärtiger Ort Geographie\n\nhttps://lfuonline.uibk.ac.at/public/lfuonline_lv.details?sem_id_in=23S&lvnr_id_in=716746\n
CLASS:PUBLIC
DTSTART:20230831T060000Z
DTEND:20230831T200000Z
DTSTAMP:20260420T160943Z
LOCATION:Auswärtiger Ort Geographie
COMMENT:Deutschland und Österreich
END:VEVENT
BEGIN:VEVENT
UID:23S_716746_4405755@uibk.ac.at
ORGANIZER;CN="LFU:online Universität Innsbruck":MAILTO:Uni-Innsbruck-noreply@uibk.ac.at
SUMMARY:EX Regionalgeographie: Großexkursion, Kurs 6 (Deutschland und Österreich: Kritische Landforschung) (LV 716746-0 23S)
DESCRIPTION:Lehrveranstaltung 716746 23S, Gruppe 0\nTitel: EX Regionalgeographie: Großexkursion, Kurs 6 (Deutschland und Österreich: Kritische Landforschung)\nOrt: Auswärtiger Ort Geographie\n\nhttps://lfuonline.uibk.ac.at/public/lfuonline_lv.details?sem_id_in=23S&lvnr_id_in=716746\n
CLASS:PUBLIC
DTSTART:20230901T060000Z
DTEND:20230901T200000Z
DTSTAMP:20260420T160943Z
LOCATION:Auswärtiger Ort Geographie
COMMENT:Deutschland und Österreich
END:VEVENT
BEGIN:VEVENT
UID:23S_716746_4405756@uibk.ac.at
ORGANIZER;CN="LFU:online Universität Innsbruck":MAILTO:Uni-Innsbruck-noreply@uibk.ac.at
SUMMARY:EX Regionalgeographie: Großexkursion, Kurs 6 (Deutschland und Österreich: Kritische Landforschung) (LV 716746-0 23S)
DESCRIPTION:Lehrveranstaltung 716746 23S, Gruppe 0\nTitel: EX Regionalgeographie: Großexkursion, Kurs 6 (Deutschland und Österreich: Kritische Landforschung)\nOrt: Auswärtiger Ort Geographie\n\nhttps://lfuonline.uibk.ac.at/public/lfuonline_lv.details?sem_id_in=23S&lvnr_id_in=716746\n
CLASS:PUBLIC
DTSTART:20230902T060000Z
DTEND:20230902T200000Z
DTSTAMP:20260420T160943Z
LOCATION:Auswärtiger Ort Geographie
COMMENT:Deutschland und Österreich
END:VEVENT
BEGIN:VEVENT
UID:23S_716746_4405757@uibk.ac.at
ORGANIZER;CN="LFU:online Universität Innsbruck":MAILTO:Uni-Innsbruck-noreply@uibk.ac.at
SUMMARY:EX Regionalgeographie: Großexkursion, Kurs 6 (Deutschland und Österreich: Kritische Landforschung) (LV 716746-0 23S)
DESCRIPTION:Lehrveranstaltung 716746 23S, Gruppe 0\nTitel: EX Regionalgeographie: Großexkursion, Kurs 6 (Deutschland und Österreich: Kritische Landforschung)\nOrt: Auswärtiger Ort Geographie\n\nhttps://lfuonline.uibk.ac.at/public/lfuonline_lv.details?sem_id_in=23S&lvnr_id_in=716746\n
CLASS:PUBLIC
DTSTART:20230903T060000Z
DTEND:20230903T200000Z
DTSTAMP:20260420T160943Z
LOCATION:Auswärtiger Ort Geographie
COMMENT:Deutschland und Österreich
END:VEVENT
BEGIN:VEVENT
UID:23S_716746_4405758@uibk.ac.at
ORGANIZER;CN="LFU:online Universität Innsbruck":MAILTO:Uni-Innsbruck-noreply@uibk.ac.at
SUMMARY:EX Regionalgeographie: Großexkursion, Kurs 6 (Deutschland und Österreich: Kritische Landforschung) (LV 716746-0 23S)
DESCRIPTION:Lehrveranstaltung 716746 23S, Gruppe 0\nTitel: EX Regionalgeographie: Großexkursion, Kurs 6 (Deutschland und Österreich: Kritische Landforschung)\nOrt: Auswärtiger Ort Geographie\n\nhttps://lfuonline.uibk.ac.at/public/lfuonline_lv.details?sem_id_in=23S&lvnr_id_in=716746\n
CLASS:PUBLIC
DTSTART:20230904T060000Z
DTEND:20230904T200000Z
DTSTAMP:20260420T160943Z
LOCATION:Auswärtiger Ort Geographie
COMMENT:Deutschland und Österreich
END:VEVENT
BEGIN:VEVENT
UID:23S_716746_4405759@uibk.ac.at
ORGANIZER;CN="LFU:online Universität Innsbruck":MAILTO:Uni-Innsbruck-noreply@uibk.ac.at
SUMMARY:EX Regionalgeographie: Großexkursion, Kurs 6 (Deutschland und Österreich: Kritische Landforschung) (LV 716746-0 23S)
DESCRIPTION:Lehrveranstaltung 716746 23S, Gruppe 0\nTitel: EX Regionalgeographie: Großexkursion, Kurs 6 (Deutschland und Österreich: Kritische Landforschung)\nOrt: Auswärtiger Ort Geographie\n\nhttps://lfuonline.uibk.ac.at/public/lfuonline_lv.details?sem_id_in=23S&lvnr_id_in=716746\n
CLASS:PUBLIC
DTSTART:20230905T060000Z
DTEND:20230905T200000Z
DTSTAMP:20260420T160943Z
LOCATION:Auswärtiger Ort Geographie
COMMENT:Deutschland und Österreich
END:VEVENT
BEGIN:VEVENT
UID:23S_716746_4405760@uibk.ac.at
ORGANIZER;CN="LFU:online Universität Innsbruck":MAILTO:Uni-Innsbruck-noreply@uibk.ac.at
SUMMARY:EX Regionalgeographie: Großexkursion, Kurs 6 (Deutschland und Österreich: Kritische Landforschung) (LV 716746-0 23S)
DESCRIPTION:Lehrveranstaltung 716746 23S, Gruppe 0\nTitel: EX Regionalgeographie: Großexkursion, Kurs 6 (Deutschland und Österreich: Kritische Landforschung)\nOrt: Auswärtiger Ort Geographie\n\nhttps://lfuonline.uibk.ac.at/public/lfuonline_lv.details?sem_id_in=23S&lvnr_id_in=716746\n
CLASS:PUBLIC
DTSTART:20230906T060000Z
DTEND:20230906T200000Z
DTSTAMP:20260420T160943Z
LOCATION:Auswärtiger Ort Geographie
COMMENT:Deutschland und Österreich
END:VEVENT
BEGIN:VEVENT
UID:23S_716746_4405761@uibk.ac.at
ORGANIZER;CN="LFU:online Universität Innsbruck":MAILTO:Uni-Innsbruck-noreply@uibk.ac.at
SUMMARY:EX Regionalgeographie: Großexkursion, Kurs 6 (Deutschland und Österreich: Kritische Landforschung) (LV 716746-0 23S)
DESCRIPTION:Lehrveranstaltung 716746 23S, Gruppe 0\nTitel: EX Regionalgeographie: Großexkursion, Kurs 6 (Deutschland und Österreich: Kritische Landforschung)\nOrt: Auswärtiger Ort Geographie\n\nhttps://lfuonline.uibk.ac.at/public/lfuonline_lv.details?sem_id_in=23S&lvnr_id_in=716746\n
CLASS:PUBLIC
DTSTART:20230907T060000Z
DTEND:20230907T200000Z
DTSTAMP:20260420T160943Z
LOCATION:Auswärtiger Ort Geographie
COMMENT:Deutschland und Österreich
END:VEVENT
BEGIN:VEVENT
UID:23S_716746_4405762@uibk.ac.at
ORGANIZER;CN="LFU:online Universität Innsbruck":MAILTO:Uni-Innsbruck-noreply@uibk.ac.at
SUMMARY:EX Regionalgeographie: Großexkursion, Kurs 6 (Deutschland und Österreich: Kritische Landforschung) (LV 716746-0 23S)
DESCRIPTION:Lehrveranstaltung 716746 23S, Gruppe 0\nTitel: EX Regionalgeographie: Großexkursion, Kurs 6 (Deutschland und Österreich: Kritische Landforschung)\nOrt: Auswärtiger Ort Geographie\n\nhttps://lfuonline.uibk.ac.at/public/lfuonline_lv.details?sem_id_in=23S&lvnr_id_in=716746\n
CLASS:PUBLIC
DTSTART:20230908T060000Z
DTEND:20230908T200000Z
DTSTAMP:20260420T160943Z
LOCATION:Auswärtiger Ort Geographie
COMMENT:Deutschland und Österreich
END:VEVENT
BEGIN:VEVENT
UID:23S_716746_4405763@uibk.ac.at
ORGANIZER;CN="LFU:online Universität Innsbruck":MAILTO:Uni-Innsbruck-noreply@uibk.ac.at
SUMMARY:EX Regionalgeographie: Großexkursion, Kurs 6 (Deutschland und Österreich: Kritische Landforschung) (LV 716746-0 23S)
DESCRIPTION:Lehrveranstaltung 716746 23S, Gruppe 0\nTitel: EX Regionalgeographie: Großexkursion, Kurs 6 (Deutschland und Österreich: Kritische Landforschung)\nOrt: Auswärtiger Ort Geographie\n\nhttps://lfuonline.uibk.ac.at/public/lfuonline_lv.details?sem_id_in=23S&lvnr_id_in=716746\n
CLASS:PUBLIC
DTSTART:20230909T060000Z
DTEND:20230909T200000Z
DTSTAMP:20260420T160943Z
LOCATION:Auswärtiger Ort Geographie
COMMENT:Deutschland und Österreich
END:VEVENT
END:VCALENDAR