BEGIN:VCALENDAR
VERSION:2.0
PRODID:-//Universität Innsbruck//LFU:online//DE
METHOD:PUBLISH
BEGIN:VEVENT
UID:19S_717089_3342774@uibk.ac.at
ORGANIZER;CN="LFU:online Universität Innsbruck":MAILTO:Uni-Innsbruck-noreply@uibk.ac.at
SUMMARY:SE Wissenschaftstheorie, Ethik und Genderforschung (LV 717089-0 19S)
DESCRIPTION:Lehrveranstaltung 717089 19S, Gruppe 0\nTitel: SE Wissenschaftstheorie, Ethik und Genderforschung\nOrt: HSB  4\n\nhttps://lfuonline.uibk.ac.at/public/lfuonline_lv.details?sem_id_in=19S&lvnr_id_in=717089\n
CLASS:PUBLIC
DTSTART:20190405T150000Z
DTEND:20190405T164500Z
DTSTAMP:20260423T074236Z
LOCATION:HSB  4
END:VEVENT
BEGIN:VEVENT
UID:19S_717089_3342777@uibk.ac.at
ORGANIZER;CN="LFU:online Universität Innsbruck":MAILTO:Uni-Innsbruck-noreply@uibk.ac.at
SUMMARY:SE Wissenschaftstheorie, Ethik und Genderforschung (LV 717089-0 19S)
DESCRIPTION:Lehrveranstaltung 717089 19S, Gruppe 0\nTitel: SE Wissenschaftstheorie, Ethik und Genderforschung\nOrt: HSB  4\n\nhttps://lfuonline.uibk.ac.at/public/lfuonline_lv.details?sem_id_in=19S&lvnr_id_in=717089\n
CLASS:PUBLIC
DTSTART:20190510T150000Z
DTEND:20190510T164500Z
DTSTAMP:20260423T074236Z
LOCATION:HSB  4
END:VEVENT
BEGIN:VEVENT
UID:19S_717089_3342779@uibk.ac.at
ORGANIZER;CN="LFU:online Universität Innsbruck":MAILTO:Uni-Innsbruck-noreply@uibk.ac.at
SUMMARY:SE Wissenschaftstheorie, Ethik und Genderforschung (LV 717089-0 19S)
DESCRIPTION:Lehrveranstaltung 717089 19S, Gruppe 0\nTitel: SE Wissenschaftstheorie, Ethik und Genderforschung\nOrt: HSB  4\n\nhttps://lfuonline.uibk.ac.at/public/lfuonline_lv.details?sem_id_in=19S&lvnr_id_in=717089\n
CLASS:PUBLIC
DTSTART:20190524T150000Z
DTEND:20190524T164500Z
DTSTAMP:20260423T074236Z
LOCATION:HSB  4
END:VEVENT
BEGIN:VEVENT
UID:19S_717089_3342781@uibk.ac.at
ORGANIZER;CN="LFU:online Universität Innsbruck":MAILTO:Uni-Innsbruck-noreply@uibk.ac.at
SUMMARY:SE Wissenschaftstheorie, Ethik und Genderforschung (LV 717089-0 19S)
DESCRIPTION:Lehrveranstaltung 717089 19S, Gruppe 0\nTitel: SE Wissenschaftstheorie, Ethik und Genderforschung\nOrt: HSB  4\n\nhttps://lfuonline.uibk.ac.at/public/lfuonline_lv.details?sem_id_in=19S&lvnr_id_in=717089\n
CLASS:PUBLIC
DTSTART:20190607T150000Z
DTEND:20190607T164500Z
DTSTAMP:20260423T074236Z
LOCATION:HSB  4
END:VEVENT
BEGIN:VEVENT
UID:19S_717089_3342782@uibk.ac.at
ORGANIZER;CN="LFU:online Universität Innsbruck":MAILTO:Uni-Innsbruck-noreply@uibk.ac.at
SUMMARY:SE Wissenschaftstheorie, Ethik und Genderforschung (LV 717089-0 19S)
DESCRIPTION:Lehrveranstaltung 717089 19S, Gruppe 0\nTitel: SE Wissenschaftstheorie, Ethik und Genderforschung\nOrt: HSB  4\n\nhttps://lfuonline.uibk.ac.at/public/lfuonline_lv.details?sem_id_in=19S&lvnr_id_in=717089\n
CLASS:PUBLIC
DTSTART:20190614T150000Z
DTEND:20190614T164500Z
DTSTAMP:20260423T074236Z
LOCATION:HSB  4
END:VEVENT
BEGIN:VEVENT
UID:19S_717089_3342784@uibk.ac.at
ORGANIZER;CN="LFU:online Universität Innsbruck":MAILTO:Uni-Innsbruck-noreply@uibk.ac.at
SUMMARY:SE Wissenschaftstheorie, Ethik und Genderforschung (LV 717089-0 19S)
DESCRIPTION:Lehrveranstaltung 717089 19S, Gruppe 0\nTitel: SE Wissenschaftstheorie, Ethik und Genderforschung\nOrt: HSB  4\n\nhttps://lfuonline.uibk.ac.at/public/lfuonline_lv.details?sem_id_in=19S&lvnr_id_in=717089\n
CLASS:PUBLIC
DTSTART:20190705T150000Z
DTEND:20190705T164500Z
DTSTAMP:20260423T074236Z
LOCATION:HSB  4
END:VEVENT
END:VCALENDAR