BEGIN:VCALENDAR
VERSION:2.0
PRODID:-//Universität Innsbruck//LFU:online//DE
METHOD:PUBLISH
BEGIN:VEVENT
UID:25W_718293_4864605@uibk.ac.at
ORGANIZER;CN="LFU:online Universität Innsbruck":MAILTO:Uni-Innsbruck-noreply@uibk.ac.at
SUMMARY:UE Berufsrelevante Arbeitstechniken in der Mikrobiologie (LV 718293-0 25W)
DESCRIPTION:Lehrveranstaltung 718293 25W, Gruppe 0\nTitel: UE Berufsrelevante Arbeitstechniken in der Mikrobiologie\nOrt: Labor Biologie 0/406\n\nhttps://lfuonline.uibk.ac.at/public/lfuonline_lv.details?sem_id_in=25W&lvnr_id_in=718293\n
CLASS:PUBLIC
DTSTART:20251112T073000Z
DTEND:20251112T170000Z
DTSTAMP:20260420T020116Z
LOCATION:Labor Biologie 0/406
END:VEVENT
BEGIN:VEVENT
UID:25W_718293_4864606@uibk.ac.at
ORGANIZER;CN="LFU:online Universität Innsbruck":MAILTO:Uni-Innsbruck-noreply@uibk.ac.at
SUMMARY:UE Berufsrelevante Arbeitstechniken in der Mikrobiologie (LV 718293-0 25W)
DESCRIPTION:Lehrveranstaltung 718293 25W, Gruppe 0\nTitel: UE Berufsrelevante Arbeitstechniken in der Mikrobiologie\nOrt: Labor Biologie 0/406\n\nhttps://lfuonline.uibk.ac.at/public/lfuonline_lv.details?sem_id_in=25W&lvnr_id_in=718293\n
CLASS:PUBLIC
DTSTART:20251113T073000Z
DTEND:20251113T170000Z
DTSTAMP:20260420T020116Z
LOCATION:Labor Biologie 0/406
END:VEVENT
BEGIN:VEVENT
UID:25W_718293_4864607@uibk.ac.at
ORGANIZER;CN="LFU:online Universität Innsbruck":MAILTO:Uni-Innsbruck-noreply@uibk.ac.at
SUMMARY:UE Berufsrelevante Arbeitstechniken in der Mikrobiologie (LV 718293-0 25W)
DESCRIPTION:Lehrveranstaltung 718293 25W, Gruppe 0\nTitel: UE Berufsrelevante Arbeitstechniken in der Mikrobiologie\nOrt: Labor Biologie 0/406\n\nhttps://lfuonline.uibk.ac.at/public/lfuonline_lv.details?sem_id_in=25W&lvnr_id_in=718293\n
CLASS:PUBLIC
DTSTART:20251114T073000Z
DTEND:20251114T170000Z
DTSTAMP:20260420T020116Z
LOCATION:Labor Biologie 0/406
END:VEVENT
BEGIN:VEVENT
UID:25W_718293_4864608@uibk.ac.at
ORGANIZER;CN="LFU:online Universität Innsbruck":MAILTO:Uni-Innsbruck-noreply@uibk.ac.at
SUMMARY:UE Berufsrelevante Arbeitstechniken in der Mikrobiologie (LV 718293-0 25W)
DESCRIPTION:Lehrveranstaltung 718293 25W, Gruppe 0\nTitel: UE Berufsrelevante Arbeitstechniken in der Mikrobiologie\nOrt: Labor Biologie 0/406\n\nhttps://lfuonline.uibk.ac.at/public/lfuonline_lv.details?sem_id_in=25W&lvnr_id_in=718293\n
CLASS:PUBLIC
DTSTART:20251117T073000Z
DTEND:20251117T170000Z
DTSTAMP:20260420T020116Z
LOCATION:Labor Biologie 0/406
END:VEVENT
BEGIN:VEVENT
UID:25W_718293_4864609@uibk.ac.at
ORGANIZER;CN="LFU:online Universität Innsbruck":MAILTO:Uni-Innsbruck-noreply@uibk.ac.at
SUMMARY:UE Berufsrelevante Arbeitstechniken in der Mikrobiologie (LV 718293-0 25W)
DESCRIPTION:Lehrveranstaltung 718293 25W, Gruppe 0\nTitel: UE Berufsrelevante Arbeitstechniken in der Mikrobiologie\nOrt: Labor Biologie 0/406\n\nhttps://lfuonline.uibk.ac.at/public/lfuonline_lv.details?sem_id_in=25W&lvnr_id_in=718293\n
CLASS:PUBLIC
DTSTART:20251118T073000Z
DTEND:20251118T170000Z
DTSTAMP:20260420T020116Z
LOCATION:Labor Biologie 0/406
END:VEVENT
BEGIN:VEVENT
UID:25W_718293_4864610@uibk.ac.at
ORGANIZER;CN="LFU:online Universität Innsbruck":MAILTO:Uni-Innsbruck-noreply@uibk.ac.at
SUMMARY:UE Berufsrelevante Arbeitstechniken in der Mikrobiologie (LV 718293-0 25W)
DESCRIPTION:Lehrveranstaltung 718293 25W, Gruppe 0\nTitel: UE Berufsrelevante Arbeitstechniken in der Mikrobiologie\nOrt: Labor Biologie 0/406\n\nhttps://lfuonline.uibk.ac.at/public/lfuonline_lv.details?sem_id_in=25W&lvnr_id_in=718293\n
CLASS:PUBLIC
DTSTART:20251119T073000Z
DTEND:20251119T170000Z
DTSTAMP:20260420T020116Z
LOCATION:Labor Biologie 0/406
END:VEVENT
BEGIN:VEVENT
UID:25W_718293_4864611@uibk.ac.at
ORGANIZER;CN="LFU:online Universität Innsbruck":MAILTO:Uni-Innsbruck-noreply@uibk.ac.at
SUMMARY:UE Berufsrelevante Arbeitstechniken in der Mikrobiologie (LV 718293-0 25W)
DESCRIPTION:Lehrveranstaltung 718293 25W, Gruppe 0\nTitel: UE Berufsrelevante Arbeitstechniken in der Mikrobiologie\nOrt: Labor Biologie 0/406\n\nhttps://lfuonline.uibk.ac.at/public/lfuonline_lv.details?sem_id_in=25W&lvnr_id_in=718293\n
CLASS:PUBLIC
DTSTART:20251120T073000Z
DTEND:20251120T170000Z
DTSTAMP:20260420T020116Z
LOCATION:Labor Biologie 0/406
END:VEVENT
END:VCALENDAR