BEGIN:VCALENDAR
VERSION:2.0
PRODID:-//Universität Innsbruck//LFU:online//DE
METHOD:PUBLISH
BEGIN:VEVENT
UID:18W_718618_3252609@uibk.ac.at
ORGANIZER;CN="LFU:online Universität Innsbruck":MAILTO:Uni-Innsbruck-noreply@uibk.ac.at
SUMMARY:SE Wissenschaftstheorie, Ethik und Genderforschung (LV 718618-0 18W)
DESCRIPTION:Lehrveranstaltung 718618 18W, Gruppe 0\nTitel: SE Wissenschaftstheorie, Ethik und Genderforschung\nOrt: SR 0/501\n\nhttps://lfuonline.uibk.ac.at/public/lfuonline_lv.details?sem_id_in=18W&lvnr_id_in=718618\n
CLASS:PUBLIC
DTSTART:20181023T171500Z
DTEND:20181023T190000Z
DTSTAMP:20260423T031214Z
LOCATION:SR 0/501
END:VEVENT
BEGIN:VEVENT
UID:18W_718618_3144329@uibk.ac.at
ORGANIZER;CN="LFU:online Universität Innsbruck":MAILTO:Uni-Innsbruck-noreply@uibk.ac.at
SUMMARY:SE Wissenschaftstheorie, Ethik und Genderforschung (LV 718618-0 18W)
DESCRIPTION:Lehrveranstaltung 718618 18W, Gruppe 0\nTitel: SE Wissenschaftstheorie, Ethik und Genderforschung\nOrt: SR 0/501\n\nhttps://lfuonline.uibk.ac.at/public/lfuonline_lv.details?sem_id_in=18W&lvnr_id_in=718618\n
CLASS:PUBLIC
DTSTART:20181030T181500Z
DTEND:20181030T200000Z
DTSTAMP:20260423T031214Z
LOCATION:SR 0/501
END:VEVENT
BEGIN:VEVENT
UID:18W_718618_3144330@uibk.ac.at
ORGANIZER;CN="LFU:online Universität Innsbruck":MAILTO:Uni-Innsbruck-noreply@uibk.ac.at
SUMMARY:SE Wissenschaftstheorie, Ethik und Genderforschung (LV 718618-0 18W)
DESCRIPTION:Lehrveranstaltung 718618 18W, Gruppe 0\nTitel: SE Wissenschaftstheorie, Ethik und Genderforschung\nOrt: SR 0/501\n\nhttps://lfuonline.uibk.ac.at/public/lfuonline_lv.details?sem_id_in=18W&lvnr_id_in=718618\n
CLASS:PUBLIC
DTSTART:20181106T181500Z
DTEND:20181106T200000Z
DTSTAMP:20260423T031214Z
LOCATION:SR 0/501
END:VEVENT
BEGIN:VEVENT
UID:18W_718618_3144331@uibk.ac.at
ORGANIZER;CN="LFU:online Universität Innsbruck":MAILTO:Uni-Innsbruck-noreply@uibk.ac.at
SUMMARY:SE Wissenschaftstheorie, Ethik und Genderforschung (LV 718618-0 18W)
DESCRIPTION:Lehrveranstaltung 718618 18W, Gruppe 0\nTitel: SE Wissenschaftstheorie, Ethik und Genderforschung\nOrt: SR 0/501\n\nhttps://lfuonline.uibk.ac.at/public/lfuonline_lv.details?sem_id_in=18W&lvnr_id_in=718618\n
CLASS:PUBLIC
DTSTART:20181113T181500Z
DTEND:20181113T200000Z
DTSTAMP:20260423T031214Z
LOCATION:SR 0/501
END:VEVENT
BEGIN:VEVENT
UID:18W_718618_3144332@uibk.ac.at
ORGANIZER;CN="LFU:online Universität Innsbruck":MAILTO:Uni-Innsbruck-noreply@uibk.ac.at
SUMMARY:SE Wissenschaftstheorie, Ethik und Genderforschung (LV 718618-0 18W)
DESCRIPTION:Lehrveranstaltung 718618 18W, Gruppe 0\nTitel: SE Wissenschaftstheorie, Ethik und Genderforschung\nOrt: SR 0/501\n\nhttps://lfuonline.uibk.ac.at/public/lfuonline_lv.details?sem_id_in=18W&lvnr_id_in=718618\n
CLASS:PUBLIC
DTSTART:20181120T181500Z
DTEND:20181120T200000Z
DTSTAMP:20260423T031214Z
LOCATION:SR 0/501
END:VEVENT
BEGIN:VEVENT
UID:18W_718618_3144333@uibk.ac.at
ORGANIZER;CN="LFU:online Universität Innsbruck":MAILTO:Uni-Innsbruck-noreply@uibk.ac.at
SUMMARY:SE Wissenschaftstheorie, Ethik und Genderforschung (LV 718618-0 18W)
DESCRIPTION:Lehrveranstaltung 718618 18W, Gruppe 0\nTitel: SE Wissenschaftstheorie, Ethik und Genderforschung\nOrt: SR 0/501\n\nhttps://lfuonline.uibk.ac.at/public/lfuonline_lv.details?sem_id_in=18W&lvnr_id_in=718618\n
CLASS:PUBLIC
DTSTART:20181127T181500Z
DTEND:20181127T200000Z
DTSTAMP:20260423T031214Z
LOCATION:SR 0/501
END:VEVENT
BEGIN:VEVENT
UID:18W_718618_3144334@uibk.ac.at
ORGANIZER;CN="LFU:online Universität Innsbruck":MAILTO:Uni-Innsbruck-noreply@uibk.ac.at
SUMMARY:SE Wissenschaftstheorie, Ethik und Genderforschung (LV 718618-0 18W)
DESCRIPTION:Lehrveranstaltung 718618 18W, Gruppe 0\nTitel: SE Wissenschaftstheorie, Ethik und Genderforschung\nOrt: SR 0/501\n\nhttps://lfuonline.uibk.ac.at/public/lfuonline_lv.details?sem_id_in=18W&lvnr_id_in=718618\n
CLASS:PUBLIC
DTSTART:20181204T181500Z
DTEND:20181204T200000Z
DTSTAMP:20260423T031214Z
LOCATION:SR 0/501
END:VEVENT
BEGIN:VEVENT
UID:18W_718618_3252610@uibk.ac.at
ORGANIZER;CN="LFU:online Universität Innsbruck":MAILTO:Uni-Innsbruck-noreply@uibk.ac.at
SUMMARY:SE Wissenschaftstheorie, Ethik und Genderforschung (LV 718618-0 18W)
DESCRIPTION:Lehrveranstaltung 718618 18W, Gruppe 0\nTitel: SE Wissenschaftstheorie, Ethik und Genderforschung\nOrt: SR 0/501\n\nhttps://lfuonline.uibk.ac.at/public/lfuonline_lv.details?sem_id_in=18W&lvnr_id_in=718618\n
CLASS:PUBLIC
DTSTART:20181211T181500Z
DTEND:20181211T200000Z
DTSTAMP:20260423T031214Z
LOCATION:SR 0/501
END:VEVENT
BEGIN:VEVENT
UID:18W_718618_3144336@uibk.ac.at
ORGANIZER;CN="LFU:online Universität Innsbruck":MAILTO:Uni-Innsbruck-noreply@uibk.ac.at
SUMMARY:SE Wissenschaftstheorie, Ethik und Genderforschung (LV 718618-0 18W)
DESCRIPTION:Lehrveranstaltung 718618 18W, Gruppe 0\nTitel: SE Wissenschaftstheorie, Ethik und Genderforschung\nOrt: SR 0/501\n\nhttps://lfuonline.uibk.ac.at/public/lfuonline_lv.details?sem_id_in=18W&lvnr_id_in=718618\n
CLASS:PUBLIC
DTSTART:20190108T181500Z
DTEND:20190108T200000Z
DTSTAMP:20260423T031214Z
LOCATION:SR 0/501
END:VEVENT
BEGIN:VEVENT
UID:18W_718618_3252611@uibk.ac.at
ORGANIZER;CN="LFU:online Universität Innsbruck":MAILTO:Uni-Innsbruck-noreply@uibk.ac.at
SUMMARY:SE Wissenschaftstheorie, Ethik und Genderforschung (LV 718618-0 18W)
DESCRIPTION:Lehrveranstaltung 718618 18W, Gruppe 0\nTitel: SE Wissenschaftstheorie, Ethik und Genderforschung\nOrt: SR 0/501\n\nhttps://lfuonline.uibk.ac.at/public/lfuonline_lv.details?sem_id_in=18W&lvnr_id_in=718618\n
CLASS:PUBLIC
DTSTART:20190115T181500Z
DTEND:20190115T200000Z
DTSTAMP:20260423T031214Z
LOCATION:SR 0/501
END:VEVENT
BEGIN:VEVENT
UID:18W_718618_3252612@uibk.ac.at
ORGANIZER;CN="LFU:online Universität Innsbruck":MAILTO:Uni-Innsbruck-noreply@uibk.ac.at
SUMMARY:SE Wissenschaftstheorie, Ethik und Genderforschung (LV 718618-0 18W)
DESCRIPTION:Lehrveranstaltung 718618 18W, Gruppe 0\nTitel: SE Wissenschaftstheorie, Ethik und Genderforschung\nOrt: SR 0/501\n\nhttps://lfuonline.uibk.ac.at/public/lfuonline_lv.details?sem_id_in=18W&lvnr_id_in=718618\n
CLASS:PUBLIC
DTSTART:20190122T181500Z
DTEND:20190122T200000Z
DTSTAMP:20260423T031214Z
LOCATION:SR 0/501
END:VEVENT
BEGIN:VEVENT
UID:18W_718618_3252613@uibk.ac.at
ORGANIZER;CN="LFU:online Universität Innsbruck":MAILTO:Uni-Innsbruck-noreply@uibk.ac.at
SUMMARY:SE Wissenschaftstheorie, Ethik und Genderforschung (LV 718618-0 18W)
DESCRIPTION:Lehrveranstaltung 718618 18W, Gruppe 0\nTitel: SE Wissenschaftstheorie, Ethik und Genderforschung\nOrt: SR 0/501\n\nhttps://lfuonline.uibk.ac.at/public/lfuonline_lv.details?sem_id_in=18W&lvnr_id_in=718618\n
CLASS:PUBLIC
DTSTART:20190129T181500Z
DTEND:20190129T200000Z
DTSTAMP:20260423T031214Z
LOCATION:SR 0/501
END:VEVENT
END:VCALENDAR