BEGIN:VCALENDAR
VERSION:2.0
PRODID:-//Universität Innsbruck//LFU:online//DE
METHOD:PUBLISH
BEGIN:VEVENT
UID:20W_719610_3636400@uibk.ac.at
ORGANIZER;CN="LFU:online Universität Innsbruck":MAILTO:Uni-Innsbruck-noreply@uibk.ac.at
SUMMARY:VO Biochemie (LV 719610-0 20W)
DESCRIPTION:Lehrveranstaltung 719610 20W, Gruppe 0\nTitel: VO Biochemie\nOrt: eLecture - online\n\nhttps://lfuonline.uibk.ac.at/public/lfuonline_lv.details?sem_id_in=20W&lvnr_id_in=719610\n
CLASS:PUBLIC
DTSTART:20201202T071500Z
DTEND:20201202T090000Z
DTSTAMP:20260420T123534Z
LOCATION:eLecture - online
END:VEVENT
BEGIN:VEVENT
UID:20W_719610_3636401@uibk.ac.at
ORGANIZER;CN="LFU:online Universität Innsbruck":MAILTO:Uni-Innsbruck-noreply@uibk.ac.at
SUMMARY:VO Biochemie (LV 719610-0 20W)
DESCRIPTION:Lehrveranstaltung 719610 20W, Gruppe 0\nTitel: VO Biochemie\nOrt: eLecture - online\n\nhttps://lfuonline.uibk.ac.at/public/lfuonline_lv.details?sem_id_in=20W&lvnr_id_in=719610\n
CLASS:PUBLIC
DTSTART:20201209T071500Z
DTEND:20201209T090000Z
DTSTAMP:20260420T123534Z
LOCATION:eLecture - online
END:VEVENT
BEGIN:VEVENT
UID:20W_719610_3636402@uibk.ac.at
ORGANIZER;CN="LFU:online Universität Innsbruck":MAILTO:Uni-Innsbruck-noreply@uibk.ac.at
SUMMARY:VO Biochemie (LV 719610-0 20W)
DESCRIPTION:Lehrveranstaltung 719610 20W, Gruppe 0\nTitel: VO Biochemie\nOrt: eLecture - online\n\nhttps://lfuonline.uibk.ac.at/public/lfuonline_lv.details?sem_id_in=20W&lvnr_id_in=719610\n
CLASS:PUBLIC
DTSTART:20201215T071500Z
DTEND:20201215T090000Z
DTSTAMP:20260420T123534Z
LOCATION:eLecture - online
END:VEVENT
BEGIN:VEVENT
UID:20W_719610_3636403@uibk.ac.at
ORGANIZER;CN="LFU:online Universität Innsbruck":MAILTO:Uni-Innsbruck-noreply@uibk.ac.at
SUMMARY:VO Biochemie (LV 719610-0 20W)
DESCRIPTION:Lehrveranstaltung 719610 20W, Gruppe 0\nTitel: VO Biochemie\nOrt: eLecture - online\n\nhttps://lfuonline.uibk.ac.at/public/lfuonline_lv.details?sem_id_in=20W&lvnr_id_in=719610\n
CLASS:PUBLIC
DTSTART:20201216T071500Z
DTEND:20201216T090000Z
DTSTAMP:20260420T123534Z
LOCATION:eLecture - online
END:VEVENT
BEGIN:VEVENT
UID:20W_719610_3636405@uibk.ac.at
ORGANIZER;CN="LFU:online Universität Innsbruck":MAILTO:Uni-Innsbruck-noreply@uibk.ac.at
SUMMARY:VO Biochemie (LV 719610-0 20W)
DESCRIPTION:Lehrveranstaltung 719610 20W, Gruppe 0\nTitel: VO Biochemie\nOrt: eLecture - online\n\nhttps://lfuonline.uibk.ac.at/public/lfuonline_lv.details?sem_id_in=20W&lvnr_id_in=719610\n
CLASS:PUBLIC
DTSTART:20210112T071500Z
DTEND:20210112T090000Z
DTSTAMP:20260420T123534Z
LOCATION:eLecture - online
END:VEVENT
BEGIN:VEVENT
UID:20W_719610_3636406@uibk.ac.at
ORGANIZER;CN="LFU:online Universität Innsbruck":MAILTO:Uni-Innsbruck-noreply@uibk.ac.at
SUMMARY:VO Biochemie (LV 719610-0 20W)
DESCRIPTION:Lehrveranstaltung 719610 20W, Gruppe 0\nTitel: VO Biochemie\nOrt: eLecture - online\n\nhttps://lfuonline.uibk.ac.at/public/lfuonline_lv.details?sem_id_in=20W&lvnr_id_in=719610\n
CLASS:PUBLIC
DTSTART:20210113T071500Z
DTEND:20210113T090000Z
DTSTAMP:20260420T123534Z
LOCATION:eLecture - online
END:VEVENT
BEGIN:VEVENT
UID:20W_719610_3636407@uibk.ac.at
ORGANIZER;CN="LFU:online Universität Innsbruck":MAILTO:Uni-Innsbruck-noreply@uibk.ac.at
SUMMARY:VO Biochemie (LV 719610-0 20W)
DESCRIPTION:Lehrveranstaltung 719610 20W, Gruppe 0\nTitel: VO Biochemie\nOrt: eLecture - online\n\nhttps://lfuonline.uibk.ac.at/public/lfuonline_lv.details?sem_id_in=20W&lvnr_id_in=719610\n
CLASS:PUBLIC
DTSTART:20210119T071500Z
DTEND:20210119T090000Z
DTSTAMP:20260420T123534Z
LOCATION:eLecture - online
END:VEVENT
BEGIN:VEVENT
UID:20W_719610_3636408@uibk.ac.at
ORGANIZER;CN="LFU:online Universität Innsbruck":MAILTO:Uni-Innsbruck-noreply@uibk.ac.at
SUMMARY:VO Biochemie (LV 719610-0 20W)
DESCRIPTION:Lehrveranstaltung 719610 20W, Gruppe 0\nTitel: VO Biochemie\nOrt: eLecture - online\n\nhttps://lfuonline.uibk.ac.at/public/lfuonline_lv.details?sem_id_in=20W&lvnr_id_in=719610\n
CLASS:PUBLIC
DTSTART:20210120T071500Z
DTEND:20210120T090000Z
DTSTAMP:20260420T123534Z
LOCATION:eLecture - online
END:VEVENT
BEGIN:VEVENT
UID:20W_719610_3636409@uibk.ac.at
ORGANIZER;CN="LFU:online Universität Innsbruck":MAILTO:Uni-Innsbruck-noreply@uibk.ac.at
SUMMARY:VO Biochemie (LV 719610-0 20W)
DESCRIPTION:Lehrveranstaltung 719610 20W, Gruppe 0\nTitel: VO Biochemie\nOrt: eLecture - online\n\nhttps://lfuonline.uibk.ac.at/public/lfuonline_lv.details?sem_id_in=20W&lvnr_id_in=719610\n
CLASS:PUBLIC
DTSTART:20210126T071500Z
DTEND:20210126T090000Z
DTSTAMP:20260420T123534Z
LOCATION:eLecture - online
END:VEVENT
BEGIN:VEVENT
UID:20W_719610_3636410@uibk.ac.at
ORGANIZER;CN="LFU:online Universität Innsbruck":MAILTO:Uni-Innsbruck-noreply@uibk.ac.at
SUMMARY:VO Biochemie (LV 719610-0 20W)
DESCRIPTION:Lehrveranstaltung 719610 20W, Gruppe 0\nTitel: VO Biochemie\nOrt: eLecture - online\n\nhttps://lfuonline.uibk.ac.at/public/lfuonline_lv.details?sem_id_in=20W&lvnr_id_in=719610\n
CLASS:PUBLIC
DTSTART:20210127T071500Z
DTEND:20210127T090000Z
DTSTAMP:20260420T123534Z
LOCATION:eLecture - online
END:VEVENT
BEGIN:VEVENT
UID:20W_719610_3636404@uibk.ac.at
ORGANIZER;CN="LFU:online Universität Innsbruck":MAILTO:Uni-Innsbruck-noreply@uibk.ac.at
SUMMARY:VO Biochemie (LV 719610-0 20W)
DESCRIPTION:Lehrveranstaltung 719610 20W, Gruppe 0\nTitel: VO Biochemie\nOrt: eLecture - online\n\nhttps://lfuonline.uibk.ac.at/public/lfuonline_lv.details?sem_id_in=20W&lvnr_id_in=719610\n
CLASS:PUBLIC
DTSTART:20210202T071500Z
DTEND:20210202T090000Z
DTSTAMP:20260420T123534Z
LOCATION:eLecture - online
END:VEVENT
END:VCALENDAR