BEGIN:VCALENDAR
VERSION:2.0
PRODID:-//Universität Innsbruck//LFU:online//DE
METHOD:PUBLISH
BEGIN:VEVENT
UID:14W_720023_2336098@uibk.ac.at
ORGANIZER;CN="LFU:online Universität Innsbruck":MAILTO:Uni-Innsbruck-noreply@uibk.ac.at
SUMMARY:Biologische Psychologie II (LV 720023-0 14W)
DESCRIPTION:Lehrveranstaltung 720023 14W, Gruppe 0\nTitel: Biologische Psychologie II\nOrt: Hörsaal 4\n\nhttps://lfuonline.uibk.ac.at/public/lfuonline_lv.details?sem_id_in=14W&lvnr_id_in=720023\n
CLASS:PUBLIC
DTSTART:20141128T073000Z
DTEND:20141128T091500Z
DTSTAMP:20260425T131529Z
LOCATION:Hörsaal 4
END:VEVENT
BEGIN:VEVENT
UID:14W_720023_2336099@uibk.ac.at
ORGANIZER;CN="LFU:online Universität Innsbruck":MAILTO:Uni-Innsbruck-noreply@uibk.ac.at
SUMMARY:Biologische Psychologie II (LV 720023-0 14W)
DESCRIPTION:Lehrveranstaltung 720023 14W, Gruppe 0\nTitel: Biologische Psychologie II\nOrt: Hörsaal 4\n\nhttps://lfuonline.uibk.ac.at/public/lfuonline_lv.details?sem_id_in=14W&lvnr_id_in=720023\n
CLASS:PUBLIC
DTSTART:20141205T073000Z
DTEND:20141205T104500Z
DTSTAMP:20260425T131529Z
LOCATION:Hörsaal 4
END:VEVENT
BEGIN:VEVENT
UID:14W_720023_2336100@uibk.ac.at
ORGANIZER;CN="LFU:online Universität Innsbruck":MAILTO:Uni-Innsbruck-noreply@uibk.ac.at
SUMMARY:Biologische Psychologie II (LV 720023-0 14W)
DESCRIPTION:Lehrveranstaltung 720023 14W, Gruppe 0\nTitel: Biologische Psychologie II\nOrt: Hörsaal 4\n\nhttps://lfuonline.uibk.ac.at/public/lfuonline_lv.details?sem_id_in=14W&lvnr_id_in=720023\n
CLASS:PUBLIC
DTSTART:20141212T073000Z
DTEND:20141212T104500Z
DTSTAMP:20260425T131529Z
LOCATION:Hörsaal 4
END:VEVENT
BEGIN:VEVENT
UID:14W_720023_2336101@uibk.ac.at
ORGANIZER;CN="LFU:online Universität Innsbruck":MAILTO:Uni-Innsbruck-noreply@uibk.ac.at
SUMMARY:Biologische Psychologie II (LV 720023-0 14W)
DESCRIPTION:Lehrveranstaltung 720023 14W, Gruppe 0\nTitel: Biologische Psychologie II\nOrt: Hörsaal 4\n\nhttps://lfuonline.uibk.ac.at/public/lfuonline_lv.details?sem_id_in=14W&lvnr_id_in=720023\n
CLASS:PUBLIC
DTSTART:20150109T073000Z
DTEND:20150109T104500Z
DTSTAMP:20260425T131529Z
LOCATION:Hörsaal 4
END:VEVENT
BEGIN:VEVENT
UID:14W_720023_2336102@uibk.ac.at
ORGANIZER;CN="LFU:online Universität Innsbruck":MAILTO:Uni-Innsbruck-noreply@uibk.ac.at
SUMMARY:Biologische Psychologie II (LV 720023-0 14W)
DESCRIPTION:Lehrveranstaltung 720023 14W, Gruppe 0\nTitel: Biologische Psychologie II\nOrt: Hörsaal 4\n\nhttps://lfuonline.uibk.ac.at/public/lfuonline_lv.details?sem_id_in=14W&lvnr_id_in=720023\n
CLASS:PUBLIC
DTSTART:20150116T073000Z
DTEND:20150116T104500Z
DTSTAMP:20260425T131529Z
LOCATION:Hörsaal 4
END:VEVENT
BEGIN:VEVENT
UID:14W_720023_2336103@uibk.ac.at
ORGANIZER;CN="LFU:online Universität Innsbruck":MAILTO:Uni-Innsbruck-noreply@uibk.ac.at
SUMMARY:Biologische Psychologie II (LV 720023-0 14W)
DESCRIPTION:Lehrveranstaltung 720023 14W, Gruppe 0\nTitel: Biologische Psychologie II\nOrt: Hörsaal 4\n\nhttps://lfuonline.uibk.ac.at/public/lfuonline_lv.details?sem_id_in=14W&lvnr_id_in=720023\n
CLASS:PUBLIC
DTSTART:20150123T073000Z
DTEND:20150123T104500Z
DTSTAMP:20260425T131529Z
LOCATION:Hörsaal 4
END:VEVENT
BEGIN:VEVENT
UID:14W_720023_2336104@uibk.ac.at
ORGANIZER;CN="LFU:online Universität Innsbruck":MAILTO:Uni-Innsbruck-noreply@uibk.ac.at
SUMMARY:Biologische Psychologie II (LV 720023-0 14W)
DESCRIPTION:Lehrveranstaltung 720023 14W, Gruppe 0\nTitel: Biologische Psychologie II\nOrt: Hörsaal 4\n\nhttps://lfuonline.uibk.ac.at/public/lfuonline_lv.details?sem_id_in=14W&lvnr_id_in=720023\n
CLASS:PUBLIC
DTSTART:20150130T073000Z
DTEND:20150130T104500Z
DTSTAMP:20260425T131529Z
LOCATION:Hörsaal 4
END:VEVENT
END:VCALENDAR