BEGIN:VCALENDAR
VERSION:2.0
PRODID:-//Universität Innsbruck//LFU:online//DE
METHOD:PUBLISH
BEGIN:VEVENT
UID:12W_720096_1922442@uibk.ac.at
ORGANIZER;CN="LFU:online Universität Innsbruck":MAILTO:Uni-Innsbruck-noreply@uibk.ac.at
SUMMARY:Spezielle Themen der Klinischen Psychologie: Gewalttrauma (LV 720096-0 12W)
DESCRIPTION:Lehrveranstaltung 720096 12W, Gruppe 0\nTitel: Spezielle Themen der Klinischen Psychologie: Gewalttrauma\nOrt: Hörsaal 2\n\nhttps://lfuonline.uibk.ac.at/public/lfuonline_lv.details?sem_id_in=12W&lvnr_id_in=720096\n
CLASS:PUBLIC
DTSTART:20121011T100000Z
DTEND:20121011T113000Z
DTSTAMP:20260421T075517Z
LOCATION:Hörsaal 2
END:VEVENT
BEGIN:VEVENT
UID:12W_720096_1922443@uibk.ac.at
ORGANIZER;CN="LFU:online Universität Innsbruck":MAILTO:Uni-Innsbruck-noreply@uibk.ac.at
SUMMARY:Spezielle Themen der Klinischen Psychologie: Gewalttrauma (LV 720096-0 12W)
DESCRIPTION:Lehrveranstaltung 720096 12W, Gruppe 0\nTitel: Spezielle Themen der Klinischen Psychologie: Gewalttrauma\nOrt: Hörsaal 2\n\nhttps://lfuonline.uibk.ac.at/public/lfuonline_lv.details?sem_id_in=12W&lvnr_id_in=720096\n
CLASS:PUBLIC
DTSTART:20121018T100000Z
DTEND:20121018T113000Z
DTSTAMP:20260421T075517Z
LOCATION:Hörsaal 2
END:VEVENT
BEGIN:VEVENT
UID:12W_720096_1922444@uibk.ac.at
ORGANIZER;CN="LFU:online Universität Innsbruck":MAILTO:Uni-Innsbruck-noreply@uibk.ac.at
SUMMARY:Spezielle Themen der Klinischen Psychologie: Gewalttrauma (LV 720096-0 12W)
DESCRIPTION:Lehrveranstaltung 720096 12W, Gruppe 0\nTitel: Spezielle Themen der Klinischen Psychologie: Gewalttrauma\nOrt: Hörsaal 2\n\nhttps://lfuonline.uibk.ac.at/public/lfuonline_lv.details?sem_id_in=12W&lvnr_id_in=720096\n
CLASS:PUBLIC
DTSTART:20121025T100000Z
DTEND:20121025T113000Z
DTSTAMP:20260421T075517Z
LOCATION:Hörsaal 2
END:VEVENT
BEGIN:VEVENT
UID:12W_720096_1922445@uibk.ac.at
ORGANIZER;CN="LFU:online Universität Innsbruck":MAILTO:Uni-Innsbruck-noreply@uibk.ac.at
SUMMARY:Spezielle Themen der Klinischen Psychologie: Gewalttrauma (LV 720096-0 12W)
DESCRIPTION:Lehrveranstaltung 720096 12W, Gruppe 0\nTitel: Spezielle Themen der Klinischen Psychologie: Gewalttrauma\nOrt: Hörsaal 2\n\nhttps://lfuonline.uibk.ac.at/public/lfuonline_lv.details?sem_id_in=12W&lvnr_id_in=720096\n
CLASS:PUBLIC
DTSTART:20121108T110000Z
DTEND:20121108T123000Z
DTSTAMP:20260421T075517Z
LOCATION:Hörsaal 2
END:VEVENT
BEGIN:VEVENT
UID:12W_720096_1922446@uibk.ac.at
ORGANIZER;CN="LFU:online Universität Innsbruck":MAILTO:Uni-Innsbruck-noreply@uibk.ac.at
SUMMARY:Spezielle Themen der Klinischen Psychologie: Gewalttrauma (LV 720096-0 12W)
DESCRIPTION:Lehrveranstaltung 720096 12W, Gruppe 0\nTitel: Spezielle Themen der Klinischen Psychologie: Gewalttrauma\nOrt: Hörsaal 2\n\nhttps://lfuonline.uibk.ac.at/public/lfuonline_lv.details?sem_id_in=12W&lvnr_id_in=720096\n
CLASS:PUBLIC
DTSTART:20121115T110000Z
DTEND:20121115T123000Z
DTSTAMP:20260421T075517Z
LOCATION:Hörsaal 2
END:VEVENT
BEGIN:VEVENT
UID:12W_720096_1922447@uibk.ac.at
ORGANIZER;CN="LFU:online Universität Innsbruck":MAILTO:Uni-Innsbruck-noreply@uibk.ac.at
SUMMARY:Spezielle Themen der Klinischen Psychologie: Gewalttrauma (LV 720096-0 12W)
DESCRIPTION:Lehrveranstaltung 720096 12W, Gruppe 0\nTitel: Spezielle Themen der Klinischen Psychologie: Gewalttrauma\nOrt: Hörsaal 2\n\nhttps://lfuonline.uibk.ac.at/public/lfuonline_lv.details?sem_id_in=12W&lvnr_id_in=720096\n
CLASS:PUBLIC
DTSTART:20121122T110000Z
DTEND:20121122T123000Z
DTSTAMP:20260421T075517Z
LOCATION:Hörsaal 2
END:VEVENT
BEGIN:VEVENT
UID:12W_720096_1922448@uibk.ac.at
ORGANIZER;CN="LFU:online Universität Innsbruck":MAILTO:Uni-Innsbruck-noreply@uibk.ac.at
SUMMARY:Spezielle Themen der Klinischen Psychologie: Gewalttrauma (LV 720096-0 12W)
DESCRIPTION:Lehrveranstaltung 720096 12W, Gruppe 0\nTitel: Spezielle Themen der Klinischen Psychologie: Gewalttrauma\nOrt: Hörsaal 2\n\nhttps://lfuonline.uibk.ac.at/public/lfuonline_lv.details?sem_id_in=12W&lvnr_id_in=720096\n
CLASS:PUBLIC
DTSTART:20121129T110000Z
DTEND:20121129T123000Z
DTSTAMP:20260421T075517Z
LOCATION:Hörsaal 2
END:VEVENT
BEGIN:VEVENT
UID:12W_720096_1922449@uibk.ac.at
ORGANIZER;CN="LFU:online Universität Innsbruck":MAILTO:Uni-Innsbruck-noreply@uibk.ac.at
SUMMARY:Spezielle Themen der Klinischen Psychologie: Gewalttrauma (LV 720096-0 12W)
DESCRIPTION:Lehrveranstaltung 720096 12W, Gruppe 0\nTitel: Spezielle Themen der Klinischen Psychologie: Gewalttrauma\nOrt: Hörsaal 2\n\nhttps://lfuonline.uibk.ac.at/public/lfuonline_lv.details?sem_id_in=12W&lvnr_id_in=720096\n
CLASS:PUBLIC
DTSTART:20121206T110000Z
DTEND:20121206T123000Z
DTSTAMP:20260421T075517Z
LOCATION:Hörsaal 2
END:VEVENT
BEGIN:VEVENT
UID:12W_720096_1922450@uibk.ac.at
ORGANIZER;CN="LFU:online Universität Innsbruck":MAILTO:Uni-Innsbruck-noreply@uibk.ac.at
SUMMARY:Spezielle Themen der Klinischen Psychologie: Gewalttrauma (LV 720096-0 12W)
DESCRIPTION:Lehrveranstaltung 720096 12W, Gruppe 0\nTitel: Spezielle Themen der Klinischen Psychologie: Gewalttrauma\nOrt: Hörsaal 2\n\nhttps://lfuonline.uibk.ac.at/public/lfuonline_lv.details?sem_id_in=12W&lvnr_id_in=720096\n
CLASS:PUBLIC
DTSTART:20121213T110000Z
DTEND:20121213T123000Z
DTSTAMP:20260421T075517Z
LOCATION:Hörsaal 2
END:VEVENT
BEGIN:VEVENT
UID:12W_720096_1922451@uibk.ac.at
ORGANIZER;CN="LFU:online Universität Innsbruck":MAILTO:Uni-Innsbruck-noreply@uibk.ac.at
SUMMARY:Spezielle Themen der Klinischen Psychologie: Gewalttrauma (LV 720096-0 12W)
DESCRIPTION:Lehrveranstaltung 720096 12W, Gruppe 0\nTitel: Spezielle Themen der Klinischen Psychologie: Gewalttrauma\nOrt: Hörsaal 2\n\nhttps://lfuonline.uibk.ac.at/public/lfuonline_lv.details?sem_id_in=12W&lvnr_id_in=720096\n
CLASS:PUBLIC
DTSTART:20130110T110000Z
DTEND:20130110T123000Z
DTSTAMP:20260421T075517Z
LOCATION:Hörsaal 2
END:VEVENT
BEGIN:VEVENT
UID:12W_720096_1922452@uibk.ac.at
ORGANIZER;CN="LFU:online Universität Innsbruck":MAILTO:Uni-Innsbruck-noreply@uibk.ac.at
SUMMARY:Spezielle Themen der Klinischen Psychologie: Gewalttrauma (LV 720096-0 12W)
DESCRIPTION:Lehrveranstaltung 720096 12W, Gruppe 0\nTitel: Spezielle Themen der Klinischen Psychologie: Gewalttrauma\nOrt: Hörsaal 2\n\nhttps://lfuonline.uibk.ac.at/public/lfuonline_lv.details?sem_id_in=12W&lvnr_id_in=720096\n
CLASS:PUBLIC
DTSTART:20130117T110000Z
DTEND:20130117T123000Z
DTSTAMP:20260421T075517Z
LOCATION:Hörsaal 2
END:VEVENT
BEGIN:VEVENT
UID:12W_720096_1922453@uibk.ac.at
ORGANIZER;CN="LFU:online Universität Innsbruck":MAILTO:Uni-Innsbruck-noreply@uibk.ac.at
SUMMARY:Spezielle Themen der Klinischen Psychologie: Gewalttrauma (LV 720096-0 12W)
DESCRIPTION:Lehrveranstaltung 720096 12W, Gruppe 0\nTitel: Spezielle Themen der Klinischen Psychologie: Gewalttrauma\nOrt: Hörsaal 2\n\nhttps://lfuonline.uibk.ac.at/public/lfuonline_lv.details?sem_id_in=12W&lvnr_id_in=720096\n
CLASS:PUBLIC
DTSTART:20130124T110000Z
DTEND:20130124T123000Z
DTSTAMP:20260421T075517Z
LOCATION:Hörsaal 2
END:VEVENT
BEGIN:VEVENT
UID:12W_720096_1922454@uibk.ac.at
ORGANIZER;CN="LFU:online Universität Innsbruck":MAILTO:Uni-Innsbruck-noreply@uibk.ac.at
SUMMARY:Spezielle Themen der Klinischen Psychologie: Gewalttrauma (LV 720096-0 12W)
DESCRIPTION:Lehrveranstaltung 720096 12W, Gruppe 0\nTitel: Spezielle Themen der Klinischen Psychologie: Gewalttrauma\nOrt: Hörsaal 6\n\nhttps://lfuonline.uibk.ac.at/public/lfuonline_lv.details?sem_id_in=12W&lvnr_id_in=720096\n
CLASS:PUBLIC
DTSTART:20130131T110000Z
DTEND:20130131T120000Z
DTSTAMP:20260421T075517Z
LOCATION:Hörsaal 6
COMMENT:1. Prüfungstermin
END:VEVENT
BEGIN:VEVENT
UID:12W_720096_2073197@uibk.ac.at
ORGANIZER;CN="LFU:online Universität Innsbruck":MAILTO:Uni-Innsbruck-noreply@uibk.ac.at
SUMMARY:Spezielle Themen der Klinischen Psychologie: Gewalttrauma (LV 720096-0 12W)
DESCRIPTION:Lehrveranstaltung 720096 12W, Gruppe 0\nTitel: Spezielle Themen der Klinischen Psychologie: Gewalttrauma\nOrt: 60405\n\nhttps://lfuonline.uibk.ac.at/public/lfuonline_lv.details?sem_id_in=12W&lvnr_id_in=720096\n
CLASS:PUBLIC
DTSTART:20130410T080000Z
DTEND:20130410T090000Z
DTSTAMP:20260421T075517Z
LOCATION:60405
COMMENT:Prüfungstermin
END:VEVENT
END:VCALENDAR