BEGIN:VCALENDAR
VERSION:2.0
PRODID:-//Universität Innsbruck//LFU:online//DE
METHOD:PUBLISH
BEGIN:VEVENT
UID:12W_720097_1894258@uibk.ac.at
ORGANIZER;CN="LFU:online Universität Innsbruck":MAILTO:Uni-Innsbruck-noreply@uibk.ac.at
SUMMARY:Spezielle Themen der Klinischen Psychologie: Emotionale Prozesse im Alltag und in der Psychotherapie (LV 720097-0 12W)
DESCRIPTION:Lehrveranstaltung 720097 12W, Gruppe 0\nTitel: Spezielle Themen der Klinischen Psychologie: Emotionale Prozesse im Alltag und in der Psychotherapie\nOrt: Hörsaal 7\n\nhttps://lfuonline.uibk.ac.at/public/lfuonline_lv.details?sem_id_in=12W&lvnr_id_in=720097\n
CLASS:PUBLIC
DTSTART:20121016T063000Z
DTEND:20121016T080000Z
DTSTAMP:20260421T075517Z
LOCATION:Hörsaal 7
END:VEVENT
BEGIN:VEVENT
UID:12W_720097_1894259@uibk.ac.at
ORGANIZER;CN="LFU:online Universität Innsbruck":MAILTO:Uni-Innsbruck-noreply@uibk.ac.at
SUMMARY:Spezielle Themen der Klinischen Psychologie: Emotionale Prozesse im Alltag und in der Psychotherapie (LV 720097-0 12W)
DESCRIPTION:Lehrveranstaltung 720097 12W, Gruppe 0\nTitel: Spezielle Themen der Klinischen Psychologie: Emotionale Prozesse im Alltag und in der Psychotherapie\nOrt: Hörsaal 7\n\nhttps://lfuonline.uibk.ac.at/public/lfuonline_lv.details?sem_id_in=12W&lvnr_id_in=720097\n
CLASS:PUBLIC
DTSTART:20121023T063000Z
DTEND:20121023T080000Z
DTSTAMP:20260421T075517Z
LOCATION:Hörsaal 7
END:VEVENT
BEGIN:VEVENT
UID:12W_720097_1894260@uibk.ac.at
ORGANIZER;CN="LFU:online Universität Innsbruck":MAILTO:Uni-Innsbruck-noreply@uibk.ac.at
SUMMARY:Spezielle Themen der Klinischen Psychologie: Emotionale Prozesse im Alltag und in der Psychotherapie (LV 720097-0 12W)
DESCRIPTION:Lehrveranstaltung 720097 12W, Gruppe 0\nTitel: Spezielle Themen der Klinischen Psychologie: Emotionale Prozesse im Alltag und in der Psychotherapie\nOrt: Hörsaal 7\n\nhttps://lfuonline.uibk.ac.at/public/lfuonline_lv.details?sem_id_in=12W&lvnr_id_in=720097\n
CLASS:PUBLIC
DTSTART:20121030T073000Z
DTEND:20121030T090000Z
DTSTAMP:20260421T075517Z
LOCATION:Hörsaal 7
END:VEVENT
BEGIN:VEVENT
UID:12W_720097_1894261@uibk.ac.at
ORGANIZER;CN="LFU:online Universität Innsbruck":MAILTO:Uni-Innsbruck-noreply@uibk.ac.at
SUMMARY:Spezielle Themen der Klinischen Psychologie: Emotionale Prozesse im Alltag und in der Psychotherapie (LV 720097-0 12W)
DESCRIPTION:Lehrveranstaltung 720097 12W, Gruppe 0\nTitel: Spezielle Themen der Klinischen Psychologie: Emotionale Prozesse im Alltag und in der Psychotherapie\nOrt: Hörsaal 7\n\nhttps://lfuonline.uibk.ac.at/public/lfuonline_lv.details?sem_id_in=12W&lvnr_id_in=720097\n
CLASS:PUBLIC
DTSTART:20121106T073000Z
DTEND:20121106T090000Z
DTSTAMP:20260421T075517Z
LOCATION:Hörsaal 7
END:VEVENT
BEGIN:VEVENT
UID:12W_720097_1978246@uibk.ac.at
ORGANIZER;CN="LFU:online Universität Innsbruck":MAILTO:Uni-Innsbruck-noreply@uibk.ac.at
SUMMARY:Spezielle Themen der Klinischen Psychologie: Emotionale Prozesse im Alltag und in der Psychotherapie (LV 720097-0 12W)
DESCRIPTION:Lehrveranstaltung 720097 12W, Gruppe 0\nTitel: Spezielle Themen der Klinischen Psychologie: Emotionale Prozesse im Alltag und in der Psychotherapie\nOrt: 52U105\n\nhttps://lfuonline.uibk.ac.at/public/lfuonline_lv.details?sem_id_in=12W&lvnr_id_in=720097\n
CLASS:PUBLIC
DTSTART:20121106T073000Z
DTEND:20121106T090000Z
DTSTAMP:20260421T075517Z
LOCATION:52U105
END:VEVENT
BEGIN:VEVENT
UID:12W_720097_1894262@uibk.ac.at
ORGANIZER;CN="LFU:online Universität Innsbruck":MAILTO:Uni-Innsbruck-noreply@uibk.ac.at
SUMMARY:Spezielle Themen der Klinischen Psychologie: Emotionale Prozesse im Alltag und in der Psychotherapie (LV 720097-0 12W)
DESCRIPTION:Lehrveranstaltung 720097 12W, Gruppe 0\nTitel: Spezielle Themen der Klinischen Psychologie: Emotionale Prozesse im Alltag und in der Psychotherapie\nOrt: Hörsaal 7\n\nhttps://lfuonline.uibk.ac.at/public/lfuonline_lv.details?sem_id_in=12W&lvnr_id_in=720097\n
CLASS:PUBLIC
DTSTART:20121113T073000Z
DTEND:20121113T090000Z
DTSTAMP:20260421T075517Z
LOCATION:Hörsaal 7
END:VEVENT
BEGIN:VEVENT
UID:12W_720097_1894263@uibk.ac.at
ORGANIZER;CN="LFU:online Universität Innsbruck":MAILTO:Uni-Innsbruck-noreply@uibk.ac.at
SUMMARY:Spezielle Themen der Klinischen Psychologie: Emotionale Prozesse im Alltag und in der Psychotherapie (LV 720097-0 12W)
DESCRIPTION:Lehrveranstaltung 720097 12W, Gruppe 0\nTitel: Spezielle Themen der Klinischen Psychologie: Emotionale Prozesse im Alltag und in der Psychotherapie\nOrt: Hörsaal 7\n\nhttps://lfuonline.uibk.ac.at/public/lfuonline_lv.details?sem_id_in=12W&lvnr_id_in=720097\n
CLASS:PUBLIC
DTSTART:20121120T073000Z
DTEND:20121120T090000Z
DTSTAMP:20260421T075517Z
LOCATION:Hörsaal 7
END:VEVENT
BEGIN:VEVENT
UID:12W_720097_2007998@uibk.ac.at
ORGANIZER;CN="LFU:online Universität Innsbruck":MAILTO:Uni-Innsbruck-noreply@uibk.ac.at
SUMMARY:Spezielle Themen der Klinischen Psychologie: Emotionale Prozesse im Alltag und in der Psychotherapie (LV 720097-0 12W)
DESCRIPTION:Lehrveranstaltung 720097 12W, Gruppe 0\nTitel: Spezielle Themen der Klinischen Psychologie: Emotionale Prozesse im Alltag und in der Psychotherapie\nOrt: 4U102b\n\nhttps://lfuonline.uibk.ac.at/public/lfuonline_lv.details?sem_id_in=12W&lvnr_id_in=720097\n
CLASS:PUBLIC
DTSTART:20121127T073000Z
DTEND:20121127T090000Z
DTSTAMP:20260421T075517Z
LOCATION:4U102b
END:VEVENT
BEGIN:VEVENT
UID:12W_720097_2008000@uibk.ac.at
ORGANIZER;CN="LFU:online Universität Innsbruck":MAILTO:Uni-Innsbruck-noreply@uibk.ac.at
SUMMARY:Spezielle Themen der Klinischen Psychologie: Emotionale Prozesse im Alltag und in der Psychotherapie (LV 720097-0 12W)
DESCRIPTION:Lehrveranstaltung 720097 12W, Gruppe 0\nTitel: Spezielle Themen der Klinischen Psychologie: Emotionale Prozesse im Alltag und in der Psychotherapie\nOrt: 52U105\n\nhttps://lfuonline.uibk.ac.at/public/lfuonline_lv.details?sem_id_in=12W&lvnr_id_in=720097\n
CLASS:PUBLIC
DTSTART:20121127T073000Z
DTEND:20121127T090000Z
DTSTAMP:20260421T075517Z
LOCATION:52U105
END:VEVENT
BEGIN:VEVENT
UID:12W_720097_1894264@uibk.ac.at
ORGANIZER;CN="LFU:online Universität Innsbruck":MAILTO:Uni-Innsbruck-noreply@uibk.ac.at
SUMMARY:Spezielle Themen der Klinischen Psychologie: Emotionale Prozesse im Alltag und in der Psychotherapie (LV 720097-0 12W)
DESCRIPTION:Lehrveranstaltung 720097 12W, Gruppe 0\nTitel: Spezielle Themen der Klinischen Psychologie: Emotionale Prozesse im Alltag und in der Psychotherapie\nOrt: Hörsaal 7\n\nhttps://lfuonline.uibk.ac.at/public/lfuonline_lv.details?sem_id_in=12W&lvnr_id_in=720097\n
CLASS:PUBLIC
DTSTART:20121127T073000Z
DTEND:20121127T090000Z
DTSTAMP:20260421T075517Z
LOCATION:Hörsaal 7
END:VEVENT
BEGIN:VEVENT
UID:12W_720097_1894265@uibk.ac.at
ORGANIZER;CN="LFU:online Universität Innsbruck":MAILTO:Uni-Innsbruck-noreply@uibk.ac.at
SUMMARY:Spezielle Themen der Klinischen Psychologie: Emotionale Prozesse im Alltag und in der Psychotherapie (LV 720097-0 12W)
DESCRIPTION:Lehrveranstaltung 720097 12W, Gruppe 0\nTitel: Spezielle Themen der Klinischen Psychologie: Emotionale Prozesse im Alltag und in der Psychotherapie\nOrt: Hörsaal 7\n\nhttps://lfuonline.uibk.ac.at/public/lfuonline_lv.details?sem_id_in=12W&lvnr_id_in=720097\n
CLASS:PUBLIC
DTSTART:20121204T073000Z
DTEND:20121204T090000Z
DTSTAMP:20260421T075517Z
LOCATION:Hörsaal 7
END:VEVENT
BEGIN:VEVENT
UID:12W_720097_1894266@uibk.ac.at
ORGANIZER;CN="LFU:online Universität Innsbruck":MAILTO:Uni-Innsbruck-noreply@uibk.ac.at
SUMMARY:Spezielle Themen der Klinischen Psychologie: Emotionale Prozesse im Alltag und in der Psychotherapie (LV 720097-0 12W)
DESCRIPTION:Lehrveranstaltung 720097 12W, Gruppe 0\nTitel: Spezielle Themen der Klinischen Psychologie: Emotionale Prozesse im Alltag und in der Psychotherapie\nOrt: Hörsaal 7\n\nhttps://lfuonline.uibk.ac.at/public/lfuonline_lv.details?sem_id_in=12W&lvnr_id_in=720097\n
CLASS:PUBLIC
DTSTART:20121211T073000Z
DTEND:20121211T090000Z
DTSTAMP:20260421T075517Z
LOCATION:Hörsaal 7
END:VEVENT
BEGIN:VEVENT
UID:12W_720097_2039463@uibk.ac.at
ORGANIZER;CN="LFU:online Universität Innsbruck":MAILTO:Uni-Innsbruck-noreply@uibk.ac.at
SUMMARY:Spezielle Themen der Klinischen Psychologie: Emotionale Prozesse im Alltag und in der Psychotherapie (LV 720097-0 12W)
DESCRIPTION:Lehrveranstaltung 720097 12W, Gruppe 0\nTitel: Spezielle Themen der Klinischen Psychologie: Emotionale Prozesse im Alltag und in der Psychotherapie\nOrt: 60408 SR\n\nhttps://lfuonline.uibk.ac.at/public/lfuonline_lv.details?sem_id_in=12W&lvnr_id_in=720097\n
CLASS:PUBLIC
DTSTART:20130107T180000Z
DTEND:20130107T193000Z
DTSTAMP:20260421T075517Z
LOCATION:60408 SR
END:VEVENT
BEGIN:VEVENT
UID:12W_720097_1894267@uibk.ac.at
ORGANIZER;CN="LFU:online Universität Innsbruck":MAILTO:Uni-Innsbruck-noreply@uibk.ac.at
SUMMARY:Spezielle Themen der Klinischen Psychologie: Emotionale Prozesse im Alltag und in der Psychotherapie (LV 720097-0 12W)
DESCRIPTION:Lehrveranstaltung 720097 12W, Gruppe 0\nTitel: Spezielle Themen der Klinischen Psychologie: Emotionale Prozesse im Alltag und in der Psychotherapie\nOrt: Hörsaal 7\n\nhttps://lfuonline.uibk.ac.at/public/lfuonline_lv.details?sem_id_in=12W&lvnr_id_in=720097\n
CLASS:PUBLIC
DTSTART:20130108T073000Z
DTEND:20130108T090000Z
DTSTAMP:20260421T075517Z
LOCATION:Hörsaal 7
END:VEVENT
BEGIN:VEVENT
UID:12W_720097_1894268@uibk.ac.at
ORGANIZER;CN="LFU:online Universität Innsbruck":MAILTO:Uni-Innsbruck-noreply@uibk.ac.at
SUMMARY:Spezielle Themen der Klinischen Psychologie: Emotionale Prozesse im Alltag und in der Psychotherapie (LV 720097-0 12W)
DESCRIPTION:Lehrveranstaltung 720097 12W, Gruppe 0\nTitel: Spezielle Themen der Klinischen Psychologie: Emotionale Prozesse im Alltag und in der Psychotherapie\nOrt: Hörsaal 7\n\nhttps://lfuonline.uibk.ac.at/public/lfuonline_lv.details?sem_id_in=12W&lvnr_id_in=720097\n
CLASS:PUBLIC
DTSTART:20130115T073000Z
DTEND:20130115T090000Z
DTSTAMP:20260421T075517Z
LOCATION:Hörsaal 7
END:VEVENT
BEGIN:VEVENT
UID:12W_720097_2042650@uibk.ac.at
ORGANIZER;CN="LFU:online Universität Innsbruck":MAILTO:Uni-Innsbruck-noreply@uibk.ac.at
SUMMARY:Spezielle Themen der Klinischen Psychologie: Emotionale Prozesse im Alltag und in der Psychotherapie (LV 720097-0 12W)
DESCRIPTION:Lehrveranstaltung 720097 12W, Gruppe 0\nTitel: Spezielle Themen der Klinischen Psychologie: Emotionale Prozesse im Alltag und in der Psychotherapie\nOrt: 52U105\n\nhttps://lfuonline.uibk.ac.at/public/lfuonline_lv.details?sem_id_in=12W&lvnr_id_in=720097\n
CLASS:PUBLIC
DTSTART:20130122T073000Z
DTEND:20130122T090000Z
DTSTAMP:20260421T075517Z
LOCATION:52U105
END:VEVENT
BEGIN:VEVENT
UID:12W_720097_1894269@uibk.ac.at
ORGANIZER;CN="LFU:online Universität Innsbruck":MAILTO:Uni-Innsbruck-noreply@uibk.ac.at
SUMMARY:Spezielle Themen der Klinischen Psychologie: Emotionale Prozesse im Alltag und in der Psychotherapie (LV 720097-0 12W)
DESCRIPTION:Lehrveranstaltung 720097 12W, Gruppe 0\nTitel: Spezielle Themen der Klinischen Psychologie: Emotionale Prozesse im Alltag und in der Psychotherapie\nOrt: Hörsaal 7\n\nhttps://lfuonline.uibk.ac.at/public/lfuonline_lv.details?sem_id_in=12W&lvnr_id_in=720097\n
CLASS:PUBLIC
DTSTART:20130122T073000Z
DTEND:20130122T090000Z
DTSTAMP:20260421T075517Z
LOCATION:Hörsaal 7
END:VEVENT
BEGIN:VEVENT
UID:12W_720097_2048442@uibk.ac.at
ORGANIZER;CN="LFU:online Universität Innsbruck":MAILTO:Uni-Innsbruck-noreply@uibk.ac.at
SUMMARY:Spezielle Themen der Klinischen Psychologie: Emotionale Prozesse im Alltag und in der Psychotherapie (LV 720097-0 12W)
DESCRIPTION:Lehrveranstaltung 720097 12W, Gruppe 0\nTitel: Spezielle Themen der Klinischen Psychologie: Emotionale Prozesse im Alltag und in der Psychotherapie\nOrt: 60408 SR\n\nhttps://lfuonline.uibk.ac.at/public/lfuonline_lv.details?sem_id_in=12W&lvnr_id_in=720097\n
CLASS:PUBLIC
DTSTART:20130125T180000Z
DTEND:20130125T193000Z
DTSTAMP:20260421T075517Z
LOCATION:60408 SR
COMMENT:Prüfungsvorbereitung
END:VEVENT
BEGIN:VEVENT
UID:12W_720097_1894270@uibk.ac.at
ORGANIZER;CN="LFU:online Universität Innsbruck":MAILTO:Uni-Innsbruck-noreply@uibk.ac.at
SUMMARY:Spezielle Themen der Klinischen Psychologie: Emotionale Prozesse im Alltag und in der Psychotherapie (LV 720097-0 12W)
DESCRIPTION:Lehrveranstaltung 720097 12W, Gruppe 0\nTitel: Spezielle Themen der Klinischen Psychologie: Emotionale Prozesse im Alltag und in der Psychotherapie\nOrt: Hörsaal 7\n\nhttps://lfuonline.uibk.ac.at/public/lfuonline_lv.details?sem_id_in=12W&lvnr_id_in=720097\n
CLASS:PUBLIC
DTSTART:20130129T073000Z
DTEND:20130129T090000Z
DTSTAMP:20260421T075517Z
LOCATION:Hörsaal 7
COMMENT:1. Prüfungstermin
END:VEVENT
BEGIN:VEVENT
UID:12W_720097_2024092@uibk.ac.at
ORGANIZER;CN="LFU:online Universität Innsbruck":MAILTO:Uni-Innsbruck-noreply@uibk.ac.at
SUMMARY:Spezielle Themen der Klinischen Psychologie: Emotionale Prozesse im Alltag und in der Psychotherapie (LV 720097-0 12W)
DESCRIPTION:Lehrveranstaltung 720097 12W, Gruppe 0\nTitel: Spezielle Themen der Klinischen Psychologie: Emotionale Prozesse im Alltag und in der Psychotherapie\nOrt: Hörsaal 7\n\nhttps://lfuonline.uibk.ac.at/public/lfuonline_lv.details?sem_id_in=12W&lvnr_id_in=720097\n
CLASS:PUBLIC
DTSTART:20130205T080000Z
DTEND:20130205T090000Z
DTSTAMP:20260421T075517Z
LOCATION:Hörsaal 7
COMMENT:2. Prüfungstermin
END:VEVENT
BEGIN:VEVENT
UID:12W_720097_2045965@uibk.ac.at
ORGANIZER;CN="LFU:online Universität Innsbruck":MAILTO:Uni-Innsbruck-noreply@uibk.ac.at
SUMMARY:Spezielle Themen der Klinischen Psychologie: Emotionale Prozesse im Alltag und in der Psychotherapie (LV 720097-0 12W)
DESCRIPTION:Lehrveranstaltung 720097 12W, Gruppe 0\nTitel: Spezielle Themen der Klinischen Psychologie: Emotionale Prozesse im Alltag und in der Psychotherapie\nOrt: 60408 SR\n\nhttps://lfuonline.uibk.ac.at/public/lfuonline_lv.details?sem_id_in=12W&lvnr_id_in=720097\n
CLASS:PUBLIC
DTSTART:20130312T080000Z
DTEND:20130312T090000Z
DTSTAMP:20260421T075517Z
LOCATION:60408 SR
COMMENT:3. Prüfungstermin
END:VEVENT
END:VCALENDAR