BEGIN:VCALENDAR
VERSION:2.0
PRODID:-//Universität Innsbruck//LFU:online//DE
METHOD:PUBLISH
BEGIN:VEVENT
UID:13W_720330_2170354@uibk.ac.at
ORGANIZER;CN="LFU:online Universität Innsbruck":MAILTO:Uni-Innsbruck-noreply@uibk.ac.at
SUMMARY:Neue Entwicklungen in der psychologischen Grundlagenforschung II: Empirische Sinnforschung (LV 720330-0 13W)
DESCRIPTION:Lehrveranstaltung 720330 13W, Gruppe 0\nTitel: Neue Entwicklungen in der psychologischen Grundlagenforschung II: Empirische Sinnforschung\nOrt: 60602 SR\n\nhttps://lfuonline.uibk.ac.at/public/lfuonline_lv.details?sem_id_in=13W&lvnr_id_in=720330\n
CLASS:PUBLIC
DTSTART:20131015T083000Z
DTEND:20131015T113000Z
DTSTAMP:20260421T132846Z
LOCATION:60602 SR
END:VEVENT
BEGIN:VEVENT
UID:13W_720330_2170355@uibk.ac.at
ORGANIZER;CN="LFU:online Universität Innsbruck":MAILTO:Uni-Innsbruck-noreply@uibk.ac.at
SUMMARY:Neue Entwicklungen in der psychologischen Grundlagenforschung II: Empirische Sinnforschung (LV 720330-0 13W)
DESCRIPTION:Lehrveranstaltung 720330 13W, Gruppe 0\nTitel: Neue Entwicklungen in der psychologischen Grundlagenforschung II: Empirische Sinnforschung\nOrt: 60602 SR\n\nhttps://lfuonline.uibk.ac.at/public/lfuonline_lv.details?sem_id_in=13W&lvnr_id_in=720330\n
CLASS:PUBLIC
DTSTART:20131022T083000Z
DTEND:20131022T113000Z
DTSTAMP:20260421T132846Z
LOCATION:60602 SR
END:VEVENT
BEGIN:VEVENT
UID:13W_720330_2170357@uibk.ac.at
ORGANIZER;CN="LFU:online Universität Innsbruck":MAILTO:Uni-Innsbruck-noreply@uibk.ac.at
SUMMARY:Neue Entwicklungen in der psychologischen Grundlagenforschung II: Empirische Sinnforschung (LV 720330-0 13W)
DESCRIPTION:Lehrveranstaltung 720330 13W, Gruppe 0\nTitel: Neue Entwicklungen in der psychologischen Grundlagenforschung II: Empirische Sinnforschung\nOrt: 60602 SR\n\nhttps://lfuonline.uibk.ac.at/public/lfuonline_lv.details?sem_id_in=13W&lvnr_id_in=720330\n
CLASS:PUBLIC
DTSTART:20131105T093000Z
DTEND:20131105T123000Z
DTSTAMP:20260421T132846Z
LOCATION:60602 SR
END:VEVENT
BEGIN:VEVENT
UID:13W_720330_2170359@uibk.ac.at
ORGANIZER;CN="LFU:online Universität Innsbruck":MAILTO:Uni-Innsbruck-noreply@uibk.ac.at
SUMMARY:Neue Entwicklungen in der psychologischen Grundlagenforschung II: Empirische Sinnforschung (LV 720330-0 13W)
DESCRIPTION:Lehrveranstaltung 720330 13W, Gruppe 0\nTitel: Neue Entwicklungen in der psychologischen Grundlagenforschung II: Empirische Sinnforschung\nOrt: 60602 SR\n\nhttps://lfuonline.uibk.ac.at/public/lfuonline_lv.details?sem_id_in=13W&lvnr_id_in=720330\n
CLASS:PUBLIC
DTSTART:20131119T093000Z
DTEND:20131119T123000Z
DTSTAMP:20260421T132846Z
LOCATION:60602 SR
END:VEVENT
BEGIN:VEVENT
UID:13W_720330_2170361@uibk.ac.at
ORGANIZER;CN="LFU:online Universität Innsbruck":MAILTO:Uni-Innsbruck-noreply@uibk.ac.at
SUMMARY:Neue Entwicklungen in der psychologischen Grundlagenforschung II: Empirische Sinnforschung (LV 720330-0 13W)
DESCRIPTION:Lehrveranstaltung 720330 13W, Gruppe 0\nTitel: Neue Entwicklungen in der psychologischen Grundlagenforschung II: Empirische Sinnforschung\nOrt: 60602 SR\n\nhttps://lfuonline.uibk.ac.at/public/lfuonline_lv.details?sem_id_in=13W&lvnr_id_in=720330\n
CLASS:PUBLIC
DTSTART:20131203T093000Z
DTEND:20131203T123000Z
DTSTAMP:20260421T132846Z
LOCATION:60602 SR
END:VEVENT
BEGIN:VEVENT
UID:13W_720330_2170363@uibk.ac.at
ORGANIZER;CN="LFU:online Universität Innsbruck":MAILTO:Uni-Innsbruck-noreply@uibk.ac.at
SUMMARY:Neue Entwicklungen in der psychologischen Grundlagenforschung II: Empirische Sinnforschung (LV 720330-0 13W)
DESCRIPTION:Lehrveranstaltung 720330 13W, Gruppe 0\nTitel: Neue Entwicklungen in der psychologischen Grundlagenforschung II: Empirische Sinnforschung\nOrt: 60602 SR\n\nhttps://lfuonline.uibk.ac.at/public/lfuonline_lv.details?sem_id_in=13W&lvnr_id_in=720330\n
CLASS:PUBLIC
DTSTART:20140107T093000Z
DTEND:20140107T123000Z
DTSTAMP:20260421T132846Z
LOCATION:60602 SR
END:VEVENT
BEGIN:VEVENT
UID:13W_720330_2170365@uibk.ac.at
ORGANIZER;CN="LFU:online Universität Innsbruck":MAILTO:Uni-Innsbruck-noreply@uibk.ac.at
SUMMARY:Neue Entwicklungen in der psychologischen Grundlagenforschung II: Empirische Sinnforschung (LV 720330-0 13W)
DESCRIPTION:Lehrveranstaltung 720330 13W, Gruppe 0\nTitel: Neue Entwicklungen in der psychologischen Grundlagenforschung II: Empirische Sinnforschung\nOrt: 60602 SR\n\nhttps://lfuonline.uibk.ac.at/public/lfuonline_lv.details?sem_id_in=13W&lvnr_id_in=720330\n
CLASS:PUBLIC
DTSTART:20140121T093000Z
DTEND:20140121T123000Z
DTSTAMP:20260421T132846Z
LOCATION:60602 SR
END:VEVENT
END:VCALENDAR