BEGIN:VCALENDAR
VERSION:2.0
PRODID:-//Universität Innsbruck//LFU:online//DE
METHOD:PUBLISH
BEGIN:VEVENT
UID:13W_720365_2173822@uibk.ac.at
ORGANIZER;CN="LFU:online Universität Innsbruck":MAILTO:Uni-Innsbruck-noreply@uibk.ac.at
SUMMARY:Spezielle Themen der angewandt-psychologischen Praxis: Betriebliche Gesundheitsförderung (LV 720365-0 13W)
DESCRIPTION:Lehrveranstaltung 720365 13W, Gruppe 0\nTitel: Spezielle Themen der angewandt-psychologischen Praxis: Betriebliche Gesundheitsförderung\nOrt: 60434 SR\n\nhttps://lfuonline.uibk.ac.at/public/lfuonline_lv.details?sem_id_in=13W&lvnr_id_in=720365\n
CLASS:PUBLIC
DTSTART:20131009T113000Z
DTEND:20131009T151500Z
DTSTAMP:20260421T151500Z
LOCATION:60434 SR
END:VEVENT
BEGIN:VEVENT
UID:13W_720365_2173823@uibk.ac.at
ORGANIZER;CN="LFU:online Universität Innsbruck":MAILTO:Uni-Innsbruck-noreply@uibk.ac.at
SUMMARY:Spezielle Themen der angewandt-psychologischen Praxis: Betriebliche Gesundheitsförderung (LV 720365-0 13W)
DESCRIPTION:Lehrveranstaltung 720365 13W, Gruppe 0\nTitel: Spezielle Themen der angewandt-psychologischen Praxis: Betriebliche Gesundheitsförderung\nOrt: 60434 SR\n\nhttps://lfuonline.uibk.ac.at/public/lfuonline_lv.details?sem_id_in=13W&lvnr_id_in=720365\n
CLASS:PUBLIC
DTSTART:20131016T113000Z
DTEND:20131016T151500Z
DTSTAMP:20260421T151500Z
LOCATION:60434 SR
END:VEVENT
BEGIN:VEVENT
UID:13W_720365_2173824@uibk.ac.at
ORGANIZER;CN="LFU:online Universität Innsbruck":MAILTO:Uni-Innsbruck-noreply@uibk.ac.at
SUMMARY:Spezielle Themen der angewandt-psychologischen Praxis: Betriebliche Gesundheitsförderung (LV 720365-0 13W)
DESCRIPTION:Lehrveranstaltung 720365 13W, Gruppe 0\nTitel: Spezielle Themen der angewandt-psychologischen Praxis: Betriebliche Gesundheitsförderung\nOrt: 60434 SR\n\nhttps://lfuonline.uibk.ac.at/public/lfuonline_lv.details?sem_id_in=13W&lvnr_id_in=720365\n
CLASS:PUBLIC
DTSTART:20131023T113000Z
DTEND:20131023T151500Z
DTSTAMP:20260421T151500Z
LOCATION:60434 SR
END:VEVENT
BEGIN:VEVENT
UID:13W_720365_2173825@uibk.ac.at
ORGANIZER;CN="LFU:online Universität Innsbruck":MAILTO:Uni-Innsbruck-noreply@uibk.ac.at
SUMMARY:Spezielle Themen der angewandt-psychologischen Praxis: Betriebliche Gesundheitsförderung (LV 720365-0 13W)
DESCRIPTION:Lehrveranstaltung 720365 13W, Gruppe 0\nTitel: Spezielle Themen der angewandt-psychologischen Praxis: Betriebliche Gesundheitsförderung\nOrt: 60434 SR\n\nhttps://lfuonline.uibk.ac.at/public/lfuonline_lv.details?sem_id_in=13W&lvnr_id_in=720365\n
CLASS:PUBLIC
DTSTART:20131030T123000Z
DTEND:20131030T161500Z
DTSTAMP:20260421T151500Z
LOCATION:60434 SR
END:VEVENT
BEGIN:VEVENT
UID:13W_720365_2173826@uibk.ac.at
ORGANIZER;CN="LFU:online Universität Innsbruck":MAILTO:Uni-Innsbruck-noreply@uibk.ac.at
SUMMARY:Spezielle Themen der angewandt-psychologischen Praxis: Betriebliche Gesundheitsförderung (LV 720365-0 13W)
DESCRIPTION:Lehrveranstaltung 720365 13W, Gruppe 0\nTitel: Spezielle Themen der angewandt-psychologischen Praxis: Betriebliche Gesundheitsförderung\nOrt: 60434 SR\n\nhttps://lfuonline.uibk.ac.at/public/lfuonline_lv.details?sem_id_in=13W&lvnr_id_in=720365\n
CLASS:PUBLIC
DTSTART:20131106T123000Z
DTEND:20131106T161500Z
DTSTAMP:20260421T151500Z
LOCATION:60434 SR
END:VEVENT
BEGIN:VEVENT
UID:13W_720365_2173827@uibk.ac.at
ORGANIZER;CN="LFU:online Universität Innsbruck":MAILTO:Uni-Innsbruck-noreply@uibk.ac.at
SUMMARY:Spezielle Themen der angewandt-psychologischen Praxis: Betriebliche Gesundheitsförderung (LV 720365-0 13W)
DESCRIPTION:Lehrveranstaltung 720365 13W, Gruppe 0\nTitel: Spezielle Themen der angewandt-psychologischen Praxis: Betriebliche Gesundheitsförderung\nOrt: 60434 SR\n\nhttps://lfuonline.uibk.ac.at/public/lfuonline_lv.details?sem_id_in=13W&lvnr_id_in=720365\n
CLASS:PUBLIC
DTSTART:20131113T123000Z
DTEND:20131113T161500Z
DTSTAMP:20260421T151500Z
LOCATION:60434 SR
END:VEVENT
BEGIN:VEVENT
UID:13W_720365_2173828@uibk.ac.at
ORGANIZER;CN="LFU:online Universität Innsbruck":MAILTO:Uni-Innsbruck-noreply@uibk.ac.at
SUMMARY:Spezielle Themen der angewandt-psychologischen Praxis: Betriebliche Gesundheitsförderung (LV 720365-0 13W)
DESCRIPTION:Lehrveranstaltung 720365 13W, Gruppe 0\nTitel: Spezielle Themen der angewandt-psychologischen Praxis: Betriebliche Gesundheitsförderung\nOrt: 60434 SR\n\nhttps://lfuonline.uibk.ac.at/public/lfuonline_lv.details?sem_id_in=13W&lvnr_id_in=720365\n
CLASS:PUBLIC
DTSTART:20131120T123000Z
DTEND:20131120T161500Z
DTSTAMP:20260421T151500Z
LOCATION:60434 SR
END:VEVENT
END:VCALENDAR