BEGIN:VCALENDAR
VERSION:2.0
PRODID:-//Universität Innsbruck//LFU:online//DE
METHOD:PUBLISH
BEGIN:VEVENT
UID:20W_720408_3679063@uibk.ac.at
ORGANIZER;CN="LFU:online Universität Innsbruck":MAILTO:Uni-Innsbruck-noreply@uibk.ac.at
SUMMARY:VO Qualitative Methoden (LV 720408-0 20W)
DESCRIPTION:Lehrveranstaltung 720408 20W, Gruppe 0\nTitel: VO Qualitative Methoden\nOrt: eLecture - online\n\nhttps://lfuonline.uibk.ac.at/public/lfuonline_lv.details?sem_id_in=20W&lvnr_id_in=720408\n
CLASS:PUBLIC
DTSTART:20201005T063000Z
DTEND:20201005T080000Z
DTSTAMP:20260424T115044Z
LOCATION:eLecture - online
END:VEVENT
BEGIN:VEVENT
UID:20W_720408_3679064@uibk.ac.at
ORGANIZER;CN="LFU:online Universität Innsbruck":MAILTO:Uni-Innsbruck-noreply@uibk.ac.at
SUMMARY:VO Qualitative Methoden (LV 720408-0 20W)
DESCRIPTION:Lehrveranstaltung 720408 20W, Gruppe 0\nTitel: VO Qualitative Methoden\nOrt: eLecture - online\n\nhttps://lfuonline.uibk.ac.at/public/lfuonline_lv.details?sem_id_in=20W&lvnr_id_in=720408\n
CLASS:PUBLIC
DTSTART:20201012T063000Z
DTEND:20201012T080000Z
DTSTAMP:20260424T115044Z
LOCATION:eLecture - online
END:VEVENT
BEGIN:VEVENT
UID:20W_720408_3679065@uibk.ac.at
ORGANIZER;CN="LFU:online Universität Innsbruck":MAILTO:Uni-Innsbruck-noreply@uibk.ac.at
SUMMARY:VO Qualitative Methoden (LV 720408-0 20W)
DESCRIPTION:Lehrveranstaltung 720408 20W, Gruppe 0\nTitel: VO Qualitative Methoden\nOrt: eLecture - online\n\nhttps://lfuonline.uibk.ac.at/public/lfuonline_lv.details?sem_id_in=20W&lvnr_id_in=720408\n
CLASS:PUBLIC
DTSTART:20201019T063000Z
DTEND:20201019T080000Z
DTSTAMP:20260424T115044Z
LOCATION:eLecture - online
END:VEVENT
BEGIN:VEVENT
UID:20W_720408_3679066@uibk.ac.at
ORGANIZER;CN="LFU:online Universität Innsbruck":MAILTO:Uni-Innsbruck-noreply@uibk.ac.at
SUMMARY:VO Qualitative Methoden (LV 720408-0 20W)
DESCRIPTION:Lehrveranstaltung 720408 20W, Gruppe 0\nTitel: VO Qualitative Methoden\nOrt: eLecture - online\n\nhttps://lfuonline.uibk.ac.at/public/lfuonline_lv.details?sem_id_in=20W&lvnr_id_in=720408\n
CLASS:PUBLIC
DTSTART:20201109T073000Z
DTEND:20201109T090000Z
DTSTAMP:20260424T115044Z
LOCATION:eLecture - online
END:VEVENT
BEGIN:VEVENT
UID:20W_720408_3679067@uibk.ac.at
ORGANIZER;CN="LFU:online Universität Innsbruck":MAILTO:Uni-Innsbruck-noreply@uibk.ac.at
SUMMARY:VO Qualitative Methoden (LV 720408-0 20W)
DESCRIPTION:Lehrveranstaltung 720408 20W, Gruppe 0\nTitel: VO Qualitative Methoden\nOrt: eLecture - online\n\nhttps://lfuonline.uibk.ac.at/public/lfuonline_lv.details?sem_id_in=20W&lvnr_id_in=720408\n
CLASS:PUBLIC
DTSTART:20201116T073000Z
DTEND:20201116T090000Z
DTSTAMP:20260424T115044Z
LOCATION:eLecture - online
END:VEVENT
BEGIN:VEVENT
UID:20W_720408_3679068@uibk.ac.at
ORGANIZER;CN="LFU:online Universität Innsbruck":MAILTO:Uni-Innsbruck-noreply@uibk.ac.at
SUMMARY:VO Qualitative Methoden (LV 720408-0 20W)
DESCRIPTION:Lehrveranstaltung 720408 20W, Gruppe 0\nTitel: VO Qualitative Methoden\nOrt: eLecture - online\n\nhttps://lfuonline.uibk.ac.at/public/lfuonline_lv.details?sem_id_in=20W&lvnr_id_in=720408\n
CLASS:PUBLIC
DTSTART:20201123T073000Z
DTEND:20201123T090000Z
DTSTAMP:20260424T115044Z
LOCATION:eLecture - online
END:VEVENT
BEGIN:VEVENT
UID:20W_720408_3679069@uibk.ac.at
ORGANIZER;CN="LFU:online Universität Innsbruck":MAILTO:Uni-Innsbruck-noreply@uibk.ac.at
SUMMARY:VO Qualitative Methoden (LV 720408-0 20W)
DESCRIPTION:Lehrveranstaltung 720408 20W, Gruppe 0\nTitel: VO Qualitative Methoden\nOrt: eLecture - online\n\nhttps://lfuonline.uibk.ac.at/public/lfuonline_lv.details?sem_id_in=20W&lvnr_id_in=720408\n
CLASS:PUBLIC
DTSTART:20201130T073000Z
DTEND:20201130T090000Z
DTSTAMP:20260424T115044Z
LOCATION:eLecture - online
END:VEVENT
BEGIN:VEVENT
UID:20W_720408_3679070@uibk.ac.at
ORGANIZER;CN="LFU:online Universität Innsbruck":MAILTO:Uni-Innsbruck-noreply@uibk.ac.at
SUMMARY:VO Qualitative Methoden (LV 720408-0 20W)
DESCRIPTION:Lehrveranstaltung 720408 20W, Gruppe 0\nTitel: VO Qualitative Methoden\nOrt: eLecture - online\n\nhttps://lfuonline.uibk.ac.at/public/lfuonline_lv.details?sem_id_in=20W&lvnr_id_in=720408\n
CLASS:PUBLIC
DTSTART:20201207T073000Z
DTEND:20201207T090000Z
DTSTAMP:20260424T115044Z
LOCATION:eLecture - online
END:VEVENT
BEGIN:VEVENT
UID:20W_720408_3679071@uibk.ac.at
ORGANIZER;CN="LFU:online Universität Innsbruck":MAILTO:Uni-Innsbruck-noreply@uibk.ac.at
SUMMARY:VO Qualitative Methoden (LV 720408-0 20W)
DESCRIPTION:Lehrveranstaltung 720408 20W, Gruppe 0\nTitel: VO Qualitative Methoden\nOrt: eLecture - online\n\nhttps://lfuonline.uibk.ac.at/public/lfuonline_lv.details?sem_id_in=20W&lvnr_id_in=720408\n
CLASS:PUBLIC
DTSTART:20201214T073000Z
DTEND:20201214T090000Z
DTSTAMP:20260424T115044Z
LOCATION:eLecture - online
END:VEVENT
BEGIN:VEVENT
UID:20W_720408_3679073@uibk.ac.at
ORGANIZER;CN="LFU:online Universität Innsbruck":MAILTO:Uni-Innsbruck-noreply@uibk.ac.at
SUMMARY:VO Qualitative Methoden (LV 720408-0 20W)
DESCRIPTION:Lehrveranstaltung 720408 20W, Gruppe 0\nTitel: VO Qualitative Methoden\nOrt: eLecture - online\n\nhttps://lfuonline.uibk.ac.at/public/lfuonline_lv.details?sem_id_in=20W&lvnr_id_in=720408\n
CLASS:PUBLIC
DTSTART:20210111T073000Z
DTEND:20210111T090000Z
DTSTAMP:20260424T115044Z
LOCATION:eLecture - online
END:VEVENT
BEGIN:VEVENT
UID:20W_720408_3679074@uibk.ac.at
ORGANIZER;CN="LFU:online Universität Innsbruck":MAILTO:Uni-Innsbruck-noreply@uibk.ac.at
SUMMARY:VO Qualitative Methoden (LV 720408-0 20W)
DESCRIPTION:Lehrveranstaltung 720408 20W, Gruppe 0\nTitel: VO Qualitative Methoden\nOrt: eLecture - online\n\nhttps://lfuonline.uibk.ac.at/public/lfuonline_lv.details?sem_id_in=20W&lvnr_id_in=720408\n
CLASS:PUBLIC
DTSTART:20210118T073000Z
DTEND:20210118T090000Z
DTSTAMP:20260424T115044Z
LOCATION:eLecture - online
END:VEVENT
BEGIN:VEVENT
UID:20W_720408_3679075@uibk.ac.at
ORGANIZER;CN="LFU:online Universität Innsbruck":MAILTO:Uni-Innsbruck-noreply@uibk.ac.at
SUMMARY:VO Qualitative Methoden (LV 720408-0 20W)
DESCRIPTION:Lehrveranstaltung 720408 20W, Gruppe 0\nTitel: VO Qualitative Methoden\nOrt: eLecture - online\n\nhttps://lfuonline.uibk.ac.at/public/lfuonline_lv.details?sem_id_in=20W&lvnr_id_in=720408\n
CLASS:PUBLIC
DTSTART:20210125T073000Z
DTEND:20210125T090000Z
DTSTAMP:20260424T115044Z
LOCATION:eLecture - online
END:VEVENT
BEGIN:VEVENT
UID:20W_720408_3739943@uibk.ac.at
ORGANIZER;CN="LFU:online Universität Innsbruck":MAILTO:Uni-Innsbruck-noreply@uibk.ac.at
SUMMARY:VO Qualitative Methoden (LV 720408-0 20W)
DESCRIPTION:Lehrveranstaltung 720408 20W, Gruppe 0\nTitel: VO Qualitative Methoden\nOrt: online (Psychologie)\n\nhttps://lfuonline.uibk.ac.at/public/lfuonline_lv.details?sem_id_in=20W&lvnr_id_in=720408\n
CLASS:PUBLIC
DTSTART:20210201T080000Z
DTEND:20210201T090000Z
DTSTAMP:20260424T115044Z
LOCATION:online (Psychologie)
COMMENT:1. Online-Prüfungstermin via OLAT
END:VEVENT
BEGIN:VEVENT
UID:20W_720408_3739944@uibk.ac.at
ORGANIZER;CN="LFU:online Universität Innsbruck":MAILTO:Uni-Innsbruck-noreply@uibk.ac.at
SUMMARY:VO Qualitative Methoden (LV 720408-0 20W)
DESCRIPTION:Lehrveranstaltung 720408 20W, Gruppe 0\nTitel: VO Qualitative Methoden\nOrt: online (Psychologie)\n\nhttps://lfuonline.uibk.ac.at/public/lfuonline_lv.details?sem_id_in=20W&lvnr_id_in=720408\n
CLASS:PUBLIC
DTSTART:20210308T080000Z
DTEND:20210308T090000Z
DTSTAMP:20260424T115044Z
LOCATION:online (Psychologie)
COMMENT:2. Online-Prüfungstermin via OLAT
END:VEVENT
BEGIN:VEVENT
UID:20W_720408_3739945@uibk.ac.at
ORGANIZER;CN="LFU:online Universität Innsbruck":MAILTO:Uni-Innsbruck-noreply@uibk.ac.at
SUMMARY:VO Qualitative Methoden (LV 720408-0 20W)
DESCRIPTION:Lehrveranstaltung 720408 20W, Gruppe 0\nTitel: VO Qualitative Methoden\nOrt: online (Psychologie)\n\nhttps://lfuonline.uibk.ac.at/public/lfuonline_lv.details?sem_id_in=20W&lvnr_id_in=720408\n
CLASS:PUBLIC
DTSTART:20210503T070000Z
DTEND:20210503T080000Z
DTSTAMP:20260424T115044Z
LOCATION:online (Psychologie)
COMMENT:3. Online-Prüfungstermin via OLAT
END:VEVENT
END:VCALENDAR