BEGIN:VCALENDAR
VERSION:2.0
PRODID:-//Universität Innsbruck//LFU:online//DE
METHOD:PUBLISH
BEGIN:VEVENT
UID:08S_720623_937367@uibk.ac.at
ORGANIZER;CN="LFU:online Universität Innsbruck":MAILTO:Uni-Innsbruck-noreply@uibk.ac.at
SUMMARY:Klin.-Psychol. Interventionen: Systemische Therapie (LV 720623-0 08S)
DESCRIPTION:Lehrveranstaltung 720623 08S, Gruppe 0\nTitel: Klin.-Psychol. Interventionen: Systemische Therapie\nOrt: 60433 SR\n\nhttps://lfuonline.uibk.ac.at/public/lfuonline_lv.details?sem_id_in=08S&lvnr_id_in=720623\n
CLASS:PUBLIC
DTSTART:20080313T103000Z
DTEND:20080313T120000Z
DTSTAMP:20260422T051336Z
LOCATION:60433 SR
END:VEVENT
BEGIN:VEVENT
UID:08S_720623_937368@uibk.ac.at
ORGANIZER;CN="LFU:online Universität Innsbruck":MAILTO:Uni-Innsbruck-noreply@uibk.ac.at
SUMMARY:Klin.-Psychol. Interventionen: Systemische Therapie (LV 720623-0 08S)
DESCRIPTION:Lehrveranstaltung 720623 08S, Gruppe 0\nTitel: Klin.-Psychol. Interventionen: Systemische Therapie\nOrt: 60433 SR\n\nhttps://lfuonline.uibk.ac.at/public/lfuonline_lv.details?sem_id_in=08S&lvnr_id_in=720623\n
CLASS:PUBLIC
DTSTART:20080403T093000Z
DTEND:20080403T110000Z
DTSTAMP:20260422T051336Z
LOCATION:60433 SR
END:VEVENT
BEGIN:VEVENT
UID:08S_720623_937369@uibk.ac.at
ORGANIZER;CN="LFU:online Universität Innsbruck":MAILTO:Uni-Innsbruck-noreply@uibk.ac.at
SUMMARY:Klin.-Psychol. Interventionen: Systemische Therapie (LV 720623-0 08S)
DESCRIPTION:Lehrveranstaltung 720623 08S, Gruppe 0\nTitel: Klin.-Psychol. Interventionen: Systemische Therapie\nOrt: 60433 SR\n\nhttps://lfuonline.uibk.ac.at/public/lfuonline_lv.details?sem_id_in=08S&lvnr_id_in=720623\n
CLASS:PUBLIC
DTSTART:20080410T093000Z
DTEND:20080410T110000Z
DTSTAMP:20260422T051336Z
LOCATION:60433 SR
END:VEVENT
BEGIN:VEVENT
UID:08S_720623_937370@uibk.ac.at
ORGANIZER;CN="LFU:online Universität Innsbruck":MAILTO:Uni-Innsbruck-noreply@uibk.ac.at
SUMMARY:Klin.-Psychol. Interventionen: Systemische Therapie (LV 720623-0 08S)
DESCRIPTION:Lehrveranstaltung 720623 08S, Gruppe 0\nTitel: Klin.-Psychol. Interventionen: Systemische Therapie\nOrt: 60433 SR\n\nhttps://lfuonline.uibk.ac.at/public/lfuonline_lv.details?sem_id_in=08S&lvnr_id_in=720623\n
CLASS:PUBLIC
DTSTART:20080417T093000Z
DTEND:20080417T110000Z
DTSTAMP:20260422T051336Z
LOCATION:60433 SR
END:VEVENT
BEGIN:VEVENT
UID:08S_720623_937371@uibk.ac.at
ORGANIZER;CN="LFU:online Universität Innsbruck":MAILTO:Uni-Innsbruck-noreply@uibk.ac.at
SUMMARY:Klin.-Psychol. Interventionen: Systemische Therapie (LV 720623-0 08S)
DESCRIPTION:Lehrveranstaltung 720623 08S, Gruppe 0\nTitel: Klin.-Psychol. Interventionen: Systemische Therapie\nOrt: 60433 SR\n\nhttps://lfuonline.uibk.ac.at/public/lfuonline_lv.details?sem_id_in=08S&lvnr_id_in=720623\n
CLASS:PUBLIC
DTSTART:20080424T093000Z
DTEND:20080424T110000Z
DTSTAMP:20260422T051336Z
LOCATION:60433 SR
END:VEVENT
BEGIN:VEVENT
UID:08S_720623_937372@uibk.ac.at
ORGANIZER;CN="LFU:online Universität Innsbruck":MAILTO:Uni-Innsbruck-noreply@uibk.ac.at
SUMMARY:Klin.-Psychol. Interventionen: Systemische Therapie (LV 720623-0 08S)
DESCRIPTION:Lehrveranstaltung 720623 08S, Gruppe 0\nTitel: Klin.-Psychol. Interventionen: Systemische Therapie\nOrt: 60433 SR\n\nhttps://lfuonline.uibk.ac.at/public/lfuonline_lv.details?sem_id_in=08S&lvnr_id_in=720623\n
CLASS:PUBLIC
DTSTART:20080508T093000Z
DTEND:20080508T110000Z
DTSTAMP:20260422T051336Z
LOCATION:60433 SR
END:VEVENT
BEGIN:VEVENT
UID:08S_720623_937373@uibk.ac.at
ORGANIZER;CN="LFU:online Universität Innsbruck":MAILTO:Uni-Innsbruck-noreply@uibk.ac.at
SUMMARY:Klin.-Psychol. Interventionen: Systemische Therapie (LV 720623-0 08S)
DESCRIPTION:Lehrveranstaltung 720623 08S, Gruppe 0\nTitel: Klin.-Psychol. Interventionen: Systemische Therapie\nOrt: 60433 SR\n\nhttps://lfuonline.uibk.ac.at/public/lfuonline_lv.details?sem_id_in=08S&lvnr_id_in=720623\n
CLASS:PUBLIC
DTSTART:20080515T093000Z
DTEND:20080515T110000Z
DTSTAMP:20260422T051336Z
LOCATION:60433 SR
END:VEVENT
BEGIN:VEVENT
UID:08S_720623_937374@uibk.ac.at
ORGANIZER;CN="LFU:online Universität Innsbruck":MAILTO:Uni-Innsbruck-noreply@uibk.ac.at
SUMMARY:Klin.-Psychol. Interventionen: Systemische Therapie (LV 720623-0 08S)
DESCRIPTION:Lehrveranstaltung 720623 08S, Gruppe 0\nTitel: Klin.-Psychol. Interventionen: Systemische Therapie\nOrt: 60433 SR\n\nhttps://lfuonline.uibk.ac.at/public/lfuonline_lv.details?sem_id_in=08S&lvnr_id_in=720623\n
CLASS:PUBLIC
DTSTART:20080529T093000Z
DTEND:20080529T110000Z
DTSTAMP:20260422T051336Z
LOCATION:60433 SR
END:VEVENT
BEGIN:VEVENT
UID:08S_720623_937375@uibk.ac.at
ORGANIZER;CN="LFU:online Universität Innsbruck":MAILTO:Uni-Innsbruck-noreply@uibk.ac.at
SUMMARY:Klin.-Psychol. Interventionen: Systemische Therapie (LV 720623-0 08S)
DESCRIPTION:Lehrveranstaltung 720623 08S, Gruppe 0\nTitel: Klin.-Psychol. Interventionen: Systemische Therapie\nOrt: 60433 SR\n\nhttps://lfuonline.uibk.ac.at/public/lfuonline_lv.details?sem_id_in=08S&lvnr_id_in=720623\n
CLASS:PUBLIC
DTSTART:20080605T093000Z
DTEND:20080605T110000Z
DTSTAMP:20260422T051336Z
LOCATION:60433 SR
END:VEVENT
BEGIN:VEVENT
UID:08S_720623_937376@uibk.ac.at
ORGANIZER;CN="LFU:online Universität Innsbruck":MAILTO:Uni-Innsbruck-noreply@uibk.ac.at
SUMMARY:Klin.-Psychol. Interventionen: Systemische Therapie (LV 720623-0 08S)
DESCRIPTION:Lehrveranstaltung 720623 08S, Gruppe 0\nTitel: Klin.-Psychol. Interventionen: Systemische Therapie\nOrt: 60433 SR\n\nhttps://lfuonline.uibk.ac.at/public/lfuonline_lv.details?sem_id_in=08S&lvnr_id_in=720623\n
CLASS:PUBLIC
DTSTART:20080612T093000Z
DTEND:20080612T110000Z
DTSTAMP:20260422T051336Z
LOCATION:60433 SR
COMMENT:ACHTUNG: Termin entfällt!
END:VEVENT
BEGIN:VEVENT
UID:08S_720623_937377@uibk.ac.at
ORGANIZER;CN="LFU:online Universität Innsbruck":MAILTO:Uni-Innsbruck-noreply@uibk.ac.at
SUMMARY:Klin.-Psychol. Interventionen: Systemische Therapie (LV 720623-0 08S)
DESCRIPTION:Lehrveranstaltung 720623 08S, Gruppe 0\nTitel: Klin.-Psychol. Interventionen: Systemische Therapie\nOrt: 60433 SR\n\nhttps://lfuonline.uibk.ac.at/public/lfuonline_lv.details?sem_id_in=08S&lvnr_id_in=720623\n
CLASS:PUBLIC
DTSTART:20080619T093000Z
DTEND:20080619T110000Z
DTSTAMP:20260422T051336Z
LOCATION:60433 SR
END:VEVENT
BEGIN:VEVENT
UID:08S_720623_937378@uibk.ac.at
ORGANIZER;CN="LFU:online Universität Innsbruck":MAILTO:Uni-Innsbruck-noreply@uibk.ac.at
SUMMARY:Klin.-Psychol. Interventionen: Systemische Therapie (LV 720623-0 08S)
DESCRIPTION:Lehrveranstaltung 720623 08S, Gruppe 0\nTitel: Klin.-Psychol. Interventionen: Systemische Therapie\nOrt: 60433 SR\n\nhttps://lfuonline.uibk.ac.at/public/lfuonline_lv.details?sem_id_in=08S&lvnr_id_in=720623\n
CLASS:PUBLIC
DTSTART:20080626T093000Z
DTEND:20080626T110000Z
DTSTAMP:20260422T051336Z
LOCATION:60433 SR
END:VEVENT
BEGIN:VEVENT
UID:08S_720623_937379@uibk.ac.at
ORGANIZER;CN="LFU:online Universität Innsbruck":MAILTO:Uni-Innsbruck-noreply@uibk.ac.at
SUMMARY:Klin.-Psychol. Interventionen: Systemische Therapie (LV 720623-0 08S)
DESCRIPTION:Lehrveranstaltung 720623 08S, Gruppe 0\nTitel: Klin.-Psychol. Interventionen: Systemische Therapie\nOrt: 60433 SR\n\nhttps://lfuonline.uibk.ac.at/public/lfuonline_lv.details?sem_id_in=08S&lvnr_id_in=720623\n
CLASS:PUBLIC
DTSTART:20080703T093000Z
DTEND:20080703T110000Z
DTSTAMP:20260422T051336Z
LOCATION:60433 SR
END:VEVENT
END:VCALENDAR