BEGIN:VCALENDAR
VERSION:2.0
PRODID:-//Universität Innsbruck//LFU:online//DE
METHOD:PUBLISH
BEGIN:VEVENT
UID:08S_720624_939324@uibk.ac.at
ORGANIZER;CN="LFU:online Universität Innsbruck":MAILTO:Uni-Innsbruck-noreply@uibk.ac.at
SUMMARY:Klin.-Psychol. Interventionen: Gesprächsführung (LV 720624-0 08S)
DESCRIPTION:Lehrveranstaltung 720624 08S, Gruppe 0\nTitel: Klin.-Psychol. Interventionen: Gesprächsführung\nOrt: 60408 SR\n\nhttps://lfuonline.uibk.ac.at/public/lfuonline_lv.details?sem_id_in=08S&lvnr_id_in=720624\n
CLASS:PUBLIC
DTSTART:20080312T080000Z
DTEND:20080312T093000Z
DTSTAMP:20260422T051246Z
LOCATION:60408 SR
END:VEVENT
BEGIN:VEVENT
UID:08S_720624_939325@uibk.ac.at
ORGANIZER;CN="LFU:online Universität Innsbruck":MAILTO:Uni-Innsbruck-noreply@uibk.ac.at
SUMMARY:Klin.-Psychol. Interventionen: Gesprächsführung (LV 720624-0 08S)
DESCRIPTION:Lehrveranstaltung 720624 08S, Gruppe 0\nTitel: Klin.-Psychol. Interventionen: Gesprächsführung\nOrt: 60408 SR\n\nhttps://lfuonline.uibk.ac.at/public/lfuonline_lv.details?sem_id_in=08S&lvnr_id_in=720624\n
CLASS:PUBLIC
DTSTART:20080402T070000Z
DTEND:20080402T083000Z
DTSTAMP:20260422T051246Z
LOCATION:60408 SR
END:VEVENT
BEGIN:VEVENT
UID:08S_720624_939326@uibk.ac.at
ORGANIZER;CN="LFU:online Universität Innsbruck":MAILTO:Uni-Innsbruck-noreply@uibk.ac.at
SUMMARY:Klin.-Psychol. Interventionen: Gesprächsführung (LV 720624-0 08S)
DESCRIPTION:Lehrveranstaltung 720624 08S, Gruppe 0\nTitel: Klin.-Psychol. Interventionen: Gesprächsführung\nOrt: 60408 SR\n\nhttps://lfuonline.uibk.ac.at/public/lfuonline_lv.details?sem_id_in=08S&lvnr_id_in=720624\n
CLASS:PUBLIC
DTSTART:20080409T070000Z
DTEND:20080409T083000Z
DTSTAMP:20260422T051246Z
LOCATION:60408 SR
END:VEVENT
BEGIN:VEVENT
UID:08S_720624_939327@uibk.ac.at
ORGANIZER;CN="LFU:online Universität Innsbruck":MAILTO:Uni-Innsbruck-noreply@uibk.ac.at
SUMMARY:Klin.-Psychol. Interventionen: Gesprächsführung (LV 720624-0 08S)
DESCRIPTION:Lehrveranstaltung 720624 08S, Gruppe 0\nTitel: Klin.-Psychol. Interventionen: Gesprächsführung\nOrt: 60408 SR\n\nhttps://lfuonline.uibk.ac.at/public/lfuonline_lv.details?sem_id_in=08S&lvnr_id_in=720624\n
CLASS:PUBLIC
DTSTART:20080416T070000Z
DTEND:20080416T083000Z
DTSTAMP:20260422T051246Z
LOCATION:60408 SR
END:VEVENT
BEGIN:VEVENT
UID:08S_720624_939328@uibk.ac.at
ORGANIZER;CN="LFU:online Universität Innsbruck":MAILTO:Uni-Innsbruck-noreply@uibk.ac.at
SUMMARY:Klin.-Psychol. Interventionen: Gesprächsführung (LV 720624-0 08S)
DESCRIPTION:Lehrveranstaltung 720624 08S, Gruppe 0\nTitel: Klin.-Psychol. Interventionen: Gesprächsführung\nOrt: 60408 SR\n\nhttps://lfuonline.uibk.ac.at/public/lfuonline_lv.details?sem_id_in=08S&lvnr_id_in=720624\n
CLASS:PUBLIC
DTSTART:20080423T070000Z
DTEND:20080423T083000Z
DTSTAMP:20260422T051246Z
LOCATION:60408 SR
END:VEVENT
BEGIN:VEVENT
UID:08S_720624_939329@uibk.ac.at
ORGANIZER;CN="LFU:online Universität Innsbruck":MAILTO:Uni-Innsbruck-noreply@uibk.ac.at
SUMMARY:Klin.-Psychol. Interventionen: Gesprächsführung (LV 720624-0 08S)
DESCRIPTION:Lehrveranstaltung 720624 08S, Gruppe 0\nTitel: Klin.-Psychol. Interventionen: Gesprächsführung\nOrt: 60408 SR\n\nhttps://lfuonline.uibk.ac.at/public/lfuonline_lv.details?sem_id_in=08S&lvnr_id_in=720624\n
CLASS:PUBLIC
DTSTART:20080430T070000Z
DTEND:20080430T083000Z
DTSTAMP:20260422T051246Z
LOCATION:60408 SR
END:VEVENT
BEGIN:VEVENT
UID:08S_720624_939330@uibk.ac.at
ORGANIZER;CN="LFU:online Universität Innsbruck":MAILTO:Uni-Innsbruck-noreply@uibk.ac.at
SUMMARY:Klin.-Psychol. Interventionen: Gesprächsführung (LV 720624-0 08S)
DESCRIPTION:Lehrveranstaltung 720624 08S, Gruppe 0\nTitel: Klin.-Psychol. Interventionen: Gesprächsführung\nOrt: 60408 SR\n\nhttps://lfuonline.uibk.ac.at/public/lfuonline_lv.details?sem_id_in=08S&lvnr_id_in=720624\n
CLASS:PUBLIC
DTSTART:20080507T070000Z
DTEND:20080507T083000Z
DTSTAMP:20260422T051246Z
LOCATION:60408 SR
END:VEVENT
BEGIN:VEVENT
UID:08S_720624_939331@uibk.ac.at
ORGANIZER;CN="LFU:online Universität Innsbruck":MAILTO:Uni-Innsbruck-noreply@uibk.ac.at
SUMMARY:Klin.-Psychol. Interventionen: Gesprächsführung (LV 720624-0 08S)
DESCRIPTION:Lehrveranstaltung 720624 08S, Gruppe 0\nTitel: Klin.-Psychol. Interventionen: Gesprächsführung\nOrt: 60408 SR\n\nhttps://lfuonline.uibk.ac.at/public/lfuonline_lv.details?sem_id_in=08S&lvnr_id_in=720624\n
CLASS:PUBLIC
DTSTART:20080514T070000Z
DTEND:20080514T083000Z
DTSTAMP:20260422T051246Z
LOCATION:60408 SR
END:VEVENT
BEGIN:VEVENT
UID:08S_720624_939332@uibk.ac.at
ORGANIZER;CN="LFU:online Universität Innsbruck":MAILTO:Uni-Innsbruck-noreply@uibk.ac.at
SUMMARY:Klin.-Psychol. Interventionen: Gesprächsführung (LV 720624-0 08S)
DESCRIPTION:Lehrveranstaltung 720624 08S, Gruppe 0\nTitel: Klin.-Psychol. Interventionen: Gesprächsführung\nOrt: 60408 SR\n\nhttps://lfuonline.uibk.ac.at/public/lfuonline_lv.details?sem_id_in=08S&lvnr_id_in=720624\n
CLASS:PUBLIC
DTSTART:20080521T070000Z
DTEND:20080521T083000Z
DTSTAMP:20260422T051246Z
LOCATION:60408 SR
END:VEVENT
BEGIN:VEVENT
UID:08S_720624_939333@uibk.ac.at
ORGANIZER;CN="LFU:online Universität Innsbruck":MAILTO:Uni-Innsbruck-noreply@uibk.ac.at
SUMMARY:Klin.-Psychol. Interventionen: Gesprächsführung (LV 720624-0 08S)
DESCRIPTION:Lehrveranstaltung 720624 08S, Gruppe 0\nTitel: Klin.-Psychol. Interventionen: Gesprächsführung\nOrt: 60408 SR\n\nhttps://lfuonline.uibk.ac.at/public/lfuonline_lv.details?sem_id_in=08S&lvnr_id_in=720624\n
CLASS:PUBLIC
DTSTART:20080528T070000Z
DTEND:20080528T083000Z
DTSTAMP:20260422T051246Z
LOCATION:60408 SR
END:VEVENT
BEGIN:VEVENT
UID:08S_720624_939334@uibk.ac.at
ORGANIZER;CN="LFU:online Universität Innsbruck":MAILTO:Uni-Innsbruck-noreply@uibk.ac.at
SUMMARY:Klin.-Psychol. Interventionen: Gesprächsführung (LV 720624-0 08S)
DESCRIPTION:Lehrveranstaltung 720624 08S, Gruppe 0\nTitel: Klin.-Psychol. Interventionen: Gesprächsführung\nOrt: 60408 SR\n\nhttps://lfuonline.uibk.ac.at/public/lfuonline_lv.details?sem_id_in=08S&lvnr_id_in=720624\n
CLASS:PUBLIC
DTSTART:20080604T070000Z
DTEND:20080604T083000Z
DTSTAMP:20260422T051246Z
LOCATION:60408 SR
END:VEVENT
BEGIN:VEVENT
UID:08S_720624_939335@uibk.ac.at
ORGANIZER;CN="LFU:online Universität Innsbruck":MAILTO:Uni-Innsbruck-noreply@uibk.ac.at
SUMMARY:Klin.-Psychol. Interventionen: Gesprächsführung (LV 720624-0 08S)
DESCRIPTION:Lehrveranstaltung 720624 08S, Gruppe 0\nTitel: Klin.-Psychol. Interventionen: Gesprächsführung\nOrt: 60408 SR\n\nhttps://lfuonline.uibk.ac.at/public/lfuonline_lv.details?sem_id_in=08S&lvnr_id_in=720624\n
CLASS:PUBLIC
DTSTART:20080611T070000Z
DTEND:20080611T083000Z
DTSTAMP:20260422T051246Z
LOCATION:60408 SR
END:VEVENT
BEGIN:VEVENT
UID:08S_720624_939336@uibk.ac.at
ORGANIZER;CN="LFU:online Universität Innsbruck":MAILTO:Uni-Innsbruck-noreply@uibk.ac.at
SUMMARY:Klin.-Psychol. Interventionen: Gesprächsführung (LV 720624-0 08S)
DESCRIPTION:Lehrveranstaltung 720624 08S, Gruppe 0\nTitel: Klin.-Psychol. Interventionen: Gesprächsführung\nOrt: 60408 SR\n\nhttps://lfuonline.uibk.ac.at/public/lfuonline_lv.details?sem_id_in=08S&lvnr_id_in=720624\n
CLASS:PUBLIC
DTSTART:20080618T070000Z
DTEND:20080618T083000Z
DTSTAMP:20260422T051246Z
LOCATION:60408 SR
END:VEVENT
BEGIN:VEVENT
UID:08S_720624_939337@uibk.ac.at
ORGANIZER;CN="LFU:online Universität Innsbruck":MAILTO:Uni-Innsbruck-noreply@uibk.ac.at
SUMMARY:Klin.-Psychol. Interventionen: Gesprächsführung (LV 720624-0 08S)
DESCRIPTION:Lehrveranstaltung 720624 08S, Gruppe 0\nTitel: Klin.-Psychol. Interventionen: Gesprächsführung\nOrt: 60408 SR\n\nhttps://lfuonline.uibk.ac.at/public/lfuonline_lv.details?sem_id_in=08S&lvnr_id_in=720624\n
CLASS:PUBLIC
DTSTART:20080625T070000Z
DTEND:20080625T083000Z
DTSTAMP:20260422T051246Z
LOCATION:60408 SR
END:VEVENT
BEGIN:VEVENT
UID:08S_720624_939338@uibk.ac.at
ORGANIZER;CN="LFU:online Universität Innsbruck":MAILTO:Uni-Innsbruck-noreply@uibk.ac.at
SUMMARY:Klin.-Psychol. Interventionen: Gesprächsführung (LV 720624-0 08S)
DESCRIPTION:Lehrveranstaltung 720624 08S, Gruppe 0\nTitel: Klin.-Psychol. Interventionen: Gesprächsführung\nOrt: 60408 SR\n\nhttps://lfuonline.uibk.ac.at/public/lfuonline_lv.details?sem_id_in=08S&lvnr_id_in=720624\n
CLASS:PUBLIC
DTSTART:20080702T070000Z
DTEND:20080702T083000Z
DTSTAMP:20260422T051246Z
LOCATION:60408 SR
END:VEVENT
END:VCALENDAR