BEGIN:VCALENDAR
VERSION:2.0
PRODID:-//Universität Innsbruck//LFU:online//DE
METHOD:PUBLISH
BEGIN:VEVENT
UID:08S_720631_950342@uibk.ac.at
ORGANIZER;CN="LFU:online Universität Innsbruck":MAILTO:Uni-Innsbruck-noreply@uibk.ac.at
SUMMARY:Klin.-Psychol. Störungsbilder: Umschriebene und tiefgreifende Entwicklungsstörungen (LV 720631-0 08S)
DESCRIPTION:Lehrveranstaltung 720631 08S, Gruppe 0\nTitel: Klin.-Psychol. Störungsbilder: Umschriebene und tiefgreifende Entwicklungsstörungen\nOrt: 60408 SR\n\nhttps://lfuonline.uibk.ac.at/public/lfuonline_lv.details?sem_id_in=08S&lvnr_id_in=720631\n
CLASS:PUBLIC
DTSTART:20080314T080000Z
DTEND:20080314T100000Z
DTSTAMP:20260422T051300Z
LOCATION:60408 SR
END:VEVENT
BEGIN:VEVENT
UID:08S_720631_949442@uibk.ac.at
ORGANIZER;CN="LFU:online Universität Innsbruck":MAILTO:Uni-Innsbruck-noreply@uibk.ac.at
SUMMARY:Klin.-Psychol. Störungsbilder: Umschriebene und tiefgreifende Entwicklungsstörungen (LV 720631-0 08S)
DESCRIPTION:Lehrveranstaltung 720631 08S, Gruppe 0\nTitel: Klin.-Psychol. Störungsbilder: Umschriebene und tiefgreifende Entwicklungsstörungen\nOrt: 60434 SR\n\nhttps://lfuonline.uibk.ac.at/public/lfuonline_lv.details?sem_id_in=08S&lvnr_id_in=720631\n
CLASS:PUBLIC
DTSTART:20080418T063000Z
DTEND:20080418T110000Z
DTSTAMP:20260422T051300Z
LOCATION:60434 SR
END:VEVENT
BEGIN:VEVENT
UID:08S_720631_949459@uibk.ac.at
ORGANIZER;CN="LFU:online Universität Innsbruck":MAILTO:Uni-Innsbruck-noreply@uibk.ac.at
SUMMARY:Klin.-Psychol. Störungsbilder: Umschriebene und tiefgreifende Entwicklungsstörungen (LV 720631-0 08S)
DESCRIPTION:Lehrveranstaltung 720631 08S, Gruppe 0\nTitel: Klin.-Psychol. Störungsbilder: Umschriebene und tiefgreifende Entwicklungsstörungen\nOrt: 60434 SR\n\nhttps://lfuonline.uibk.ac.at/public/lfuonline_lv.details?sem_id_in=08S&lvnr_id_in=720631\n
CLASS:PUBLIC
DTSTART:20080509T063000Z
DTEND:20080509T110000Z
DTSTAMP:20260422T051300Z
LOCATION:60434 SR
END:VEVENT
BEGIN:VEVENT
UID:08S_720631_949460@uibk.ac.at
ORGANIZER;CN="LFU:online Universität Innsbruck":MAILTO:Uni-Innsbruck-noreply@uibk.ac.at
SUMMARY:Klin.-Psychol. Störungsbilder: Umschriebene und tiefgreifende Entwicklungsstörungen (LV 720631-0 08S)
DESCRIPTION:Lehrveranstaltung 720631 08S, Gruppe 0\nTitel: Klin.-Psychol. Störungsbilder: Umschriebene und tiefgreifende Entwicklungsstörungen\nOrt: 60434 SR\n\nhttps://lfuonline.uibk.ac.at/public/lfuonline_lv.details?sem_id_in=08S&lvnr_id_in=720631\n
CLASS:PUBLIC
DTSTART:20080530T063000Z
DTEND:20080530T103000Z
DTSTAMP:20260422T051300Z
LOCATION:60434 SR
END:VEVENT
BEGIN:VEVENT
UID:08S_720631_949461@uibk.ac.at
ORGANIZER;CN="LFU:online Universität Innsbruck":MAILTO:Uni-Innsbruck-noreply@uibk.ac.at
SUMMARY:Klin.-Psychol. Störungsbilder: Umschriebene und tiefgreifende Entwicklungsstörungen (LV 720631-0 08S)
DESCRIPTION:Lehrveranstaltung 720631 08S, Gruppe 0\nTitel: Klin.-Psychol. Störungsbilder: Umschriebene und tiefgreifende Entwicklungsstörungen\nOrt: 60434 SR\n\nhttps://lfuonline.uibk.ac.at/public/lfuonline_lv.details?sem_id_in=08S&lvnr_id_in=720631\n
CLASS:PUBLIC
DTSTART:20080613T063000Z
DTEND:20080613T110000Z
DTSTAMP:20260422T051300Z
LOCATION:60434 SR
END:VEVENT
END:VCALENDAR