BEGIN:VCALENDAR
VERSION:2.0
PRODID:-//Universität Innsbruck//LFU:online//DE
METHOD:PUBLISH
BEGIN:VEVENT
UID:19W_724010_3478271@uibk.ac.at
ORGANIZER;CN="LFU:online Universität Innsbruck":MAILTO:Uni-Innsbruck-noreply@uibk.ac.at
SUMMARY:PR Anorganische Synthese (6 Gruppen) (LV 724010-0 19W)
DESCRIPTION:Lehrveranstaltung 724010 19W, Gruppe 0\nTitel: PR Anorganische Synthese (6 Gruppen)\nOrt: L.EG.220\n\nhttps://lfuonline.uibk.ac.at/public/lfuonline_lv.details?sem_id_in=19W&lvnr_id_in=724010\n
CLASS:PUBLIC
DTSTART:20191121T121500Z
DTEND:20191121T130000Z
DTSTAMP:20260420T001236Z
LOCATION:L.EG.220
COMMENT:Vorbesprechung
END:VEVENT
END:VCALENDAR