BEGIN:VCALENDAR
VERSION:2.0
PRODID:-//Universität Innsbruck//LFU:online//DE
METHOD:PUBLISH
BEGIN:VEVENT
UID:21W_724010_3947656@uibk.ac.at
ORGANIZER;CN="LFU:online Universität Innsbruck":MAILTO:Uni-Innsbruck-noreply@uibk.ac.at
SUMMARY:PR Anorganische Synthese, Kurs A (3 Gruppen) (LV 724010-0 21W)
DESCRIPTION:Lehrveranstaltung 724010 21W, Gruppe 0\nTitel: PR Anorganische Synthese, Kurs A (3 Gruppen)\nOrt: L.EG.220\n\nhttps://lfuonline.uibk.ac.at/public/lfuonline_lv.details?sem_id_in=21W&lvnr_id_in=724010\n
CLASS:PUBLIC
DTSTART:20211122T120000Z
DTEND:20211122T124500Z
DTSTAMP:20260422T015701Z
LOCATION:L.EG.220
COMMENT:Vorbesprechung
END:VEVENT
BEGIN:VEVENT
UID:21W_724010_3939296@uibk.ac.at
ORGANIZER;CN="LFU:online Universität Innsbruck":MAILTO:Uni-Innsbruck-noreply@uibk.ac.at
SUMMARY:PR Anorganische Synthese, Kurs A (3 Gruppen) (LV 724010-0 21W)
DESCRIPTION:Lehrveranstaltung 724010 21W, Gruppe 0\nTitel: PR Anorganische Synthese, Kurs A (3 Gruppen)\nOrt: L.01.190\n\nhttps://lfuonline.uibk.ac.at/public/lfuonline_lv.details?sem_id_in=21W&lvnr_id_in=724010\n
CLASS:PUBLIC
DTSTART:20211122T120000Z
DTEND:20211122T170000Z
DTSTAMP:20260422T015701Z
LOCATION:L.01.190
END:VEVENT
BEGIN:VEVENT
UID:21W_724010_3939308@uibk.ac.at
ORGANIZER;CN="LFU:online Universität Innsbruck":MAILTO:Uni-Innsbruck-noreply@uibk.ac.at
SUMMARY:PR Anorganische Synthese, Kurs A (3 Gruppen) (LV 724010-0 21W)
DESCRIPTION:Lehrveranstaltung 724010 21W, Gruppe 0\nTitel: PR Anorganische Synthese, Kurs A (3 Gruppen)\nOrt: L.01.200\n\nhttps://lfuonline.uibk.ac.at/public/lfuonline_lv.details?sem_id_in=21W&lvnr_id_in=724010\n
CLASS:PUBLIC
DTSTART:20211122T120000Z
DTEND:20211122T170000Z
DTSTAMP:20260422T015701Z
LOCATION:L.01.200
END:VEVENT
BEGIN:VEVENT
UID:21W_724010_3939309@uibk.ac.at
ORGANIZER;CN="LFU:online Universität Innsbruck":MAILTO:Uni-Innsbruck-noreply@uibk.ac.at
SUMMARY:PR Anorganische Synthese, Kurs A (3 Gruppen) (LV 724010-0 21W)
DESCRIPTION:Lehrveranstaltung 724010 21W, Gruppe 0\nTitel: PR Anorganische Synthese, Kurs A (3 Gruppen)\nOrt: L.01.200\n\nhttps://lfuonline.uibk.ac.at/public/lfuonline_lv.details?sem_id_in=21W&lvnr_id_in=724010\n
CLASS:PUBLIC
DTSTART:20211123T120000Z
DTEND:20211123T170000Z
DTSTAMP:20260422T015701Z
LOCATION:L.01.200
END:VEVENT
BEGIN:VEVENT
UID:21W_724010_3939297@uibk.ac.at
ORGANIZER;CN="LFU:online Universität Innsbruck":MAILTO:Uni-Innsbruck-noreply@uibk.ac.at
SUMMARY:PR Anorganische Synthese, Kurs A (3 Gruppen) (LV 724010-0 21W)
DESCRIPTION:Lehrveranstaltung 724010 21W, Gruppe 0\nTitel: PR Anorganische Synthese, Kurs A (3 Gruppen)\nOrt: L.01.190\n\nhttps://lfuonline.uibk.ac.at/public/lfuonline_lv.details?sem_id_in=21W&lvnr_id_in=724010\n
CLASS:PUBLIC
DTSTART:20211123T120000Z
DTEND:20211123T170000Z
DTSTAMP:20260422T015701Z
LOCATION:L.01.190
END:VEVENT
BEGIN:VEVENT
UID:21W_724010_3939310@uibk.ac.at
ORGANIZER;CN="LFU:online Universität Innsbruck":MAILTO:Uni-Innsbruck-noreply@uibk.ac.at
SUMMARY:PR Anorganische Synthese, Kurs A (3 Gruppen) (LV 724010-0 21W)
DESCRIPTION:Lehrveranstaltung 724010 21W, Gruppe 0\nTitel: PR Anorganische Synthese, Kurs A (3 Gruppen)\nOrt: L.01.200\n\nhttps://lfuonline.uibk.ac.at/public/lfuonline_lv.details?sem_id_in=21W&lvnr_id_in=724010\n
CLASS:PUBLIC
DTSTART:20211124T120000Z
DTEND:20211124T170000Z
DTSTAMP:20260422T015701Z
LOCATION:L.01.200
END:VEVENT
BEGIN:VEVENT
UID:21W_724010_3939298@uibk.ac.at
ORGANIZER;CN="LFU:online Universität Innsbruck":MAILTO:Uni-Innsbruck-noreply@uibk.ac.at
SUMMARY:PR Anorganische Synthese, Kurs A (3 Gruppen) (LV 724010-0 21W)
DESCRIPTION:Lehrveranstaltung 724010 21W, Gruppe 0\nTitel: PR Anorganische Synthese, Kurs A (3 Gruppen)\nOrt: L.01.190\n\nhttps://lfuonline.uibk.ac.at/public/lfuonline_lv.details?sem_id_in=21W&lvnr_id_in=724010\n
CLASS:PUBLIC
DTSTART:20211124T120000Z
DTEND:20211124T170000Z
DTSTAMP:20260422T015701Z
LOCATION:L.01.190
END:VEVENT
BEGIN:VEVENT
UID:21W_724010_3939299@uibk.ac.at
ORGANIZER;CN="LFU:online Universität Innsbruck":MAILTO:Uni-Innsbruck-noreply@uibk.ac.at
SUMMARY:PR Anorganische Synthese, Kurs A (3 Gruppen) (LV 724010-0 21W)
DESCRIPTION:Lehrveranstaltung 724010 21W, Gruppe 0\nTitel: PR Anorganische Synthese, Kurs A (3 Gruppen)\nOrt: L.01.190\n\nhttps://lfuonline.uibk.ac.at/public/lfuonline_lv.details?sem_id_in=21W&lvnr_id_in=724010\n
CLASS:PUBLIC
DTSTART:20211125T120000Z
DTEND:20211125T170000Z
DTSTAMP:20260422T015701Z
LOCATION:L.01.190
END:VEVENT
BEGIN:VEVENT
UID:21W_724010_3939311@uibk.ac.at
ORGANIZER;CN="LFU:online Universität Innsbruck":MAILTO:Uni-Innsbruck-noreply@uibk.ac.at
SUMMARY:PR Anorganische Synthese, Kurs A (3 Gruppen) (LV 724010-0 21W)
DESCRIPTION:Lehrveranstaltung 724010 21W, Gruppe 0\nTitel: PR Anorganische Synthese, Kurs A (3 Gruppen)\nOrt: L.01.200\n\nhttps://lfuonline.uibk.ac.at/public/lfuonline_lv.details?sem_id_in=21W&lvnr_id_in=724010\n
CLASS:PUBLIC
DTSTART:20211125T120000Z
DTEND:20211125T170000Z
DTSTAMP:20260422T015701Z
LOCATION:L.01.200
END:VEVENT
BEGIN:VEVENT
UID:21W_724010_3939300@uibk.ac.at
ORGANIZER;CN="LFU:online Universität Innsbruck":MAILTO:Uni-Innsbruck-noreply@uibk.ac.at
SUMMARY:PR Anorganische Synthese, Kurs A (3 Gruppen) (LV 724010-0 21W)
DESCRIPTION:Lehrveranstaltung 724010 21W, Gruppe 0\nTitel: PR Anorganische Synthese, Kurs A (3 Gruppen)\nOrt: L.01.190\n\nhttps://lfuonline.uibk.ac.at/public/lfuonline_lv.details?sem_id_in=21W&lvnr_id_in=724010\n
CLASS:PUBLIC
DTSTART:20211126T120000Z
DTEND:20211126T170000Z
DTSTAMP:20260422T015701Z
LOCATION:L.01.190
END:VEVENT
BEGIN:VEVENT
UID:21W_724010_3939312@uibk.ac.at
ORGANIZER;CN="LFU:online Universität Innsbruck":MAILTO:Uni-Innsbruck-noreply@uibk.ac.at
SUMMARY:PR Anorganische Synthese, Kurs A (3 Gruppen) (LV 724010-0 21W)
DESCRIPTION:Lehrveranstaltung 724010 21W, Gruppe 0\nTitel: PR Anorganische Synthese, Kurs A (3 Gruppen)\nOrt: L.01.200\n\nhttps://lfuonline.uibk.ac.at/public/lfuonline_lv.details?sem_id_in=21W&lvnr_id_in=724010\n
CLASS:PUBLIC
DTSTART:20211126T120000Z
DTEND:20211126T170000Z
DTSTAMP:20260422T015701Z
LOCATION:L.01.200
END:VEVENT
BEGIN:VEVENT
UID:21W_724010_3939301@uibk.ac.at
ORGANIZER;CN="LFU:online Universität Innsbruck":MAILTO:Uni-Innsbruck-noreply@uibk.ac.at
SUMMARY:PR Anorganische Synthese, Kurs A (3 Gruppen) (LV 724010-0 21W)
DESCRIPTION:Lehrveranstaltung 724010 21W, Gruppe 0\nTitel: PR Anorganische Synthese, Kurs A (3 Gruppen)\nOrt: L.01.190\n\nhttps://lfuonline.uibk.ac.at/public/lfuonline_lv.details?sem_id_in=21W&lvnr_id_in=724010\n
CLASS:PUBLIC
DTSTART:20211129T120000Z
DTEND:20211129T170000Z
DTSTAMP:20260422T015701Z
LOCATION:L.01.190
END:VEVENT
BEGIN:VEVENT
UID:21W_724010_3939313@uibk.ac.at
ORGANIZER;CN="LFU:online Universität Innsbruck":MAILTO:Uni-Innsbruck-noreply@uibk.ac.at
SUMMARY:PR Anorganische Synthese, Kurs A (3 Gruppen) (LV 724010-0 21W)
DESCRIPTION:Lehrveranstaltung 724010 21W, Gruppe 0\nTitel: PR Anorganische Synthese, Kurs A (3 Gruppen)\nOrt: L.01.200\n\nhttps://lfuonline.uibk.ac.at/public/lfuonline_lv.details?sem_id_in=21W&lvnr_id_in=724010\n
CLASS:PUBLIC
DTSTART:20211129T120000Z
DTEND:20211129T170000Z
DTSTAMP:20260422T015701Z
LOCATION:L.01.200
END:VEVENT
BEGIN:VEVENT
UID:21W_724010_3939314@uibk.ac.at
ORGANIZER;CN="LFU:online Universität Innsbruck":MAILTO:Uni-Innsbruck-noreply@uibk.ac.at
SUMMARY:PR Anorganische Synthese, Kurs A (3 Gruppen) (LV 724010-0 21W)
DESCRIPTION:Lehrveranstaltung 724010 21W, Gruppe 0\nTitel: PR Anorganische Synthese, Kurs A (3 Gruppen)\nOrt: L.01.200\n\nhttps://lfuonline.uibk.ac.at/public/lfuonline_lv.details?sem_id_in=21W&lvnr_id_in=724010\n
CLASS:PUBLIC
DTSTART:20211130T120000Z
DTEND:20211130T170000Z
DTSTAMP:20260422T015701Z
LOCATION:L.01.200
END:VEVENT
BEGIN:VEVENT
UID:21W_724010_3939302@uibk.ac.at
ORGANIZER;CN="LFU:online Universität Innsbruck":MAILTO:Uni-Innsbruck-noreply@uibk.ac.at
SUMMARY:PR Anorganische Synthese, Kurs A (3 Gruppen) (LV 724010-0 21W)
DESCRIPTION:Lehrveranstaltung 724010 21W, Gruppe 0\nTitel: PR Anorganische Synthese, Kurs A (3 Gruppen)\nOrt: L.01.190\n\nhttps://lfuonline.uibk.ac.at/public/lfuonline_lv.details?sem_id_in=21W&lvnr_id_in=724010\n
CLASS:PUBLIC
DTSTART:20211130T120000Z
DTEND:20211130T170000Z
DTSTAMP:20260422T015701Z
LOCATION:L.01.190
END:VEVENT
BEGIN:VEVENT
UID:21W_724010_3939315@uibk.ac.at
ORGANIZER;CN="LFU:online Universität Innsbruck":MAILTO:Uni-Innsbruck-noreply@uibk.ac.at
SUMMARY:PR Anorganische Synthese, Kurs A (3 Gruppen) (LV 724010-0 21W)
DESCRIPTION:Lehrveranstaltung 724010 21W, Gruppe 0\nTitel: PR Anorganische Synthese, Kurs A (3 Gruppen)\nOrt: L.01.200\n\nhttps://lfuonline.uibk.ac.at/public/lfuonline_lv.details?sem_id_in=21W&lvnr_id_in=724010\n
CLASS:PUBLIC
DTSTART:20211201T120000Z
DTEND:20211201T170000Z
DTSTAMP:20260422T015701Z
LOCATION:L.01.200
END:VEVENT
BEGIN:VEVENT
UID:21W_724010_3939303@uibk.ac.at
ORGANIZER;CN="LFU:online Universität Innsbruck":MAILTO:Uni-Innsbruck-noreply@uibk.ac.at
SUMMARY:PR Anorganische Synthese, Kurs A (3 Gruppen) (LV 724010-0 21W)
DESCRIPTION:Lehrveranstaltung 724010 21W, Gruppe 0\nTitel: PR Anorganische Synthese, Kurs A (3 Gruppen)\nOrt: L.01.190\n\nhttps://lfuonline.uibk.ac.at/public/lfuonline_lv.details?sem_id_in=21W&lvnr_id_in=724010\n
CLASS:PUBLIC
DTSTART:20211201T120000Z
DTEND:20211201T170000Z
DTSTAMP:20260422T015701Z
LOCATION:L.01.190
END:VEVENT
BEGIN:VEVENT
UID:21W_724010_3939316@uibk.ac.at
ORGANIZER;CN="LFU:online Universität Innsbruck":MAILTO:Uni-Innsbruck-noreply@uibk.ac.at
SUMMARY:PR Anorganische Synthese, Kurs A (3 Gruppen) (LV 724010-0 21W)
DESCRIPTION:Lehrveranstaltung 724010 21W, Gruppe 0\nTitel: PR Anorganische Synthese, Kurs A (3 Gruppen)\nOrt: L.01.200\n\nhttps://lfuonline.uibk.ac.at/public/lfuonline_lv.details?sem_id_in=21W&lvnr_id_in=724010\n
CLASS:PUBLIC
DTSTART:20211202T120000Z
DTEND:20211202T170000Z
DTSTAMP:20260422T015701Z
LOCATION:L.01.200
END:VEVENT
BEGIN:VEVENT
UID:21W_724010_3939304@uibk.ac.at
ORGANIZER;CN="LFU:online Universität Innsbruck":MAILTO:Uni-Innsbruck-noreply@uibk.ac.at
SUMMARY:PR Anorganische Synthese, Kurs A (3 Gruppen) (LV 724010-0 21W)
DESCRIPTION:Lehrveranstaltung 724010 21W, Gruppe 0\nTitel: PR Anorganische Synthese, Kurs A (3 Gruppen)\nOrt: L.01.190\n\nhttps://lfuonline.uibk.ac.at/public/lfuonline_lv.details?sem_id_in=21W&lvnr_id_in=724010\n
CLASS:PUBLIC
DTSTART:20211202T120000Z
DTEND:20211202T170000Z
DTSTAMP:20260422T015701Z
LOCATION:L.01.190
END:VEVENT
BEGIN:VEVENT
UID:21W_724010_3939317@uibk.ac.at
ORGANIZER;CN="LFU:online Universität Innsbruck":MAILTO:Uni-Innsbruck-noreply@uibk.ac.at
SUMMARY:PR Anorganische Synthese, Kurs A (3 Gruppen) (LV 724010-0 21W)
DESCRIPTION:Lehrveranstaltung 724010 21W, Gruppe 0\nTitel: PR Anorganische Synthese, Kurs A (3 Gruppen)\nOrt: L.01.200\n\nhttps://lfuonline.uibk.ac.at/public/lfuonline_lv.details?sem_id_in=21W&lvnr_id_in=724010\n
CLASS:PUBLIC
DTSTART:20211203T120000Z
DTEND:20211203T170000Z
DTSTAMP:20260422T015701Z
LOCATION:L.01.200
END:VEVENT
BEGIN:VEVENT
UID:21W_724010_3939305@uibk.ac.at
ORGANIZER;CN="LFU:online Universität Innsbruck":MAILTO:Uni-Innsbruck-noreply@uibk.ac.at
SUMMARY:PR Anorganische Synthese, Kurs A (3 Gruppen) (LV 724010-0 21W)
DESCRIPTION:Lehrveranstaltung 724010 21W, Gruppe 0\nTitel: PR Anorganische Synthese, Kurs A (3 Gruppen)\nOrt: L.01.190\n\nhttps://lfuonline.uibk.ac.at/public/lfuonline_lv.details?sem_id_in=21W&lvnr_id_in=724010\n
CLASS:PUBLIC
DTSTART:20211203T120000Z
DTEND:20211203T170000Z
DTSTAMP:20260422T015701Z
LOCATION:L.01.190
END:VEVENT
BEGIN:VEVENT
UID:21W_724010_3939318@uibk.ac.at
ORGANIZER;CN="LFU:online Universität Innsbruck":MAILTO:Uni-Innsbruck-noreply@uibk.ac.at
SUMMARY:PR Anorganische Synthese, Kurs A (3 Gruppen) (LV 724010-0 21W)
DESCRIPTION:Lehrveranstaltung 724010 21W, Gruppe 0\nTitel: PR Anorganische Synthese, Kurs A (3 Gruppen)\nOrt: L.01.200\n\nhttps://lfuonline.uibk.ac.at/public/lfuonline_lv.details?sem_id_in=21W&lvnr_id_in=724010\n
CLASS:PUBLIC
DTSTART:20211206T120000Z
DTEND:20211206T170000Z
DTSTAMP:20260422T015701Z
LOCATION:L.01.200
END:VEVENT
BEGIN:VEVENT
UID:21W_724010_3939306@uibk.ac.at
ORGANIZER;CN="LFU:online Universität Innsbruck":MAILTO:Uni-Innsbruck-noreply@uibk.ac.at
SUMMARY:PR Anorganische Synthese, Kurs A (3 Gruppen) (LV 724010-0 21W)
DESCRIPTION:Lehrveranstaltung 724010 21W, Gruppe 0\nTitel: PR Anorganische Synthese, Kurs A (3 Gruppen)\nOrt: L.01.190\n\nhttps://lfuonline.uibk.ac.at/public/lfuonline_lv.details?sem_id_in=21W&lvnr_id_in=724010\n
CLASS:PUBLIC
DTSTART:20211206T120000Z
DTEND:20211206T170000Z
DTSTAMP:20260422T015701Z
LOCATION:L.01.190
END:VEVENT
BEGIN:VEVENT
UID:21W_724010_3939307@uibk.ac.at
ORGANIZER;CN="LFU:online Universität Innsbruck":MAILTO:Uni-Innsbruck-noreply@uibk.ac.at
SUMMARY:PR Anorganische Synthese, Kurs A (3 Gruppen) (LV 724010-0 21W)
DESCRIPTION:Lehrveranstaltung 724010 21W, Gruppe 0\nTitel: PR Anorganische Synthese, Kurs A (3 Gruppen)\nOrt: L.01.190\n\nhttps://lfuonline.uibk.ac.at/public/lfuonline_lv.details?sem_id_in=21W&lvnr_id_in=724010\n
CLASS:PUBLIC
DTSTART:20211207T120000Z
DTEND:20211207T170000Z
DTSTAMP:20260422T015701Z
LOCATION:L.01.190
END:VEVENT
BEGIN:VEVENT
UID:21W_724010_3939319@uibk.ac.at
ORGANIZER;CN="LFU:online Universität Innsbruck":MAILTO:Uni-Innsbruck-noreply@uibk.ac.at
SUMMARY:PR Anorganische Synthese, Kurs A (3 Gruppen) (LV 724010-0 21W)
DESCRIPTION:Lehrveranstaltung 724010 21W, Gruppe 0\nTitel: PR Anorganische Synthese, Kurs A (3 Gruppen)\nOrt: L.01.200\n\nhttps://lfuonline.uibk.ac.at/public/lfuonline_lv.details?sem_id_in=21W&lvnr_id_in=724010\n
CLASS:PUBLIC
DTSTART:20211207T120000Z
DTEND:20211207T170000Z
DTSTAMP:20260422T015701Z
LOCATION:L.01.200
END:VEVENT
END:VCALENDAR