BEGIN:VCALENDAR
VERSION:2.0
PRODID:-//Universität Innsbruck//LFU:online//DE
METHOD:PUBLISH
BEGIN:VEVENT
UID:25S_724154_4746604@uibk.ac.at
ORGANIZER;CN="LFU:online Universität Innsbruck":MAILTO:Uni-Innsbruck-noreply@uibk.ac.at
SUMMARY:VO Reaktive Hauptgruppenverbindungen (LV 724154-0 25S)
DESCRIPTION:Lehrveranstaltung 724154 25S, Gruppe 0\nTitel: VO Reaktive Hauptgruppenverbindungen\nOrt: L.01.220\n\nhttps://lfuonline.uibk.ac.at/public/lfuonline_lv.details?sem_id_in=25S&lvnr_id_in=724154\n
CLASS:PUBLIC
DTSTART:20250509T070000Z
DTEND:20250509T083000Z
DTSTAMP:20260421T190708Z
LOCATION:L.01.220
END:VEVENT
BEGIN:VEVENT
UID:25S_724154_4746605@uibk.ac.at
ORGANIZER;CN="LFU:online Universität Innsbruck":MAILTO:Uni-Innsbruck-noreply@uibk.ac.at
SUMMARY:VO Reaktive Hauptgruppenverbindungen (LV 724154-0 25S)
DESCRIPTION:Lehrveranstaltung 724154 25S, Gruppe 0\nTitel: VO Reaktive Hauptgruppenverbindungen\nOrt: L.01.220\n\nhttps://lfuonline.uibk.ac.at/public/lfuonline_lv.details?sem_id_in=25S&lvnr_id_in=724154\n
CLASS:PUBLIC
DTSTART:20250516T070000Z
DTEND:20250516T083000Z
DTSTAMP:20260421T190708Z
LOCATION:L.01.220
END:VEVENT
BEGIN:VEVENT
UID:25S_724154_4746606@uibk.ac.at
ORGANIZER;CN="LFU:online Universität Innsbruck":MAILTO:Uni-Innsbruck-noreply@uibk.ac.at
SUMMARY:VO Reaktive Hauptgruppenverbindungen (LV 724154-0 25S)
DESCRIPTION:Lehrveranstaltung 724154 25S, Gruppe 0\nTitel: VO Reaktive Hauptgruppenverbindungen\nOrt: L.01.220\n\nhttps://lfuonline.uibk.ac.at/public/lfuonline_lv.details?sem_id_in=25S&lvnr_id_in=724154\n
CLASS:PUBLIC
DTSTART:20250522T083000Z
DTEND:20250522T100000Z
DTSTAMP:20260421T190708Z
LOCATION:L.01.220
END:VEVENT
BEGIN:VEVENT
UID:25S_724154_4746607@uibk.ac.at
ORGANIZER;CN="LFU:online Universität Innsbruck":MAILTO:Uni-Innsbruck-noreply@uibk.ac.at
SUMMARY:VO Reaktive Hauptgruppenverbindungen (LV 724154-0 25S)
DESCRIPTION:Lehrveranstaltung 724154 25S, Gruppe 0\nTitel: VO Reaktive Hauptgruppenverbindungen\nOrt: L.01.220\n\nhttps://lfuonline.uibk.ac.at/public/lfuonline_lv.details?sem_id_in=25S&lvnr_id_in=724154\n
CLASS:PUBLIC
DTSTART:20250530T070000Z
DTEND:20250530T083000Z
DTSTAMP:20260421T190708Z
LOCATION:L.01.220
END:VEVENT
BEGIN:VEVENT
UID:25S_724154_4746608@uibk.ac.at
ORGANIZER;CN="LFU:online Universität Innsbruck":MAILTO:Uni-Innsbruck-noreply@uibk.ac.at
SUMMARY:VO Reaktive Hauptgruppenverbindungen (LV 724154-0 25S)
DESCRIPTION:Lehrveranstaltung 724154 25S, Gruppe 0\nTitel: VO Reaktive Hauptgruppenverbindungen\nOrt: L.01.220\n\nhttps://lfuonline.uibk.ac.at/public/lfuonline_lv.details?sem_id_in=25S&lvnr_id_in=724154\n
CLASS:PUBLIC
DTSTART:20250606T070000Z
DTEND:20250606T083000Z
DTSTAMP:20260421T190708Z
LOCATION:L.01.220
END:VEVENT
BEGIN:VEVENT
UID:25S_724154_4746609@uibk.ac.at
ORGANIZER;CN="LFU:online Universität Innsbruck":MAILTO:Uni-Innsbruck-noreply@uibk.ac.at
SUMMARY:VO Reaktive Hauptgruppenverbindungen (LV 724154-0 25S)
DESCRIPTION:Lehrveranstaltung 724154 25S, Gruppe 0\nTitel: VO Reaktive Hauptgruppenverbindungen\nOrt: L.01.220\n\nhttps://lfuonline.uibk.ac.at/public/lfuonline_lv.details?sem_id_in=25S&lvnr_id_in=724154\n
CLASS:PUBLIC
DTSTART:20250613T070000Z
DTEND:20250613T083000Z
DTSTAMP:20260421T190708Z
LOCATION:L.01.220
END:VEVENT
BEGIN:VEVENT
UID:25S_724154_4746610@uibk.ac.at
ORGANIZER;CN="LFU:online Universität Innsbruck":MAILTO:Uni-Innsbruck-noreply@uibk.ac.at
SUMMARY:VO Reaktive Hauptgruppenverbindungen (LV 724154-0 25S)
DESCRIPTION:Lehrveranstaltung 724154 25S, Gruppe 0\nTitel: VO Reaktive Hauptgruppenverbindungen\nOrt: L.01.220\n\nhttps://lfuonline.uibk.ac.at/public/lfuonline_lv.details?sem_id_in=25S&lvnr_id_in=724154\n
CLASS:PUBLIC
DTSTART:20250620T070000Z
DTEND:20250620T083000Z
DTSTAMP:20260421T190708Z
LOCATION:L.01.220
END:VEVENT
BEGIN:VEVENT
UID:25S_724154_4746611@uibk.ac.at
ORGANIZER;CN="LFU:online Universität Innsbruck":MAILTO:Uni-Innsbruck-noreply@uibk.ac.at
SUMMARY:VO Reaktive Hauptgruppenverbindungen (LV 724154-0 25S)
DESCRIPTION:Lehrveranstaltung 724154 25S, Gruppe 0\nTitel: VO Reaktive Hauptgruppenverbindungen\nOrt: L.01.220\n\nhttps://lfuonline.uibk.ac.at/public/lfuonline_lv.details?sem_id_in=25S&lvnr_id_in=724154\n
CLASS:PUBLIC
DTSTART:20250627T070000Z
DTEND:20250627T083000Z
DTSTAMP:20260421T190708Z
LOCATION:L.01.220
END:VEVENT
BEGIN:VEVENT
UID:25S_724154_4813286@uibk.ac.at
ORGANIZER;CN="LFU:online Universität Innsbruck":MAILTO:Uni-Innsbruck-noreply@uibk.ac.at
SUMMARY:VO Reaktive Hauptgruppenverbindungen (LV 724154-0 25S)
DESCRIPTION:Lehrveranstaltung 724154 25S, Gruppe 0\nTitel: VO Reaktive Hauptgruppenverbindungen\nOrt: L.01.220\n\nhttps://lfuonline.uibk.ac.at/public/lfuonline_lv.details?sem_id_in=25S&lvnr_id_in=724154\n
CLASS:PUBLIC
DTSTART:20250716T063000Z
DTEND:20250716T073000Z
DTSTAMP:20260421T190708Z
LOCATION:L.01.220
COMMENT:1. Prüfungstermin
END:VEVENT
BEGIN:VEVENT
UID:25S_724154_4813291@uibk.ac.at
ORGANIZER;CN="LFU:online Universität Innsbruck":MAILTO:Uni-Innsbruck-noreply@uibk.ac.at
SUMMARY:VO Reaktive Hauptgruppenverbindungen (LV 724154-0 25S)
DESCRIPTION:Lehrveranstaltung 724154 25S, Gruppe 0\nTitel: VO Reaktive Hauptgruppenverbindungen\nOrt: L.01.220\n\nhttps://lfuonline.uibk.ac.at/public/lfuonline_lv.details?sem_id_in=25S&lvnr_id_in=724154\n
CLASS:PUBLIC
DTSTART:20251014T060000Z
DTEND:20251014T073000Z
DTSTAMP:20260421T190708Z
LOCATION:L.01.220
COMMENT:2. Prüfungstermin
END:VEVENT
END:VCALENDAR