BEGIN:VCALENDAR
VERSION:2.0
PRODID:-//Universität Innsbruck//LFU:online//DE
METHOD:PUBLISH
BEGIN:VEVENT
UID:25S_724155_4746448@uibk.ac.at
ORGANIZER;CN="LFU:online Universität Innsbruck":MAILTO:Uni-Innsbruck-noreply@uibk.ac.at
SUMMARY:VO Chemie der f-Elemente (LV 724155-0 25S)
DESCRIPTION:Lehrveranstaltung 724155 25S, Gruppe 0\nTitel: VO Chemie der f-Elemente\nOrt: L.01.220\n\nhttps://lfuonline.uibk.ac.at/public/lfuonline_lv.details?sem_id_in=25S&lvnr_id_in=724155\n
CLASS:PUBLIC
DTSTART:20250304T091500Z
DTEND:20250304T104500Z
DTSTAMP:20260421T190708Z
LOCATION:L.01.220
END:VEVENT
BEGIN:VEVENT
UID:25S_724155_4746449@uibk.ac.at
ORGANIZER;CN="LFU:online Universität Innsbruck":MAILTO:Uni-Innsbruck-noreply@uibk.ac.at
SUMMARY:VO Chemie der f-Elemente (LV 724155-0 25S)
DESCRIPTION:Lehrveranstaltung 724155 25S, Gruppe 0\nTitel: VO Chemie der f-Elemente\nOrt: L.01.220\n\nhttps://lfuonline.uibk.ac.at/public/lfuonline_lv.details?sem_id_in=25S&lvnr_id_in=724155\n
CLASS:PUBLIC
DTSTART:20250311T091500Z
DTEND:20250311T104500Z
DTSTAMP:20260421T190708Z
LOCATION:L.01.220
END:VEVENT
BEGIN:VEVENT
UID:25S_724155_4746450@uibk.ac.at
ORGANIZER;CN="LFU:online Universität Innsbruck":MAILTO:Uni-Innsbruck-noreply@uibk.ac.at
SUMMARY:VO Chemie der f-Elemente (LV 724155-0 25S)
DESCRIPTION:Lehrveranstaltung 724155 25S, Gruppe 0\nTitel: VO Chemie der f-Elemente\nOrt: L.01.220\n\nhttps://lfuonline.uibk.ac.at/public/lfuonline_lv.details?sem_id_in=25S&lvnr_id_in=724155\n
CLASS:PUBLIC
DTSTART:20250318T091500Z
DTEND:20250318T104500Z
DTSTAMP:20260421T190708Z
LOCATION:L.01.220
END:VEVENT
BEGIN:VEVENT
UID:25S_724155_4746451@uibk.ac.at
ORGANIZER;CN="LFU:online Universität Innsbruck":MAILTO:Uni-Innsbruck-noreply@uibk.ac.at
SUMMARY:VO Chemie der f-Elemente (LV 724155-0 25S)
DESCRIPTION:Lehrveranstaltung 724155 25S, Gruppe 0\nTitel: VO Chemie der f-Elemente\nOrt: L.01.220\n\nhttps://lfuonline.uibk.ac.at/public/lfuonline_lv.details?sem_id_in=25S&lvnr_id_in=724155\n
CLASS:PUBLIC
DTSTART:20250325T091500Z
DTEND:20250325T104500Z
DTSTAMP:20260421T190708Z
LOCATION:L.01.220
END:VEVENT
BEGIN:VEVENT
UID:25S_724155_4746452@uibk.ac.at
ORGANIZER;CN="LFU:online Universität Innsbruck":MAILTO:Uni-Innsbruck-noreply@uibk.ac.at
SUMMARY:VO Chemie der f-Elemente (LV 724155-0 25S)
DESCRIPTION:Lehrveranstaltung 724155 25S, Gruppe 0\nTitel: VO Chemie der f-Elemente\nOrt: L.01.220\n\nhttps://lfuonline.uibk.ac.at/public/lfuonline_lv.details?sem_id_in=25S&lvnr_id_in=724155\n
CLASS:PUBLIC
DTSTART:20250401T081500Z
DTEND:20250401T094500Z
DTSTAMP:20260421T190708Z
LOCATION:L.01.220
END:VEVENT
BEGIN:VEVENT
UID:25S_724155_4746453@uibk.ac.at
ORGANIZER;CN="LFU:online Universität Innsbruck":MAILTO:Uni-Innsbruck-noreply@uibk.ac.at
SUMMARY:VO Chemie der f-Elemente (LV 724155-0 25S)
DESCRIPTION:Lehrveranstaltung 724155 25S, Gruppe 0\nTitel: VO Chemie der f-Elemente\nOrt: L.01.220\n\nhttps://lfuonline.uibk.ac.at/public/lfuonline_lv.details?sem_id_in=25S&lvnr_id_in=724155\n
CLASS:PUBLIC
DTSTART:20250408T081500Z
DTEND:20250408T094500Z
DTSTAMP:20260421T190708Z
LOCATION:L.01.220
END:VEVENT
BEGIN:VEVENT
UID:25S_724155_4746454@uibk.ac.at
ORGANIZER;CN="LFU:online Universität Innsbruck":MAILTO:Uni-Innsbruck-noreply@uibk.ac.at
SUMMARY:VO Chemie der f-Elemente (LV 724155-0 25S)
DESCRIPTION:Lehrveranstaltung 724155 25S, Gruppe 0\nTitel: VO Chemie der f-Elemente\nOrt: L.01.220\n\nhttps://lfuonline.uibk.ac.at/public/lfuonline_lv.details?sem_id_in=25S&lvnr_id_in=724155\n
CLASS:PUBLIC
DTSTART:20250429T081500Z
DTEND:20250429T094500Z
DTSTAMP:20260421T190708Z
LOCATION:L.01.220
END:VEVENT
BEGIN:VEVENT
UID:25S_724155_4746455@uibk.ac.at
ORGANIZER;CN="LFU:online Universität Innsbruck":MAILTO:Uni-Innsbruck-noreply@uibk.ac.at
SUMMARY:VO Chemie der f-Elemente (LV 724155-0 25S)
DESCRIPTION:Lehrveranstaltung 724155 25S, Gruppe 0\nTitel: VO Chemie der f-Elemente\nOrt: L.01.220\n\nhttps://lfuonline.uibk.ac.at/public/lfuonline_lv.details?sem_id_in=25S&lvnr_id_in=724155\n
CLASS:PUBLIC
DTSTART:20250506T081500Z
DTEND:20250506T094500Z
DTSTAMP:20260421T190708Z
LOCATION:L.01.220
END:VEVENT
BEGIN:VEVENT
UID:25S_724155_4890589@uibk.ac.at
ORGANIZER;CN="LFU:online Universität Innsbruck":MAILTO:Uni-Innsbruck-noreply@uibk.ac.at
SUMMARY:VO Chemie der f-Elemente (LV 724155-0 25S)
DESCRIPTION:Lehrveranstaltung 724155 25S, Gruppe 0\nTitel: VO Chemie der f-Elemente\nOrt: M.EG.180\n\nhttps://lfuonline.uibk.ac.at/public/lfuonline_lv.details?sem_id_in=25S&lvnr_id_in=724155\n
CLASS:PUBLIC
DTSTART:20250513T081500Z
DTEND:20250513T094500Z
DTSTAMP:20260421T190708Z
LOCATION:M.EG.180
COMMENT:Nachholtermin
END:VEVENT
END:VCALENDAR