BEGIN:VCALENDAR
VERSION:2.0
PRODID:-//Universität Innsbruck//LFU:online//DE
METHOD:PUBLISH
BEGIN:VEVENT
UID:25S_724156_4761036@uibk.ac.at
ORGANIZER;CN="LFU:online Universität Innsbruck":MAILTO:Uni-Innsbruck-noreply@uibk.ac.at
SUMMARY:VO Heterokern-NMR-Spektroskopie (LV 724156-0 25S)
DESCRIPTION:Lehrveranstaltung 724156 25S, Gruppe 0\nTitel: VO Heterokern-NMR-Spektroskopie\nOrt: L.EG.220\n\nhttps://lfuonline.uibk.ac.at/public/lfuonline_lv.details?sem_id_in=25S&lvnr_id_in=724156\n
CLASS:PUBLIC
DTSTART:20250410T083000Z
DTEND:20250410T100000Z
DTSTAMP:20260421T204258Z
LOCATION:L.EG.220
END:VEVENT
BEGIN:VEVENT
UID:25S_724156_4761037@uibk.ac.at
ORGANIZER;CN="LFU:online Universität Innsbruck":MAILTO:Uni-Innsbruck-noreply@uibk.ac.at
SUMMARY:VO Heterokern-NMR-Spektroskopie (LV 724156-0 25S)
DESCRIPTION:Lehrveranstaltung 724156 25S, Gruppe 0\nTitel: VO Heterokern-NMR-Spektroskopie\nOrt: L.EG.220\n\nhttps://lfuonline.uibk.ac.at/public/lfuonline_lv.details?sem_id_in=25S&lvnr_id_in=724156\n
CLASS:PUBLIC
DTSTART:20250508T083000Z
DTEND:20250508T100000Z
DTSTAMP:20260421T204258Z
LOCATION:L.EG.220
END:VEVENT
BEGIN:VEVENT
UID:25S_724156_4761038@uibk.ac.at
ORGANIZER;CN="LFU:online Universität Innsbruck":MAILTO:Uni-Innsbruck-noreply@uibk.ac.at
SUMMARY:VO Heterokern-NMR-Spektroskopie (LV 724156-0 25S)
DESCRIPTION:Lehrveranstaltung 724156 25S, Gruppe 0\nTitel: VO Heterokern-NMR-Spektroskopie\nOrt: L.EG.220\n\nhttps://lfuonline.uibk.ac.at/public/lfuonline_lv.details?sem_id_in=25S&lvnr_id_in=724156\n
CLASS:PUBLIC
DTSTART:20250515T083000Z
DTEND:20250515T100000Z
DTSTAMP:20260421T204258Z
LOCATION:L.EG.220
END:VEVENT
BEGIN:VEVENT
UID:25S_724156_4761039@uibk.ac.at
ORGANIZER;CN="LFU:online Universität Innsbruck":MAILTO:Uni-Innsbruck-noreply@uibk.ac.at
SUMMARY:VO Heterokern-NMR-Spektroskopie (LV 724156-0 25S)
DESCRIPTION:Lehrveranstaltung 724156 25S, Gruppe 0\nTitel: VO Heterokern-NMR-Spektroskopie\nOrt: L.EG.220\n\nhttps://lfuonline.uibk.ac.at/public/lfuonline_lv.details?sem_id_in=25S&lvnr_id_in=724156\n
CLASS:PUBLIC
DTSTART:20250522T083000Z
DTEND:20250522T100000Z
DTSTAMP:20260421T204258Z
LOCATION:L.EG.220
END:VEVENT
BEGIN:VEVENT
UID:25S_724156_4761040@uibk.ac.at
ORGANIZER;CN="LFU:online Universität Innsbruck":MAILTO:Uni-Innsbruck-noreply@uibk.ac.at
SUMMARY:VO Heterokern-NMR-Spektroskopie (LV 724156-0 25S)
DESCRIPTION:Lehrveranstaltung 724156 25S, Gruppe 0\nTitel: VO Heterokern-NMR-Spektroskopie\nOrt: L.EG.220\n\nhttps://lfuonline.uibk.ac.at/public/lfuonline_lv.details?sem_id_in=25S&lvnr_id_in=724156\n
CLASS:PUBLIC
DTSTART:20250605T083000Z
DTEND:20250605T100000Z
DTSTAMP:20260421T204258Z
LOCATION:L.EG.220
END:VEVENT
BEGIN:VEVENT
UID:25S_724156_4761041@uibk.ac.at
ORGANIZER;CN="LFU:online Universität Innsbruck":MAILTO:Uni-Innsbruck-noreply@uibk.ac.at
SUMMARY:VO Heterokern-NMR-Spektroskopie (LV 724156-0 25S)
DESCRIPTION:Lehrveranstaltung 724156 25S, Gruppe 0\nTitel: VO Heterokern-NMR-Spektroskopie\nOrt: L.EG.220\n\nhttps://lfuonline.uibk.ac.at/public/lfuonline_lv.details?sem_id_in=25S&lvnr_id_in=724156\n
CLASS:PUBLIC
DTSTART:20250612T083000Z
DTEND:20250612T100000Z
DTSTAMP:20260421T204258Z
LOCATION:L.EG.220
END:VEVENT
BEGIN:VEVENT
UID:25S_724156_4761042@uibk.ac.at
ORGANIZER;CN="LFU:online Universität Innsbruck":MAILTO:Uni-Innsbruck-noreply@uibk.ac.at
SUMMARY:VO Heterokern-NMR-Spektroskopie (LV 724156-0 25S)
DESCRIPTION:Lehrveranstaltung 724156 25S, Gruppe 0\nTitel: VO Heterokern-NMR-Spektroskopie\nOrt: L.EG.220\n\nhttps://lfuonline.uibk.ac.at/public/lfuonline_lv.details?sem_id_in=25S&lvnr_id_in=724156\n
CLASS:PUBLIC
DTSTART:20250626T083000Z
DTEND:20250626T100000Z
DTSTAMP:20260421T204258Z
LOCATION:L.EG.220
END:VEVENT
BEGIN:VEVENT
UID:25S_724156_4926602@uibk.ac.at
ORGANIZER;CN="LFU:online Universität Innsbruck":MAILTO:Uni-Innsbruck-noreply@uibk.ac.at
SUMMARY:VO Heterokern-NMR-Spektroskopie (LV 724156-0 25S)
DESCRIPTION:Lehrveranstaltung 724156 25S, Gruppe 0\nTitel: VO Heterokern-NMR-Spektroskopie\nOrt: L.EG.220\n\nhttps://lfuonline.uibk.ac.at/public/lfuonline_lv.details?sem_id_in=25S&lvnr_id_in=724156\n
CLASS:PUBLIC
DTSTART:20250704T083000Z
DTEND:20250704T091500Z
DTSTAMP:20260421T204258Z
LOCATION:L.EG.220
COMMENT:1. Prüfungstermin
END:VEVENT
BEGIN:VEVENT
UID:25S_724156_4926603@uibk.ac.at
ORGANIZER;CN="LFU:online Universität Innsbruck":MAILTO:Uni-Innsbruck-noreply@uibk.ac.at
SUMMARY:VO Heterokern-NMR-Spektroskopie (LV 724156-0 25S)
DESCRIPTION:Lehrveranstaltung 724156 25S, Gruppe 0\nTitel: VO Heterokern-NMR-Spektroskopie\nOrt: L.EG.220\n\nhttps://lfuonline.uibk.ac.at/public/lfuonline_lv.details?sem_id_in=25S&lvnr_id_in=724156\n
CLASS:PUBLIC
DTSTART:20250808T083000Z
DTEND:20250808T091500Z
DTSTAMP:20260421T204258Z
LOCATION:L.EG.220
COMMENT:2. Prüfungstermin
END:VEVENT
BEGIN:VEVENT
UID:25S_724156_4926604@uibk.ac.at
ORGANIZER;CN="LFU:online Universität Innsbruck":MAILTO:Uni-Innsbruck-noreply@uibk.ac.at
SUMMARY:VO Heterokern-NMR-Spektroskopie (LV 724156-0 25S)
DESCRIPTION:Lehrveranstaltung 724156 25S, Gruppe 0\nTitel: VO Heterokern-NMR-Spektroskopie\nOrt: L.01.220\n\nhttps://lfuonline.uibk.ac.at/public/lfuonline_lv.details?sem_id_in=25S&lvnr_id_in=724156\n
CLASS:PUBLIC
DTSTART:20250912T083000Z
DTEND:20250912T091500Z
DTSTAMP:20260421T204258Z
LOCATION:L.01.220
COMMENT:3. Prüfungstermin
END:VEVENT
END:VCALENDAR