BEGIN:VCALENDAR
VERSION:2.0
PRODID:-//Universität Innsbruck//LFU:online//DE
METHOD:PUBLISH
BEGIN:VEVENT
UID:26S_740050_4962551@uibk.ac.at
ORGANIZER;CN="LFU:online Universität Innsbruck":MAILTO:Uni-Innsbruck-noreply@uibk.ac.at
SUMMARY:VO Biochemie (LV 740050-0 26S)
DESCRIPTION:Lehrveranstaltung 740050 26S, Gruppe 0\nTitel: VO Biochemie\nOrt: M.EG.180\n\nhttps://lfuonline.uibk.ac.at/public/lfuonline_lv.details?sem_id_in=26S&lvnr_id_in=740050\n
CLASS:PUBLIC
DTSTART:20260302T093000Z
DTEND:20260302T114500Z
DTSTAMP:20260422T053730Z
LOCATION:M.EG.180
END:VEVENT
BEGIN:VEVENT
UID:26S_740050_4962552@uibk.ac.at
ORGANIZER;CN="LFU:online Universität Innsbruck":MAILTO:Uni-Innsbruck-noreply@uibk.ac.at
SUMMARY:VO Biochemie (LV 740050-0 26S)
DESCRIPTION:Lehrveranstaltung 740050 26S, Gruppe 0\nTitel: VO Biochemie\nOrt: M.EG.180\n\nhttps://lfuonline.uibk.ac.at/public/lfuonline_lv.details?sem_id_in=26S&lvnr_id_in=740050\n
CLASS:PUBLIC
DTSTART:20260309T093000Z
DTEND:20260309T114500Z
DTSTAMP:20260422T053730Z
LOCATION:M.EG.180
END:VEVENT
BEGIN:VEVENT
UID:26S_740050_4962553@uibk.ac.at
ORGANIZER;CN="LFU:online Universität Innsbruck":MAILTO:Uni-Innsbruck-noreply@uibk.ac.at
SUMMARY:VO Biochemie (LV 740050-0 26S)
DESCRIPTION:Lehrveranstaltung 740050 26S, Gruppe 0\nTitel: VO Biochemie\nOrt: M.EG.180\n\nhttps://lfuonline.uibk.ac.at/public/lfuonline_lv.details?sem_id_in=26S&lvnr_id_in=740050\n
CLASS:PUBLIC
DTSTART:20260316T093000Z
DTEND:20260316T114500Z
DTSTAMP:20260422T053730Z
LOCATION:M.EG.180
END:VEVENT
BEGIN:VEVENT
UID:26S_740050_5068530@uibk.ac.at
ORGANIZER;CN="LFU:online Universität Innsbruck":MAILTO:Uni-Innsbruck-noreply@uibk.ac.at
SUMMARY:VO Biochemie (LV 740050-0 26S)
DESCRIPTION:Lehrveranstaltung 740050 26S, Gruppe 0\nTitel: VO Biochemie\nOrt: Audimax\n\nhttps://lfuonline.uibk.ac.at/public/lfuonline_lv.details?sem_id_in=26S&lvnr_id_in=740050\n
CLASS:PUBLIC
DTSTART:20260318T161500Z
DTEND:20260318T181500Z
DTSTAMP:20260422T053730Z
LOCATION:Audimax
COMMENT:Tutorium
END:VEVENT
BEGIN:VEVENT
UID:26S_740050_4962554@uibk.ac.at
ORGANIZER;CN="LFU:online Universität Innsbruck":MAILTO:Uni-Innsbruck-noreply@uibk.ac.at
SUMMARY:VO Biochemie (LV 740050-0 26S)
DESCRIPTION:Lehrveranstaltung 740050 26S, Gruppe 0\nTitel: VO Biochemie\nOrt: M.EG.180\n\nhttps://lfuonline.uibk.ac.at/public/lfuonline_lv.details?sem_id_in=26S&lvnr_id_in=740050\n
CLASS:PUBLIC
DTSTART:20260323T093000Z
DTEND:20260323T114500Z
DTSTAMP:20260422T053730Z
LOCATION:M.EG.180
END:VEVENT
BEGIN:VEVENT
UID:26S_740050_4962555@uibk.ac.at
ORGANIZER;CN="LFU:online Universität Innsbruck":MAILTO:Uni-Innsbruck-noreply@uibk.ac.at
SUMMARY:VO Biochemie (LV 740050-0 26S)
DESCRIPTION:Lehrveranstaltung 740050 26S, Gruppe 0\nTitel: VO Biochemie\nOrt: M.EG.180\n\nhttps://lfuonline.uibk.ac.at/public/lfuonline_lv.details?sem_id_in=26S&lvnr_id_in=740050\n
CLASS:PUBLIC
DTSTART:20260413T083000Z
DTEND:20260413T104500Z
DTSTAMP:20260422T053730Z
LOCATION:M.EG.180
END:VEVENT
BEGIN:VEVENT
UID:26S_740050_5068531@uibk.ac.at
ORGANIZER;CN="LFU:online Universität Innsbruck":MAILTO:Uni-Innsbruck-noreply@uibk.ac.at
SUMMARY:VO Biochemie (LV 740050-0 26S)
DESCRIPTION:Lehrveranstaltung 740050 26S, Gruppe 0\nTitel: VO Biochemie\nOrt: Audimax\n\nhttps://lfuonline.uibk.ac.at/public/lfuonline_lv.details?sem_id_in=26S&lvnr_id_in=740050\n
CLASS:PUBLIC
DTSTART:20260415T151500Z
DTEND:20260415T171500Z
DTSTAMP:20260422T053730Z
LOCATION:Audimax
COMMENT:Tutorium
END:VEVENT
BEGIN:VEVENT
UID:26S_740050_4962556@uibk.ac.at
ORGANIZER;CN="LFU:online Universität Innsbruck":MAILTO:Uni-Innsbruck-noreply@uibk.ac.at
SUMMARY:VO Biochemie (LV 740050-0 26S)
DESCRIPTION:Lehrveranstaltung 740050 26S, Gruppe 0\nTitel: VO Biochemie\nOrt: M.EG.180\n\nhttps://lfuonline.uibk.ac.at/public/lfuonline_lv.details?sem_id_in=26S&lvnr_id_in=740050\n
CLASS:PUBLIC
DTSTART:20260420T083000Z
DTEND:20260420T104500Z
DTSTAMP:20260422T053730Z
LOCATION:M.EG.180
END:VEVENT
BEGIN:VEVENT
UID:26S_740050_5068532@uibk.ac.at
ORGANIZER;CN="LFU:online Universität Innsbruck":MAILTO:Uni-Innsbruck-noreply@uibk.ac.at
SUMMARY:VO Biochemie (LV 740050-0 26S)
DESCRIPTION:Lehrveranstaltung 740050 26S, Gruppe 0\nTitel: VO Biochemie\nOrt: Audimax\n\nhttps://lfuonline.uibk.ac.at/public/lfuonline_lv.details?sem_id_in=26S&lvnr_id_in=740050\n
CLASS:PUBLIC
DTSTART:20260422T151500Z
DTEND:20260422T171500Z
DTSTAMP:20260422T053730Z
LOCATION:Audimax
COMMENT:Tutorium
END:VEVENT
BEGIN:VEVENT
UID:26S_740050_4962557@uibk.ac.at
ORGANIZER;CN="LFU:online Universität Innsbruck":MAILTO:Uni-Innsbruck-noreply@uibk.ac.at
SUMMARY:VO Biochemie (LV 740050-0 26S)
DESCRIPTION:Lehrveranstaltung 740050 26S, Gruppe 0\nTitel: VO Biochemie\nOrt: M.EG.180\n\nhttps://lfuonline.uibk.ac.at/public/lfuonline_lv.details?sem_id_in=26S&lvnr_id_in=740050\n
CLASS:PUBLIC
DTSTART:20260427T083000Z
DTEND:20260427T104500Z
DTSTAMP:20260422T053730Z
LOCATION:M.EG.180
END:VEVENT
BEGIN:VEVENT
UID:26S_740050_5068533@uibk.ac.at
ORGANIZER;CN="LFU:online Universität Innsbruck":MAILTO:Uni-Innsbruck-noreply@uibk.ac.at
SUMMARY:VO Biochemie (LV 740050-0 26S)
DESCRIPTION:Lehrveranstaltung 740050 26S, Gruppe 0\nTitel: VO Biochemie\nOrt: L.EG.200\n\nhttps://lfuonline.uibk.ac.at/public/lfuonline_lv.details?sem_id_in=26S&lvnr_id_in=740050\n
CLASS:PUBLIC
DTSTART:20260429T151500Z
DTEND:20260429T171500Z
DTSTAMP:20260422T053730Z
LOCATION:L.EG.200
COMMENT:Tutorium
END:VEVENT
BEGIN:VEVENT
UID:26S_740050_4962558@uibk.ac.at
ORGANIZER;CN="LFU:online Universität Innsbruck":MAILTO:Uni-Innsbruck-noreply@uibk.ac.at
SUMMARY:VO Biochemie (LV 740050-0 26S)
DESCRIPTION:Lehrveranstaltung 740050 26S, Gruppe 0\nTitel: VO Biochemie\nOrt: M.EG.180\n\nhttps://lfuonline.uibk.ac.at/public/lfuonline_lv.details?sem_id_in=26S&lvnr_id_in=740050\n
CLASS:PUBLIC
DTSTART:20260504T083000Z
DTEND:20260504T104500Z
DTSTAMP:20260422T053730Z
LOCATION:M.EG.180
END:VEVENT
BEGIN:VEVENT
UID:26S_740050_5068534@uibk.ac.at
ORGANIZER;CN="LFU:online Universität Innsbruck":MAILTO:Uni-Innsbruck-noreply@uibk.ac.at
SUMMARY:VO Biochemie (LV 740050-0 26S)
DESCRIPTION:Lehrveranstaltung 740050 26S, Gruppe 0\nTitel: VO Biochemie\nOrt: L.EG.200\n\nhttps://lfuonline.uibk.ac.at/public/lfuonline_lv.details?sem_id_in=26S&lvnr_id_in=740050\n
CLASS:PUBLIC
DTSTART:20260506T151500Z
DTEND:20260506T171500Z
DTSTAMP:20260422T053730Z
LOCATION:L.EG.200
COMMENT:Tutorium
END:VEVENT
BEGIN:VEVENT
UID:26S_740050_4962559@uibk.ac.at
ORGANIZER;CN="LFU:online Universität Innsbruck":MAILTO:Uni-Innsbruck-noreply@uibk.ac.at
SUMMARY:VO Biochemie (LV 740050-0 26S)
DESCRIPTION:Lehrveranstaltung 740050 26S, Gruppe 0\nTitel: VO Biochemie\nOrt: M.EG.180\n\nhttps://lfuonline.uibk.ac.at/public/lfuonline_lv.details?sem_id_in=26S&lvnr_id_in=740050\n
CLASS:PUBLIC
DTSTART:20260511T083000Z
DTEND:20260511T104500Z
DTSTAMP:20260422T053730Z
LOCATION:M.EG.180
END:VEVENT
BEGIN:VEVENT
UID:26S_740050_5068535@uibk.ac.at
ORGANIZER;CN="LFU:online Universität Innsbruck":MAILTO:Uni-Innsbruck-noreply@uibk.ac.at
SUMMARY:VO Biochemie (LV 740050-0 26S)
DESCRIPTION:Lehrveranstaltung 740050 26S, Gruppe 0\nTitel: VO Biochemie\nOrt: L.EG.200\n\nhttps://lfuonline.uibk.ac.at/public/lfuonline_lv.details?sem_id_in=26S&lvnr_id_in=740050\n
CLASS:PUBLIC
DTSTART:20260513T151500Z
DTEND:20260513T171500Z
DTSTAMP:20260422T053730Z
LOCATION:L.EG.200
COMMENT:Tutorium
END:VEVENT
BEGIN:VEVENT
UID:26S_740050_4962560@uibk.ac.at
ORGANIZER;CN="LFU:online Universität Innsbruck":MAILTO:Uni-Innsbruck-noreply@uibk.ac.at
SUMMARY:VO Biochemie (LV 740050-0 26S)
DESCRIPTION:Lehrveranstaltung 740050 26S, Gruppe 0\nTitel: VO Biochemie\nOrt: M.EG.180\n\nhttps://lfuonline.uibk.ac.at/public/lfuonline_lv.details?sem_id_in=26S&lvnr_id_in=740050\n
CLASS:PUBLIC
DTSTART:20260518T083000Z
DTEND:20260518T104500Z
DTSTAMP:20260422T053730Z
LOCATION:M.EG.180
END:VEVENT
BEGIN:VEVENT
UID:26S_740050_5068536@uibk.ac.at
ORGANIZER;CN="LFU:online Universität Innsbruck":MAILTO:Uni-Innsbruck-noreply@uibk.ac.at
SUMMARY:VO Biochemie (LV 740050-0 26S)
DESCRIPTION:Lehrveranstaltung 740050 26S, Gruppe 0\nTitel: VO Biochemie\nOrt: L.EG.200\n\nhttps://lfuonline.uibk.ac.at/public/lfuonline_lv.details?sem_id_in=26S&lvnr_id_in=740050\n
CLASS:PUBLIC
DTSTART:20260520T151500Z
DTEND:20260520T171500Z
DTSTAMP:20260422T053730Z
LOCATION:L.EG.200
COMMENT:Tutorium
END:VEVENT
BEGIN:VEVENT
UID:26S_740050_5068537@uibk.ac.at
ORGANIZER;CN="LFU:online Universität Innsbruck":MAILTO:Uni-Innsbruck-noreply@uibk.ac.at
SUMMARY:VO Biochemie (LV 740050-0 26S)
DESCRIPTION:Lehrveranstaltung 740050 26S, Gruppe 0\nTitel: VO Biochemie\nOrt: L.EG.200\n\nhttps://lfuonline.uibk.ac.at/public/lfuonline_lv.details?sem_id_in=26S&lvnr_id_in=740050\n
CLASS:PUBLIC
DTSTART:20260527T151500Z
DTEND:20260527T171500Z
DTSTAMP:20260422T053730Z
LOCATION:L.EG.200
COMMENT:Tutorium
END:VEVENT
BEGIN:VEVENT
UID:26S_740050_4962562@uibk.ac.at
ORGANIZER;CN="LFU:online Universität Innsbruck":MAILTO:Uni-Innsbruck-noreply@uibk.ac.at
SUMMARY:VO Biochemie (LV 740050-0 26S)
DESCRIPTION:Lehrveranstaltung 740050 26S, Gruppe 0\nTitel: VO Biochemie\nOrt: M.EG.180\n\nhttps://lfuonline.uibk.ac.at/public/lfuonline_lv.details?sem_id_in=26S&lvnr_id_in=740050\n
CLASS:PUBLIC
DTSTART:20260601T083000Z
DTEND:20260601T104500Z
DTSTAMP:20260422T053730Z
LOCATION:M.EG.180
END:VEVENT
BEGIN:VEVENT
UID:26S_740050_5068538@uibk.ac.at
ORGANIZER;CN="LFU:online Universität Innsbruck":MAILTO:Uni-Innsbruck-noreply@uibk.ac.at
SUMMARY:VO Biochemie (LV 740050-0 26S)
DESCRIPTION:Lehrveranstaltung 740050 26S, Gruppe 0\nTitel: VO Biochemie\nOrt: L.EG.200\n\nhttps://lfuonline.uibk.ac.at/public/lfuonline_lv.details?sem_id_in=26S&lvnr_id_in=740050\n
CLASS:PUBLIC
DTSTART:20260603T151500Z
DTEND:20260603T171500Z
DTSTAMP:20260422T053730Z
LOCATION:L.EG.200
COMMENT:Tutorium
END:VEVENT
BEGIN:VEVENT
UID:26S_740050_4962563@uibk.ac.at
ORGANIZER;CN="LFU:online Universität Innsbruck":MAILTO:Uni-Innsbruck-noreply@uibk.ac.at
SUMMARY:VO Biochemie (LV 740050-0 26S)
DESCRIPTION:Lehrveranstaltung 740050 26S, Gruppe 0\nTitel: VO Biochemie\nOrt: M.EG.180\n\nhttps://lfuonline.uibk.ac.at/public/lfuonline_lv.details?sem_id_in=26S&lvnr_id_in=740050\n
CLASS:PUBLIC
DTSTART:20260608T083000Z
DTEND:20260608T104500Z
DTSTAMP:20260422T053730Z
LOCATION:M.EG.180
END:VEVENT
BEGIN:VEVENT
UID:26S_740050_5068539@uibk.ac.at
ORGANIZER;CN="LFU:online Universität Innsbruck":MAILTO:Uni-Innsbruck-noreply@uibk.ac.at
SUMMARY:VO Biochemie (LV 740050-0 26S)
DESCRIPTION:Lehrveranstaltung 740050 26S, Gruppe 0\nTitel: VO Biochemie\nOrt: L.EG.200\n\nhttps://lfuonline.uibk.ac.at/public/lfuonline_lv.details?sem_id_in=26S&lvnr_id_in=740050\n
CLASS:PUBLIC
DTSTART:20260610T151500Z
DTEND:20260610T171500Z
DTSTAMP:20260422T053730Z
LOCATION:L.EG.200
COMMENT:Tutorium
END:VEVENT
BEGIN:VEVENT
UID:26S_740050_4962565@uibk.ac.at
ORGANIZER;CN="LFU:online Universität Innsbruck":MAILTO:Uni-Innsbruck-noreply@uibk.ac.at
SUMMARY:VO Biochemie (LV 740050-0 26S)
DESCRIPTION:Lehrveranstaltung 740050 26S, Gruppe 0\nTitel: VO Biochemie\nOrt: M.EG.180\n\nhttps://lfuonline.uibk.ac.at/public/lfuonline_lv.details?sem_id_in=26S&lvnr_id_in=740050\n
CLASS:PUBLIC
DTSTART:20260615T083000Z
DTEND:20260615T104500Z
DTSTAMP:20260422T053730Z
LOCATION:M.EG.180
END:VEVENT
BEGIN:VEVENT
UID:26S_740050_5068540@uibk.ac.at
ORGANIZER;CN="LFU:online Universität Innsbruck":MAILTO:Uni-Innsbruck-noreply@uibk.ac.at
SUMMARY:VO Biochemie (LV 740050-0 26S)
DESCRIPTION:Lehrveranstaltung 740050 26S, Gruppe 0\nTitel: VO Biochemie\nOrt: L.EG.200\n\nhttps://lfuonline.uibk.ac.at/public/lfuonline_lv.details?sem_id_in=26S&lvnr_id_in=740050\n
CLASS:PUBLIC
DTSTART:20260617T151500Z
DTEND:20260617T171500Z
DTSTAMP:20260422T053730Z
LOCATION:L.EG.200
COMMENT:Tutorium
END:VEVENT
BEGIN:VEVENT
UID:26S_740050_4962567@uibk.ac.at
ORGANIZER;CN="LFU:online Universität Innsbruck":MAILTO:Uni-Innsbruck-noreply@uibk.ac.at
SUMMARY:VO Biochemie (LV 740050-0 26S)
DESCRIPTION:Lehrveranstaltung 740050 26S, Gruppe 0\nTitel: VO Biochemie\nOrt: M.EG.180\n\nhttps://lfuonline.uibk.ac.at/public/lfuonline_lv.details?sem_id_in=26S&lvnr_id_in=740050\n
CLASS:PUBLIC
DTSTART:20260622T083000Z
DTEND:20260622T104500Z
DTSTAMP:20260422T053730Z
LOCATION:M.EG.180
END:VEVENT
BEGIN:VEVENT
UID:26S_740050_5068541@uibk.ac.at
ORGANIZER;CN="LFU:online Universität Innsbruck":MAILTO:Uni-Innsbruck-noreply@uibk.ac.at
SUMMARY:VO Biochemie (LV 740050-0 26S)
DESCRIPTION:Lehrveranstaltung 740050 26S, Gruppe 0\nTitel: VO Biochemie\nOrt: L.EG.200\n\nhttps://lfuonline.uibk.ac.at/public/lfuonline_lv.details?sem_id_in=26S&lvnr_id_in=740050\n
CLASS:PUBLIC
DTSTART:20260624T151500Z
DTEND:20260624T171500Z
DTSTAMP:20260422T053730Z
LOCATION:L.EG.200
COMMENT:Tutorium
END:VEVENT
BEGIN:VEVENT
UID:26S_740050_5051072@uibk.ac.at
ORGANIZER;CN="LFU:online Universität Innsbruck":MAILTO:Uni-Innsbruck-noreply@uibk.ac.at
SUMMARY:VO Biochemie (LV 740050-0 26S)
DESCRIPTION:Lehrveranstaltung 740050 26S, Gruppe 0\nTitel: VO Biochemie\nOrt: M.EG.180\n\nhttps://lfuonline.uibk.ac.at/public/lfuonline_lv.details?sem_id_in=26S&lvnr_id_in=740050\n
CLASS:PUBLIC
DTSTART:20260630T103000Z
DTEND:20260630T120000Z
DTSTAMP:20260422T053730Z
LOCATION:M.EG.180
COMMENT:1. Prüfungstermin
END:VEVENT
END:VCALENDAR