BEGIN:VCALENDAR
VERSION:2.0
PRODID:-//Universität Innsbruck//LFU:online//DE
METHOD:PUBLISH
BEGIN:VEVENT
UID:22W_740052_4122881@uibk.ac.at
ORGANIZER;CN="LFU:online Universität Innsbruck":MAILTO:Uni-Innsbruck-noreply@uibk.ac.at
SUMMARY:VU Zellbiologie und Genetik (LV 740052-0 22W)
DESCRIPTION:Lehrveranstaltung 740052 22W, Gruppe 0\nTitel: VU Zellbiologie und Genetik\nOrt: L.EG.200\n\nhttps://lfuonline.uibk.ac.at/public/lfuonline_lv.details?sem_id_in=22W&lvnr_id_in=740052\n
CLASS:PUBLIC
DTSTART:20221003T140000Z
DTEND:20221003T150000Z
DTSTAMP:20260425T174436Z
LOCATION:L.EG.200
COMMENT:Vorbesprechung
END:VEVENT
BEGIN:VEVENT
UID:22W_740052_4124636@uibk.ac.at
ORGANIZER;CN="LFU:online Universität Innsbruck":MAILTO:Uni-Innsbruck-noreply@uibk.ac.at
SUMMARY:VU Zellbiologie und Genetik (LV 740052-0 22W)
DESCRIPTION:Lehrveranstaltung 740052 22W, Gruppe 0\nTitel: VU Zellbiologie und Genetik\nOrt: M.EG.180\n\nhttps://lfuonline.uibk.ac.at/public/lfuonline_lv.details?sem_id_in=22W&lvnr_id_in=740052\n
CLASS:PUBLIC
DTSTART:20221017T143000Z
DTEND:20221017T160000Z
DTSTAMP:20260425T174436Z
LOCATION:M.EG.180
END:VEVENT
BEGIN:VEVENT
UID:22W_740052_4124638@uibk.ac.at
ORGANIZER;CN="LFU:online Universität Innsbruck":MAILTO:Uni-Innsbruck-noreply@uibk.ac.at
SUMMARY:VU Zellbiologie und Genetik (LV 740052-0 22W)
DESCRIPTION:Lehrveranstaltung 740052 22W, Gruppe 0\nTitel: VU Zellbiologie und Genetik\nOrt: M.EG.180\n\nhttps://lfuonline.uibk.ac.at/public/lfuonline_lv.details?sem_id_in=22W&lvnr_id_in=740052\n
CLASS:PUBLIC
DTSTART:20221024T143000Z
DTEND:20221024T160000Z
DTSTAMP:20260425T174436Z
LOCATION:M.EG.180
END:VEVENT
BEGIN:VEVENT
UID:22W_740052_4124637@uibk.ac.at
ORGANIZER;CN="LFU:online Universität Innsbruck":MAILTO:Uni-Innsbruck-noreply@uibk.ac.at
SUMMARY:VU Zellbiologie und Genetik (LV 740052-0 22W)
DESCRIPTION:Lehrveranstaltung 740052 22W, Gruppe 0\nTitel: VU Zellbiologie und Genetik\nOrt: M.EG.180\n\nhttps://lfuonline.uibk.ac.at/public/lfuonline_lv.details?sem_id_in=22W&lvnr_id_in=740052\n
CLASS:PUBLIC
DTSTART:20221107T153000Z
DTEND:20221107T170000Z
DTSTAMP:20260425T174436Z
LOCATION:M.EG.180
END:VEVENT
BEGIN:VEVENT
UID:22W_740052_4122876@uibk.ac.at
ORGANIZER;CN="LFU:online Universität Innsbruck":MAILTO:Uni-Innsbruck-noreply@uibk.ac.at
SUMMARY:VU Zellbiologie und Genetik (LV 740052-0 22W)
DESCRIPTION:Lehrveranstaltung 740052 22W, Gruppe 0\nTitel: VU Zellbiologie und Genetik\nOrt: online (Pharmazie)\n\nhttps://lfuonline.uibk.ac.at/public/lfuonline_lv.details?sem_id_in=22W&lvnr_id_in=740052\n
CLASS:PUBLIC
DTSTART:20221114T153000Z
DTEND:20221114T170000Z
DTSTAMP:20260425T174436Z
LOCATION:online (Pharmazie)
END:VEVENT
END:VCALENDAR