BEGIN:VCALENDAR
VERSION:2.0
PRODID:-//Universität Innsbruck//LFU:online//DE
METHOD:PUBLISH
BEGIN:VEVENT
UID:17S_743500_2902270@uibk.ac.at
ORGANIZER;CN="LFU:online Universität Innsbruck":MAILTO:Uni-Innsbruck-noreply@uibk.ac.at
SUMMARY:Genderforschung in der Biologie (LV 743500-0 17S)
DESCRIPTION:Lehrveranstaltung 743500 17S, Gruppe 0\nTitel: Genderforschung in der Biologie\nOrt: HSB  6\n\nhttps://lfuonline.uibk.ac.at/public/lfuonline_lv.details?sem_id_in=17S&lvnr_id_in=743500\n
CLASS:PUBLIC
DTSTART:20170623T100000Z
DTEND:20170623T170000Z
DTSTAMP:20260423T045532Z
LOCATION:HSB  6
END:VEVENT
BEGIN:VEVENT
UID:17S_743500_2902271@uibk.ac.at
ORGANIZER;CN="LFU:online Universität Innsbruck":MAILTO:Uni-Innsbruck-noreply@uibk.ac.at
SUMMARY:Genderforschung in der Biologie (LV 743500-0 17S)
DESCRIPTION:Lehrveranstaltung 743500 17S, Gruppe 0\nTitel: Genderforschung in der Biologie\nOrt: HSB  6\n\nhttps://lfuonline.uibk.ac.at/public/lfuonline_lv.details?sem_id_in=17S&lvnr_id_in=743500\n
CLASS:PUBLIC
DTSTART:20170624T070000Z
DTEND:20170624T140000Z
DTSTAMP:20260423T045532Z
LOCATION:HSB  6
END:VEVENT
END:VCALENDAR