BEGIN:VCALENDAR
VERSION:2.0
PRODID:-//Universität Innsbruck//LFU:online//DE
METHOD:PUBLISH
BEGIN:VEVENT
UID:18W_743501_3204612@uibk.ac.at
ORGANIZER;CN="LFU:online Universität Innsbruck":MAILTO:Uni-Innsbruck-noreply@uibk.ac.at
SUMMARY:SE Frauen in der Biologie - Seminar (LV 743501-0 18W)
DESCRIPTION:Lehrveranstaltung 743501 18W, Gruppe 0\nTitel: SE Frauen in der Biologie - Seminar\nOrt: HSB  9\n\nhttps://lfuonline.uibk.ac.at/public/lfuonline_lv.details?sem_id_in=18W&lvnr_id_in=743501\n
CLASS:PUBLIC
DTSTART:20181214T110000Z
DTEND:20181214T160000Z
DTSTAMP:20260423T031354Z
LOCATION:HSB  9
END:VEVENT
BEGIN:VEVENT
UID:18W_743501_3204613@uibk.ac.at
ORGANIZER;CN="LFU:online Universität Innsbruck":MAILTO:Uni-Innsbruck-noreply@uibk.ac.at
SUMMARY:SE Frauen in der Biologie - Seminar (LV 743501-0 18W)
DESCRIPTION:Lehrveranstaltung 743501 18W, Gruppe 0\nTitel: SE Frauen in der Biologie - Seminar\nOrt: HSB  9\n\nhttps://lfuonline.uibk.ac.at/public/lfuonline_lv.details?sem_id_in=18W&lvnr_id_in=743501\n
CLASS:PUBLIC
DTSTART:20181215T080000Z
DTEND:20181215T160000Z
DTSTAMP:20260423T031354Z
LOCATION:HSB  9
END:VEVENT
END:VCALENDAR