BEGIN:VCALENDAR
VERSION:2.0
PRODID:-//Universität Innsbruck//LFU:online//DE
METHOD:PUBLISH
BEGIN:VEVENT
UID:21W_743904_3891954@uibk.ac.at
ORGANIZER;CN="LFU:online Universität Innsbruck":MAILTO:Uni-Innsbruck-noreply@uibk.ac.at
SUMMARY:VU Fortgeschrittene Statistik (LV 743904-0 21W)
DESCRIPTION:Lehrveranstaltung 743904 21W, Gruppe 0\nTitel: VU Fortgeschrittene Statistik\nOrt: rr 25\n\nhttps://lfuonline.uibk.ac.at/public/lfuonline_lv.details?sem_id_in=21W&lvnr_id_in=743904\n
CLASS:PUBLIC
DTSTART:20211028T081500Z
DTEND:20211028T100000Z
DTSTAMP:20260421T092018Z
LOCATION:rr 25
END:VEVENT
BEGIN:VEVENT
UID:21W_743904_3892013@uibk.ac.at
ORGANIZER;CN="LFU:online Universität Innsbruck":MAILTO:Uni-Innsbruck-noreply@uibk.ac.at
SUMMARY:VU Fortgeschrittene Statistik (LV 743904-0 21W)
DESCRIPTION:Lehrveranstaltung 743904 21W, Gruppe 0\nTitel: VU Fortgeschrittene Statistik\nOrt: rr 25\n\nhttps://lfuonline.uibk.ac.at/public/lfuonline_lv.details?sem_id_in=21W&lvnr_id_in=743904\n
CLASS:PUBLIC
DTSTART:20211103T091500Z
DTEND:20211103T110000Z
DTSTAMP:20260421T092018Z
LOCATION:rr 25
END:VEVENT
BEGIN:VEVENT
UID:21W_743904_3891955@uibk.ac.at
ORGANIZER;CN="LFU:online Universität Innsbruck":MAILTO:Uni-Innsbruck-noreply@uibk.ac.at
SUMMARY:VU Fortgeschrittene Statistik (LV 743904-0 21W)
DESCRIPTION:Lehrveranstaltung 743904 21W, Gruppe 0\nTitel: VU Fortgeschrittene Statistik\nOrt: rr 25\n\nhttps://lfuonline.uibk.ac.at/public/lfuonline_lv.details?sem_id_in=21W&lvnr_id_in=743904\n
CLASS:PUBLIC
DTSTART:20211104T091500Z
DTEND:20211104T110000Z
DTSTAMP:20260421T092018Z
LOCATION:rr 25
END:VEVENT
BEGIN:VEVENT
UID:21W_743904_3891956@uibk.ac.at
ORGANIZER;CN="LFU:online Universität Innsbruck":MAILTO:Uni-Innsbruck-noreply@uibk.ac.at
SUMMARY:VU Fortgeschrittene Statistik (LV 743904-0 21W)
DESCRIPTION:Lehrveranstaltung 743904 21W, Gruppe 0\nTitel: VU Fortgeschrittene Statistik\nOrt: rr 25\n\nhttps://lfuonline.uibk.ac.at/public/lfuonline_lv.details?sem_id_in=21W&lvnr_id_in=743904\n
CLASS:PUBLIC
DTSTART:20211109T091500Z
DTEND:20211109T110000Z
DTSTAMP:20260421T092018Z
LOCATION:rr 25
END:VEVENT
BEGIN:VEVENT
UID:21W_743904_3891957@uibk.ac.at
ORGANIZER;CN="LFU:online Universität Innsbruck":MAILTO:Uni-Innsbruck-noreply@uibk.ac.at
SUMMARY:VU Fortgeschrittene Statistik (LV 743904-0 21W)
DESCRIPTION:Lehrveranstaltung 743904 21W, Gruppe 0\nTitel: VU Fortgeschrittene Statistik\nOrt: rr 25\n\nhttps://lfuonline.uibk.ac.at/public/lfuonline_lv.details?sem_id_in=21W&lvnr_id_in=743904\n
CLASS:PUBLIC
DTSTART:20211111T091500Z
DTEND:20211111T110000Z
DTSTAMP:20260421T092018Z
LOCATION:rr 25
END:VEVENT
BEGIN:VEVENT
UID:21W_743904_3891958@uibk.ac.at
ORGANIZER;CN="LFU:online Universität Innsbruck":MAILTO:Uni-Innsbruck-noreply@uibk.ac.at
SUMMARY:VU Fortgeschrittene Statistik (LV 743904-0 21W)
DESCRIPTION:Lehrveranstaltung 743904 21W, Gruppe 0\nTitel: VU Fortgeschrittene Statistik\nOrt: rr 25\n\nhttps://lfuonline.uibk.ac.at/public/lfuonline_lv.details?sem_id_in=21W&lvnr_id_in=743904\n
CLASS:PUBLIC
DTSTART:20211116T091500Z
DTEND:20211116T110000Z
DTSTAMP:20260421T092018Z
LOCATION:rr 25
END:VEVENT
BEGIN:VEVENT
UID:21W_743904_3891959@uibk.ac.at
ORGANIZER;CN="LFU:online Universität Innsbruck":MAILTO:Uni-Innsbruck-noreply@uibk.ac.at
SUMMARY:VU Fortgeschrittene Statistik (LV 743904-0 21W)
DESCRIPTION:Lehrveranstaltung 743904 21W, Gruppe 0\nTitel: VU Fortgeschrittene Statistik\nOrt: rr 25\n\nhttps://lfuonline.uibk.ac.at/public/lfuonline_lv.details?sem_id_in=21W&lvnr_id_in=743904\n
CLASS:PUBLIC
DTSTART:20211118T091500Z
DTEND:20211118T110000Z
DTSTAMP:20260421T092018Z
LOCATION:rr 25
END:VEVENT
BEGIN:VEVENT
UID:21W_743904_3891960@uibk.ac.at
ORGANIZER;CN="LFU:online Universität Innsbruck":MAILTO:Uni-Innsbruck-noreply@uibk.ac.at
SUMMARY:VU Fortgeschrittene Statistik (LV 743904-0 21W)
DESCRIPTION:Lehrveranstaltung 743904 21W, Gruppe 0\nTitel: VU Fortgeschrittene Statistik\nOrt: rr 25\n\nhttps://lfuonline.uibk.ac.at/public/lfuonline_lv.details?sem_id_in=21W&lvnr_id_in=743904\n
CLASS:PUBLIC
DTSTART:20211123T091500Z
DTEND:20211123T110000Z
DTSTAMP:20260421T092018Z
LOCATION:rr 25
END:VEVENT
BEGIN:VEVENT
UID:21W_743904_3891961@uibk.ac.at
ORGANIZER;CN="LFU:online Universität Innsbruck":MAILTO:Uni-Innsbruck-noreply@uibk.ac.at
SUMMARY:VU Fortgeschrittene Statistik (LV 743904-0 21W)
DESCRIPTION:Lehrveranstaltung 743904 21W, Gruppe 0\nTitel: VU Fortgeschrittene Statistik\nOrt: rr 25\n\nhttps://lfuonline.uibk.ac.at/public/lfuonline_lv.details?sem_id_in=21W&lvnr_id_in=743904\n
CLASS:PUBLIC
DTSTART:20211125T091500Z
DTEND:20211125T110000Z
DTSTAMP:20260421T092018Z
LOCATION:rr 25
END:VEVENT
BEGIN:VEVENT
UID:21W_743904_3891962@uibk.ac.at
ORGANIZER;CN="LFU:online Universität Innsbruck":MAILTO:Uni-Innsbruck-noreply@uibk.ac.at
SUMMARY:VU Fortgeschrittene Statistik (LV 743904-0 21W)
DESCRIPTION:Lehrveranstaltung 743904 21W, Gruppe 0\nTitel: VU Fortgeschrittene Statistik\nOrt: rr 25\n\nhttps://lfuonline.uibk.ac.at/public/lfuonline_lv.details?sem_id_in=21W&lvnr_id_in=743904\n
CLASS:PUBLIC
DTSTART:20211130T091500Z
DTEND:20211130T110000Z
DTSTAMP:20260421T092018Z
LOCATION:rr 25
END:VEVENT
BEGIN:VEVENT
UID:21W_743904_3891963@uibk.ac.at
ORGANIZER;CN="LFU:online Universität Innsbruck":MAILTO:Uni-Innsbruck-noreply@uibk.ac.at
SUMMARY:VU Fortgeschrittene Statistik (LV 743904-0 21W)
DESCRIPTION:Lehrveranstaltung 743904 21W, Gruppe 0\nTitel: VU Fortgeschrittene Statistik\nOrt: rr 25\n\nhttps://lfuonline.uibk.ac.at/public/lfuonline_lv.details?sem_id_in=21W&lvnr_id_in=743904\n
CLASS:PUBLIC
DTSTART:20211202T091500Z
DTEND:20211202T110000Z
DTSTAMP:20260421T092018Z
LOCATION:rr 25
END:VEVENT
BEGIN:VEVENT
UID:21W_743904_3891964@uibk.ac.at
ORGANIZER;CN="LFU:online Universität Innsbruck":MAILTO:Uni-Innsbruck-noreply@uibk.ac.at
SUMMARY:VU Fortgeschrittene Statistik (LV 743904-0 21W)
DESCRIPTION:Lehrveranstaltung 743904 21W, Gruppe 0\nTitel: VU Fortgeschrittene Statistik\nOrt: rr 25\n\nhttps://lfuonline.uibk.ac.at/public/lfuonline_lv.details?sem_id_in=21W&lvnr_id_in=743904\n
CLASS:PUBLIC
DTSTART:20211207T091500Z
DTEND:20211207T110000Z
DTSTAMP:20260421T092018Z
LOCATION:rr 25
END:VEVENT
BEGIN:VEVENT
UID:21W_743904_3891966@uibk.ac.at
ORGANIZER;CN="LFU:online Universität Innsbruck":MAILTO:Uni-Innsbruck-noreply@uibk.ac.at
SUMMARY:VU Fortgeschrittene Statistik (LV 743904-0 21W)
DESCRIPTION:Lehrveranstaltung 743904 21W, Gruppe 0\nTitel: VU Fortgeschrittene Statistik\nOrt: rr 25\n\nhttps://lfuonline.uibk.ac.at/public/lfuonline_lv.details?sem_id_in=21W&lvnr_id_in=743904\n
CLASS:PUBLIC
DTSTART:20211214T091500Z
DTEND:20211214T110000Z
DTSTAMP:20260421T092018Z
LOCATION:rr 25
END:VEVENT
BEGIN:VEVENT
UID:21W_743904_3891967@uibk.ac.at
ORGANIZER;CN="LFU:online Universität Innsbruck":MAILTO:Uni-Innsbruck-noreply@uibk.ac.at
SUMMARY:VU Fortgeschrittene Statistik (LV 743904-0 21W)
DESCRIPTION:Lehrveranstaltung 743904 21W, Gruppe 0\nTitel: VU Fortgeschrittene Statistik\nOrt: rr 25\n\nhttps://lfuonline.uibk.ac.at/public/lfuonline_lv.details?sem_id_in=21W&lvnr_id_in=743904\n
CLASS:PUBLIC
DTSTART:20211216T091500Z
DTEND:20211216T110000Z
DTSTAMP:20260421T092018Z
LOCATION:rr 25
END:VEVENT
END:VCALENDAR