BEGIN:VCALENDAR
VERSION:2.0
PRODID:-//Universität Innsbruck//LFU:online//DE
METHOD:PUBLISH
BEGIN:VEVENT
UID:17S_744072_2855416@uibk.ac.at
ORGANIZER;CN="LFU:online Universität Innsbruck":MAILTO:Uni-Innsbruck-noreply@uibk.ac.at
SUMMARY:Ionen- und Plasmaphysik (Grundlagen) (LV 744072-0 17S)
DESCRIPTION:Lehrveranstaltung 744072 17S, Gruppe 0\nTitel: Ionen- und Plasmaphysik (Grundlagen)\nOrt: HS D (Technik)\n\nhttps://lfuonline.uibk.ac.at/public/lfuonline_lv.details?sem_id_in=17S&lvnr_id_in=744072\n
CLASS:PUBLIC
DTSTART:20170307T091500Z
DTEND:20170307T110000Z
DTSTAMP:20260423T102935Z
LOCATION:HS D (Technik)
END:VEVENT
BEGIN:VEVENT
UID:17S_744072_2855431@uibk.ac.at
ORGANIZER;CN="LFU:online Universität Innsbruck":MAILTO:Uni-Innsbruck-noreply@uibk.ac.at
SUMMARY:Ionen- und Plasmaphysik (Grundlagen) (LV 744072-0 17S)
DESCRIPTION:Lehrveranstaltung 744072 17S, Gruppe 0\nTitel: Ionen- und Plasmaphysik (Grundlagen)\nOrt: HS G (Technik)\n\nhttps://lfuonline.uibk.ac.at/public/lfuonline_lv.details?sem_id_in=17S&lvnr_id_in=744072\n
CLASS:PUBLIC
DTSTART:20170308T091500Z
DTEND:20170308T110000Z
DTSTAMP:20260423T102935Z
LOCATION:HS G (Technik)
END:VEVENT
BEGIN:VEVENT
UID:17S_744072_2855417@uibk.ac.at
ORGANIZER;CN="LFU:online Universität Innsbruck":MAILTO:Uni-Innsbruck-noreply@uibk.ac.at
SUMMARY:Ionen- und Plasmaphysik (Grundlagen) (LV 744072-0 17S)
DESCRIPTION:Lehrveranstaltung 744072 17S, Gruppe 0\nTitel: Ionen- und Plasmaphysik (Grundlagen)\nOrt: HS D (Technik)\n\nhttps://lfuonline.uibk.ac.at/public/lfuonline_lv.details?sem_id_in=17S&lvnr_id_in=744072\n
CLASS:PUBLIC
DTSTART:20170314T091500Z
DTEND:20170314T110000Z
DTSTAMP:20260423T102935Z
LOCATION:HS D (Technik)
END:VEVENT
BEGIN:VEVENT
UID:17S_744072_2855432@uibk.ac.at
ORGANIZER;CN="LFU:online Universität Innsbruck":MAILTO:Uni-Innsbruck-noreply@uibk.ac.at
SUMMARY:Ionen- und Plasmaphysik (Grundlagen) (LV 744072-0 17S)
DESCRIPTION:Lehrveranstaltung 744072 17S, Gruppe 0\nTitel: Ionen- und Plasmaphysik (Grundlagen)\nOrt: HS G (Technik)\n\nhttps://lfuonline.uibk.ac.at/public/lfuonline_lv.details?sem_id_in=17S&lvnr_id_in=744072\n
CLASS:PUBLIC
DTSTART:20170315T091500Z
DTEND:20170315T110000Z
DTSTAMP:20260423T102935Z
LOCATION:HS G (Technik)
END:VEVENT
BEGIN:VEVENT
UID:17S_744072_2855418@uibk.ac.at
ORGANIZER;CN="LFU:online Universität Innsbruck":MAILTO:Uni-Innsbruck-noreply@uibk.ac.at
SUMMARY:Ionen- und Plasmaphysik (Grundlagen) (LV 744072-0 17S)
DESCRIPTION:Lehrveranstaltung 744072 17S, Gruppe 0\nTitel: Ionen- und Plasmaphysik (Grundlagen)\nOrt: HS D (Technik)\n\nhttps://lfuonline.uibk.ac.at/public/lfuonline_lv.details?sem_id_in=17S&lvnr_id_in=744072\n
CLASS:PUBLIC
DTSTART:20170321T091500Z
DTEND:20170321T110000Z
DTSTAMP:20260423T102935Z
LOCATION:HS D (Technik)
END:VEVENT
BEGIN:VEVENT
UID:17S_744072_2855433@uibk.ac.at
ORGANIZER;CN="LFU:online Universität Innsbruck":MAILTO:Uni-Innsbruck-noreply@uibk.ac.at
SUMMARY:Ionen- und Plasmaphysik (Grundlagen) (LV 744072-0 17S)
DESCRIPTION:Lehrveranstaltung 744072 17S, Gruppe 0\nTitel: Ionen- und Plasmaphysik (Grundlagen)\nOrt: HS G (Technik)\n\nhttps://lfuonline.uibk.ac.at/public/lfuonline_lv.details?sem_id_in=17S&lvnr_id_in=744072\n
CLASS:PUBLIC
DTSTART:20170322T091500Z
DTEND:20170322T110000Z
DTSTAMP:20260423T102935Z
LOCATION:HS G (Technik)
END:VEVENT
BEGIN:VEVENT
UID:17S_744072_2855419@uibk.ac.at
ORGANIZER;CN="LFU:online Universität Innsbruck":MAILTO:Uni-Innsbruck-noreply@uibk.ac.at
SUMMARY:Ionen- und Plasmaphysik (Grundlagen) (LV 744072-0 17S)
DESCRIPTION:Lehrveranstaltung 744072 17S, Gruppe 0\nTitel: Ionen- und Plasmaphysik (Grundlagen)\nOrt: HS D (Technik)\n\nhttps://lfuonline.uibk.ac.at/public/lfuonline_lv.details?sem_id_in=17S&lvnr_id_in=744072\n
CLASS:PUBLIC
DTSTART:20170328T081500Z
DTEND:20170328T100000Z
DTSTAMP:20260423T102935Z
LOCATION:HS D (Technik)
END:VEVENT
BEGIN:VEVENT
UID:17S_744072_2855434@uibk.ac.at
ORGANIZER;CN="LFU:online Universität Innsbruck":MAILTO:Uni-Innsbruck-noreply@uibk.ac.at
SUMMARY:Ionen- und Plasmaphysik (Grundlagen) (LV 744072-0 17S)
DESCRIPTION:Lehrveranstaltung 744072 17S, Gruppe 0\nTitel: Ionen- und Plasmaphysik (Grundlagen)\nOrt: HS G (Technik)\n\nhttps://lfuonline.uibk.ac.at/public/lfuonline_lv.details?sem_id_in=17S&lvnr_id_in=744072\n
CLASS:PUBLIC
DTSTART:20170329T081500Z
DTEND:20170329T100000Z
DTSTAMP:20260423T102935Z
LOCATION:HS G (Technik)
END:VEVENT
BEGIN:VEVENT
UID:17S_744072_2855420@uibk.ac.at
ORGANIZER;CN="LFU:online Universität Innsbruck":MAILTO:Uni-Innsbruck-noreply@uibk.ac.at
SUMMARY:Ionen- und Plasmaphysik (Grundlagen) (LV 744072-0 17S)
DESCRIPTION:Lehrveranstaltung 744072 17S, Gruppe 0\nTitel: Ionen- und Plasmaphysik (Grundlagen)\nOrt: HS D (Technik)\n\nhttps://lfuonline.uibk.ac.at/public/lfuonline_lv.details?sem_id_in=17S&lvnr_id_in=744072\n
CLASS:PUBLIC
DTSTART:20170404T081500Z
DTEND:20170404T100000Z
DTSTAMP:20260423T102935Z
LOCATION:HS D (Technik)
END:VEVENT
BEGIN:VEVENT
UID:17S_744072_2855435@uibk.ac.at
ORGANIZER;CN="LFU:online Universität Innsbruck":MAILTO:Uni-Innsbruck-noreply@uibk.ac.at
SUMMARY:Ionen- und Plasmaphysik (Grundlagen) (LV 744072-0 17S)
DESCRIPTION:Lehrveranstaltung 744072 17S, Gruppe 0\nTitel: Ionen- und Plasmaphysik (Grundlagen)\nOrt: HS G (Technik)\n\nhttps://lfuonline.uibk.ac.at/public/lfuonline_lv.details?sem_id_in=17S&lvnr_id_in=744072\n
CLASS:PUBLIC
DTSTART:20170405T081500Z
DTEND:20170405T100000Z
DTSTAMP:20260423T102935Z
LOCATION:HS G (Technik)
END:VEVENT
BEGIN:VEVENT
UID:17S_744072_2855421@uibk.ac.at
ORGANIZER;CN="LFU:online Universität Innsbruck":MAILTO:Uni-Innsbruck-noreply@uibk.ac.at
SUMMARY:Ionen- und Plasmaphysik (Grundlagen) (LV 744072-0 17S)
DESCRIPTION:Lehrveranstaltung 744072 17S, Gruppe 0\nTitel: Ionen- und Plasmaphysik (Grundlagen)\nOrt: HS D (Technik)\n\nhttps://lfuonline.uibk.ac.at/public/lfuonline_lv.details?sem_id_in=17S&lvnr_id_in=744072\n
CLASS:PUBLIC
DTSTART:20170425T081500Z
DTEND:20170425T100000Z
DTSTAMP:20260423T102935Z
LOCATION:HS D (Technik)
END:VEVENT
BEGIN:VEVENT
UID:17S_744072_2855436@uibk.ac.at
ORGANIZER;CN="LFU:online Universität Innsbruck":MAILTO:Uni-Innsbruck-noreply@uibk.ac.at
SUMMARY:Ionen- und Plasmaphysik (Grundlagen) (LV 744072-0 17S)
DESCRIPTION:Lehrveranstaltung 744072 17S, Gruppe 0\nTitel: Ionen- und Plasmaphysik (Grundlagen)\nOrt: HS G (Technik)\n\nhttps://lfuonline.uibk.ac.at/public/lfuonline_lv.details?sem_id_in=17S&lvnr_id_in=744072\n
CLASS:PUBLIC
DTSTART:20170426T081500Z
DTEND:20170426T100000Z
DTSTAMP:20260423T102935Z
LOCATION:HS G (Technik)
END:VEVENT
BEGIN:VEVENT
UID:17S_744072_2855422@uibk.ac.at
ORGANIZER;CN="LFU:online Universität Innsbruck":MAILTO:Uni-Innsbruck-noreply@uibk.ac.at
SUMMARY:Ionen- und Plasmaphysik (Grundlagen) (LV 744072-0 17S)
DESCRIPTION:Lehrveranstaltung 744072 17S, Gruppe 0\nTitel: Ionen- und Plasmaphysik (Grundlagen)\nOrt: HS D (Technik)\n\nhttps://lfuonline.uibk.ac.at/public/lfuonline_lv.details?sem_id_in=17S&lvnr_id_in=744072\n
CLASS:PUBLIC
DTSTART:20170502T081500Z
DTEND:20170502T100000Z
DTSTAMP:20260423T102935Z
LOCATION:HS D (Technik)
END:VEVENT
BEGIN:VEVENT
UID:17S_744072_2855437@uibk.ac.at
ORGANIZER;CN="LFU:online Universität Innsbruck":MAILTO:Uni-Innsbruck-noreply@uibk.ac.at
SUMMARY:Ionen- und Plasmaphysik (Grundlagen) (LV 744072-0 17S)
DESCRIPTION:Lehrveranstaltung 744072 17S, Gruppe 0\nTitel: Ionen- und Plasmaphysik (Grundlagen)\nOrt: HS G (Technik)\n\nhttps://lfuonline.uibk.ac.at/public/lfuonline_lv.details?sem_id_in=17S&lvnr_id_in=744072\n
CLASS:PUBLIC
DTSTART:20170503T081500Z
DTEND:20170503T100000Z
DTSTAMP:20260423T102935Z
LOCATION:HS G (Technik)
END:VEVENT
BEGIN:VEVENT
UID:17S_744072_2855423@uibk.ac.at
ORGANIZER;CN="LFU:online Universität Innsbruck":MAILTO:Uni-Innsbruck-noreply@uibk.ac.at
SUMMARY:Ionen- und Plasmaphysik (Grundlagen) (LV 744072-0 17S)
DESCRIPTION:Lehrveranstaltung 744072 17S, Gruppe 0\nTitel: Ionen- und Plasmaphysik (Grundlagen)\nOrt: HS D (Technik)\n\nhttps://lfuonline.uibk.ac.at/public/lfuonline_lv.details?sem_id_in=17S&lvnr_id_in=744072\n
CLASS:PUBLIC
DTSTART:20170509T081500Z
DTEND:20170509T100000Z
DTSTAMP:20260423T102935Z
LOCATION:HS D (Technik)
END:VEVENT
BEGIN:VEVENT
UID:17S_744072_2855438@uibk.ac.at
ORGANIZER;CN="LFU:online Universität Innsbruck":MAILTO:Uni-Innsbruck-noreply@uibk.ac.at
SUMMARY:Ionen- und Plasmaphysik (Grundlagen) (LV 744072-0 17S)
DESCRIPTION:Lehrveranstaltung 744072 17S, Gruppe 0\nTitel: Ionen- und Plasmaphysik (Grundlagen)\nOrt: HS G (Technik)\n\nhttps://lfuonline.uibk.ac.at/public/lfuonline_lv.details?sem_id_in=17S&lvnr_id_in=744072\n
CLASS:PUBLIC
DTSTART:20170510T081500Z
DTEND:20170510T100000Z
DTSTAMP:20260423T102935Z
LOCATION:HS G (Technik)
END:VEVENT
BEGIN:VEVENT
UID:17S_744072_2855424@uibk.ac.at
ORGANIZER;CN="LFU:online Universität Innsbruck":MAILTO:Uni-Innsbruck-noreply@uibk.ac.at
SUMMARY:Ionen- und Plasmaphysik (Grundlagen) (LV 744072-0 17S)
DESCRIPTION:Lehrveranstaltung 744072 17S, Gruppe 0\nTitel: Ionen- und Plasmaphysik (Grundlagen)\nOrt: HS D (Technik)\n\nhttps://lfuonline.uibk.ac.at/public/lfuonline_lv.details?sem_id_in=17S&lvnr_id_in=744072\n
CLASS:PUBLIC
DTSTART:20170516T081500Z
DTEND:20170516T100000Z
DTSTAMP:20260423T102935Z
LOCATION:HS D (Technik)
END:VEVENT
BEGIN:VEVENT
UID:17S_744072_2855439@uibk.ac.at
ORGANIZER;CN="LFU:online Universität Innsbruck":MAILTO:Uni-Innsbruck-noreply@uibk.ac.at
SUMMARY:Ionen- und Plasmaphysik (Grundlagen) (LV 744072-0 17S)
DESCRIPTION:Lehrveranstaltung 744072 17S, Gruppe 0\nTitel: Ionen- und Plasmaphysik (Grundlagen)\nOrt: HS G (Technik)\n\nhttps://lfuonline.uibk.ac.at/public/lfuonline_lv.details?sem_id_in=17S&lvnr_id_in=744072\n
CLASS:PUBLIC
DTSTART:20170517T081500Z
DTEND:20170517T100000Z
DTSTAMP:20260423T102935Z
LOCATION:HS G (Technik)
END:VEVENT
BEGIN:VEVENT
UID:17S_744072_2855425@uibk.ac.at
ORGANIZER;CN="LFU:online Universität Innsbruck":MAILTO:Uni-Innsbruck-noreply@uibk.ac.at
SUMMARY:Ionen- und Plasmaphysik (Grundlagen) (LV 744072-0 17S)
DESCRIPTION:Lehrveranstaltung 744072 17S, Gruppe 0\nTitel: Ionen- und Plasmaphysik (Grundlagen)\nOrt: HS D (Technik)\n\nhttps://lfuonline.uibk.ac.at/public/lfuonline_lv.details?sem_id_in=17S&lvnr_id_in=744072\n
CLASS:PUBLIC
DTSTART:20170523T081500Z
DTEND:20170523T100000Z
DTSTAMP:20260423T102935Z
LOCATION:HS D (Technik)
END:VEVENT
BEGIN:VEVENT
UID:17S_744072_2855440@uibk.ac.at
ORGANIZER;CN="LFU:online Universität Innsbruck":MAILTO:Uni-Innsbruck-noreply@uibk.ac.at
SUMMARY:Ionen- und Plasmaphysik (Grundlagen) (LV 744072-0 17S)
DESCRIPTION:Lehrveranstaltung 744072 17S, Gruppe 0\nTitel: Ionen- und Plasmaphysik (Grundlagen)\nOrt: HS G (Technik)\n\nhttps://lfuonline.uibk.ac.at/public/lfuonline_lv.details?sem_id_in=17S&lvnr_id_in=744072\n
CLASS:PUBLIC
DTSTART:20170524T081500Z
DTEND:20170524T100000Z
DTSTAMP:20260423T102935Z
LOCATION:HS G (Technik)
END:VEVENT
BEGIN:VEVENT
UID:17S_744072_2855426@uibk.ac.at
ORGANIZER;CN="LFU:online Universität Innsbruck":MAILTO:Uni-Innsbruck-noreply@uibk.ac.at
SUMMARY:Ionen- und Plasmaphysik (Grundlagen) (LV 744072-0 17S)
DESCRIPTION:Lehrveranstaltung 744072 17S, Gruppe 0\nTitel: Ionen- und Plasmaphysik (Grundlagen)\nOrt: HS D (Technik)\n\nhttps://lfuonline.uibk.ac.at/public/lfuonline_lv.details?sem_id_in=17S&lvnr_id_in=744072\n
CLASS:PUBLIC
DTSTART:20170530T081500Z
DTEND:20170530T100000Z
DTSTAMP:20260423T102935Z
LOCATION:HS D (Technik)
END:VEVENT
BEGIN:VEVENT
UID:17S_744072_2855441@uibk.ac.at
ORGANIZER;CN="LFU:online Universität Innsbruck":MAILTO:Uni-Innsbruck-noreply@uibk.ac.at
SUMMARY:Ionen- und Plasmaphysik (Grundlagen) (LV 744072-0 17S)
DESCRIPTION:Lehrveranstaltung 744072 17S, Gruppe 0\nTitel: Ionen- und Plasmaphysik (Grundlagen)\nOrt: HS G (Technik)\n\nhttps://lfuonline.uibk.ac.at/public/lfuonline_lv.details?sem_id_in=17S&lvnr_id_in=744072\n
CLASS:PUBLIC
DTSTART:20170531T081500Z
DTEND:20170531T100000Z
DTSTAMP:20260423T102935Z
LOCATION:HS G (Technik)
END:VEVENT
BEGIN:VEVENT
UID:17S_744072_2855427@uibk.ac.at
ORGANIZER;CN="LFU:online Universität Innsbruck":MAILTO:Uni-Innsbruck-noreply@uibk.ac.at
SUMMARY:Ionen- und Plasmaphysik (Grundlagen) (LV 744072-0 17S)
DESCRIPTION:Lehrveranstaltung 744072 17S, Gruppe 0\nTitel: Ionen- und Plasmaphysik (Grundlagen)\nOrt: HS D (Technik)\n\nhttps://lfuonline.uibk.ac.at/public/lfuonline_lv.details?sem_id_in=17S&lvnr_id_in=744072\n
CLASS:PUBLIC
DTSTART:20170606T081500Z
DTEND:20170606T100000Z
DTSTAMP:20260423T102935Z
LOCATION:HS D (Technik)
END:VEVENT
BEGIN:VEVENT
UID:17S_744072_2855442@uibk.ac.at
ORGANIZER;CN="LFU:online Universität Innsbruck":MAILTO:Uni-Innsbruck-noreply@uibk.ac.at
SUMMARY:Ionen- und Plasmaphysik (Grundlagen) (LV 744072-0 17S)
DESCRIPTION:Lehrveranstaltung 744072 17S, Gruppe 0\nTitel: Ionen- und Plasmaphysik (Grundlagen)\nOrt: HS G (Technik)\n\nhttps://lfuonline.uibk.ac.at/public/lfuonline_lv.details?sem_id_in=17S&lvnr_id_in=744072\n
CLASS:PUBLIC
DTSTART:20170607T081500Z
DTEND:20170607T100000Z
DTSTAMP:20260423T102935Z
LOCATION:HS G (Technik)
END:VEVENT
BEGIN:VEVENT
UID:17S_744072_2855428@uibk.ac.at
ORGANIZER;CN="LFU:online Universität Innsbruck":MAILTO:Uni-Innsbruck-noreply@uibk.ac.at
SUMMARY:Ionen- und Plasmaphysik (Grundlagen) (LV 744072-0 17S)
DESCRIPTION:Lehrveranstaltung 744072 17S, Gruppe 0\nTitel: Ionen- und Plasmaphysik (Grundlagen)\nOrt: HS D (Technik)\n\nhttps://lfuonline.uibk.ac.at/public/lfuonline_lv.details?sem_id_in=17S&lvnr_id_in=744072\n
CLASS:PUBLIC
DTSTART:20170613T081500Z
DTEND:20170613T100000Z
DTSTAMP:20260423T102935Z
LOCATION:HS D (Technik)
END:VEVENT
BEGIN:VEVENT
UID:17S_744072_2855443@uibk.ac.at
ORGANIZER;CN="LFU:online Universität Innsbruck":MAILTO:Uni-Innsbruck-noreply@uibk.ac.at
SUMMARY:Ionen- und Plasmaphysik (Grundlagen) (LV 744072-0 17S)
DESCRIPTION:Lehrveranstaltung 744072 17S, Gruppe 0\nTitel: Ionen- und Plasmaphysik (Grundlagen)\nOrt: HS G (Technik)\n\nhttps://lfuonline.uibk.ac.at/public/lfuonline_lv.details?sem_id_in=17S&lvnr_id_in=744072\n
CLASS:PUBLIC
DTSTART:20170614T081500Z
DTEND:20170614T100000Z
DTSTAMP:20260423T102935Z
LOCATION:HS G (Technik)
END:VEVENT
BEGIN:VEVENT
UID:17S_744072_2855429@uibk.ac.at
ORGANIZER;CN="LFU:online Universität Innsbruck":MAILTO:Uni-Innsbruck-noreply@uibk.ac.at
SUMMARY:Ionen- und Plasmaphysik (Grundlagen) (LV 744072-0 17S)
DESCRIPTION:Lehrveranstaltung 744072 17S, Gruppe 0\nTitel: Ionen- und Plasmaphysik (Grundlagen)\nOrt: HS D (Technik)\n\nhttps://lfuonline.uibk.ac.at/public/lfuonline_lv.details?sem_id_in=17S&lvnr_id_in=744072\n
CLASS:PUBLIC
DTSTART:20170620T081500Z
DTEND:20170620T100000Z
DTSTAMP:20260423T102935Z
LOCATION:HS D (Technik)
END:VEVENT
BEGIN:VEVENT
UID:17S_744072_2855444@uibk.ac.at
ORGANIZER;CN="LFU:online Universität Innsbruck":MAILTO:Uni-Innsbruck-noreply@uibk.ac.at
SUMMARY:Ionen- und Plasmaphysik (Grundlagen) (LV 744072-0 17S)
DESCRIPTION:Lehrveranstaltung 744072 17S, Gruppe 0\nTitel: Ionen- und Plasmaphysik (Grundlagen)\nOrt: HS G (Technik)\n\nhttps://lfuonline.uibk.ac.at/public/lfuonline_lv.details?sem_id_in=17S&lvnr_id_in=744072\n
CLASS:PUBLIC
DTSTART:20170621T081500Z
DTEND:20170621T100000Z
DTSTAMP:20260423T102935Z
LOCATION:HS G (Technik)
END:VEVENT
BEGIN:VEVENT
UID:17S_744072_2855445@uibk.ac.at
ORGANIZER;CN="LFU:online Universität Innsbruck":MAILTO:Uni-Innsbruck-noreply@uibk.ac.at
SUMMARY:Ionen- und Plasmaphysik (Grundlagen) (LV 744072-0 17S)
DESCRIPTION:Lehrveranstaltung 744072 17S, Gruppe 0\nTitel: Ionen- und Plasmaphysik (Grundlagen)\nOrt: HS G (Technik)\n\nhttps://lfuonline.uibk.ac.at/public/lfuonline_lv.details?sem_id_in=17S&lvnr_id_in=744072\n
CLASS:PUBLIC
DTSTART:20170628T081500Z
DTEND:20170628T100000Z
DTSTAMP:20260423T102935Z
LOCATION:HS G (Technik)
END:VEVENT
END:VCALENDAR