BEGIN:VCALENDAR
VERSION:2.0
PRODID:-//Universität Innsbruck//LFU:online//DE
METHOD:PUBLISH
BEGIN:VEVENT
UID:26S_800700_5039789@uibk.ac.at
ORGANIZER;CN="LFU:online Universität Innsbruck":MAILTO:Uni-Innsbruck-noreply@uibk.ac.at
SUMMARY:AG Study Group: Critical Porn Studies? - Pornografie als kulturelle Praxis zwischen Stigma und Normalisierung (LV 800700-0 26S)
DESCRIPTION:Lehrveranstaltung 800700 26S, Gruppe 0\nTitel: AG Study Group: Critical Porn Studies? - Pornografie als kulturelle Praxis zwischen Stigma und Normalisierung\nOrt: Seminarraum 12 (Innrain 52a)  01G100\n\nhttps://lfuonline.uibk.ac.at/public/lfuonline_lv.details?sem_id_in=26S&lvnr_id_in=800700\n
CLASS:PUBLIC
DTSTART:20260508T111500Z
DTEND:20260508T160000Z
DTSTAMP:20260423T134929Z
LOCATION:Seminarraum 12 (Innrain 52a)  01G100
END:VEVENT
BEGIN:VEVENT
UID:26S_800700_5039790@uibk.ac.at
ORGANIZER;CN="LFU:online Universität Innsbruck":MAILTO:Uni-Innsbruck-noreply@uibk.ac.at
SUMMARY:AG Study Group: Critical Porn Studies? - Pornografie als kulturelle Praxis zwischen Stigma und Normalisierung (LV 800700-0 26S)
DESCRIPTION:Lehrveranstaltung 800700 26S, Gruppe 0\nTitel: AG Study Group: Critical Porn Studies? - Pornografie als kulturelle Praxis zwischen Stigma und Normalisierung\nOrt: Seminarraum 12 (Innrain 52a)  01G100\n\nhttps://lfuonline.uibk.ac.at/public/lfuonline_lv.details?sem_id_in=26S&lvnr_id_in=800700\n
CLASS:PUBLIC
DTSTART:20260509T080000Z
DTEND:20260509T143000Z
DTSTAMP:20260423T134929Z
LOCATION:Seminarraum 12 (Innrain 52a)  01G100
END:VEVENT
BEGIN:VEVENT
UID:26S_800700_5043618@uibk.ac.at
ORGANIZER;CN="LFU:online Universität Innsbruck":MAILTO:Uni-Innsbruck-noreply@uibk.ac.at
SUMMARY:AG Study Group: Critical Porn Studies? - Pornografie als kulturelle Praxis zwischen Stigma und Normalisierung (LV 800700-0 26S)
DESCRIPTION:Lehrveranstaltung 800700 26S, Gruppe 0\nTitel: AG Study Group: Critical Porn Studies? - Pornografie als kulturelle Praxis zwischen Stigma und Normalisierung\nOrt: Seminarraum 13 (Innrain 52a) 01J100\n\nhttps://lfuonline.uibk.ac.at/public/lfuonline_lv.details?sem_id_in=26S&lvnr_id_in=800700\n
CLASS:PUBLIC
DTSTART:20260619T111500Z
DTEND:20260619T160000Z
DTSTAMP:20260423T134929Z
LOCATION:Seminarraum 13 (Innrain 52a) 01J100
END:VEVENT
BEGIN:VEVENT
UID:26S_800700_5043619@uibk.ac.at
ORGANIZER;CN="LFU:online Universität Innsbruck":MAILTO:Uni-Innsbruck-noreply@uibk.ac.at
SUMMARY:AG Study Group: Critical Porn Studies? - Pornografie als kulturelle Praxis zwischen Stigma und Normalisierung (LV 800700-0 26S)
DESCRIPTION:Lehrveranstaltung 800700 26S, Gruppe 0\nTitel: AG Study Group: Critical Porn Studies? - Pornografie als kulturelle Praxis zwischen Stigma und Normalisierung\nOrt: Seminarraum 13 (Innrain 52a) 01J100\n\nhttps://lfuonline.uibk.ac.at/public/lfuonline_lv.details?sem_id_in=26S&lvnr_id_in=800700\n
CLASS:PUBLIC
DTSTART:20260620T080000Z
DTEND:20260620T143000Z
DTSTAMP:20260423T134929Z
LOCATION:Seminarraum 13 (Innrain 52a) 01J100
END:VEVENT
END:VCALENDAR