BEGIN:VCALENDAR
VERSION:2.0
PRODID:-//Universität Innsbruck//LFU:online//DE
METHOD:PUBLISH
BEGIN:VEVENT
UID:22W_800703_4141942@uibk.ac.at
ORGANIZER;CN="LFU:online Universität Innsbruck":MAILTO:Uni-Innsbruck-noreply@uibk.ac.at
SUMMARY:SE Talking Gender! Wissenschaftskommunikation in Sozialen Medien (LV 800703-0 22W)
DESCRIPTION:Lehrveranstaltung 800703 22W, Gruppe 0\nTitel: SE Talking Gender! Wissenschaftskommunikation in Sozialen Medien\nOrt: 52U109 SR\n\nhttps://lfuonline.uibk.ac.at/public/lfuonline_lv.details?sem_id_in=22W&lvnr_id_in=800703\n
CLASS:PUBLIC
DTSTART:20221011T151500Z
DTEND:20221011T164500Z
DTSTAMP:20260424T040404Z
LOCATION:52U109 SR
END:VEVENT
BEGIN:VEVENT
UID:22W_800703_4141943@uibk.ac.at
ORGANIZER;CN="LFU:online Universität Innsbruck":MAILTO:Uni-Innsbruck-noreply@uibk.ac.at
SUMMARY:SE Talking Gender! Wissenschaftskommunikation in Sozialen Medien (LV 800703-0 22W)
DESCRIPTION:Lehrveranstaltung 800703 22W, Gruppe 0\nTitel: SE Talking Gender! Wissenschaftskommunikation in Sozialen Medien\nOrt: 52U109 SR\n\nhttps://lfuonline.uibk.ac.at/public/lfuonline_lv.details?sem_id_in=22W&lvnr_id_in=800703\n
CLASS:PUBLIC
DTSTART:20221018T151500Z
DTEND:20221018T164500Z
DTSTAMP:20260424T040404Z
LOCATION:52U109 SR
END:VEVENT
BEGIN:VEVENT
UID:22W_800703_4141944@uibk.ac.at
ORGANIZER;CN="LFU:online Universität Innsbruck":MAILTO:Uni-Innsbruck-noreply@uibk.ac.at
SUMMARY:SE Talking Gender! Wissenschaftskommunikation in Sozialen Medien (LV 800703-0 22W)
DESCRIPTION:Lehrveranstaltung 800703 22W, Gruppe 0\nTitel: SE Talking Gender! Wissenschaftskommunikation in Sozialen Medien\nOrt: 52U109 SR\n\nhttps://lfuonline.uibk.ac.at/public/lfuonline_lv.details?sem_id_in=22W&lvnr_id_in=800703\n
CLASS:PUBLIC
DTSTART:20221025T151500Z
DTEND:20221025T164500Z
DTSTAMP:20260424T040404Z
LOCATION:52U109 SR
END:VEVENT
BEGIN:VEVENT
UID:22W_800703_4142085@uibk.ac.at
ORGANIZER;CN="LFU:online Universität Innsbruck":MAILTO:Uni-Innsbruck-noreply@uibk.ac.at
SUMMARY:SE Talking Gender! Wissenschaftskommunikation in Sozialen Medien (LV 800703-0 22W)
DESCRIPTION:Lehrveranstaltung 800703 22W, Gruppe 0\nTitel: SE Talking Gender! Wissenschaftskommunikation in Sozialen Medien\nOrt: 52U109 SR\n\nhttps://lfuonline.uibk.ac.at/public/lfuonline_lv.details?sem_id_in=22W&lvnr_id_in=800703\n
CLASS:PUBLIC
DTSTART:20221108T161500Z
DTEND:20221108T174500Z
DTSTAMP:20260424T040404Z
LOCATION:52U109 SR
END:VEVENT
BEGIN:VEVENT
UID:22W_800703_4141946@uibk.ac.at
ORGANIZER;CN="LFU:online Universität Innsbruck":MAILTO:Uni-Innsbruck-noreply@uibk.ac.at
SUMMARY:SE Talking Gender! Wissenschaftskommunikation in Sozialen Medien (LV 800703-0 22W)
DESCRIPTION:Lehrveranstaltung 800703 22W, Gruppe 0\nTitel: SE Talking Gender! Wissenschaftskommunikation in Sozialen Medien\nOrt: 52U109 SR\n\nhttps://lfuonline.uibk.ac.at/public/lfuonline_lv.details?sem_id_in=22W&lvnr_id_in=800703\n
CLASS:PUBLIC
DTSTART:20221115T161500Z
DTEND:20221115T174500Z
DTSTAMP:20260424T040404Z
LOCATION:52U109 SR
END:VEVENT
BEGIN:VEVENT
UID:22W_800703_4176029@uibk.ac.at
ORGANIZER;CN="LFU:online Universität Innsbruck":MAILTO:Uni-Innsbruck-noreply@uibk.ac.at
SUMMARY:SE Talking Gender! Wissenschaftskommunikation in Sozialen Medien (LV 800703-0 22W)
DESCRIPTION:Lehrveranstaltung 800703 22W, Gruppe 0\nTitel: SE Talking Gender! Wissenschaftskommunikation in Sozialen Medien\nOrt: 52U109 SR\n\nhttps://lfuonline.uibk.ac.at/public/lfuonline_lv.details?sem_id_in=22W&lvnr_id_in=800703\n
CLASS:PUBLIC
DTSTART:20221129T161500Z
DTEND:20221129T174500Z
DTSTAMP:20260424T040404Z
LOCATION:52U109 SR
END:VEVENT
BEGIN:VEVENT
UID:22W_800703_4141950@uibk.ac.at
ORGANIZER;CN="LFU:online Universität Innsbruck":MAILTO:Uni-Innsbruck-noreply@uibk.ac.at
SUMMARY:SE Talking Gender! Wissenschaftskommunikation in Sozialen Medien (LV 800703-0 22W)
DESCRIPTION:Lehrveranstaltung 800703 22W, Gruppe 0\nTitel: SE Talking Gender! Wissenschaftskommunikation in Sozialen Medien\nOrt: 52U109 SR\n\nhttps://lfuonline.uibk.ac.at/public/lfuonline_lv.details?sem_id_in=22W&lvnr_id_in=800703\n
CLASS:PUBLIC
DTSTART:20221213T161500Z
DTEND:20221213T174500Z
DTSTAMP:20260424T040404Z
LOCATION:52U109 SR
END:VEVENT
BEGIN:VEVENT
UID:22W_800703_4259724@uibk.ac.at
ORGANIZER;CN="LFU:online Universität Innsbruck":MAILTO:Uni-Innsbruck-noreply@uibk.ac.at
SUMMARY:SE Talking Gender! Wissenschaftskommunikation in Sozialen Medien (LV 800703-0 22W)
DESCRIPTION:Lehrveranstaltung 800703 22W, Gruppe 0\nTitel: SE Talking Gender! Wissenschaftskommunikation in Sozialen Medien\nOrt: 52U109 SR\n\nhttps://lfuonline.uibk.ac.at/public/lfuonline_lv.details?sem_id_in=22W&lvnr_id_in=800703\n
CLASS:PUBLIC
DTSTART:20230110T161500Z
DTEND:20230110T174500Z
DTSTAMP:20260424T040404Z
LOCATION:52U109 SR
END:VEVENT
BEGIN:VEVENT
UID:22W_800703_4141939@uibk.ac.at
ORGANIZER;CN="LFU:online Universität Innsbruck":MAILTO:Uni-Innsbruck-noreply@uibk.ac.at
SUMMARY:SE Talking Gender! Wissenschaftskommunikation in Sozialen Medien (LV 800703-0 22W)
DESCRIPTION:Lehrveranstaltung 800703 22W, Gruppe 0\nTitel: SE Talking Gender! Wissenschaftskommunikation in Sozialen Medien\nOrt: 52U109 SR\n\nhttps://lfuonline.uibk.ac.at/public/lfuonline_lv.details?sem_id_in=22W&lvnr_id_in=800703\n
CLASS:PUBLIC
DTSTART:20230114T090000Z
DTEND:20230114T170000Z
DTSTAMP:20260424T040404Z
LOCATION:52U109 SR
END:VEVENT
END:VCALENDAR