BEGIN:VCALENDAR
VERSION:2.0
PRODID:-//Universität Innsbruck//LFU:online//DE
METHOD:PUBLISH
BEGIN:VEVENT
UID:22W_800704_4129387@uibk.ac.at
ORGANIZER;CN="LFU:online Universität Innsbruck":MAILTO:Uni-Innsbruck-noreply@uibk.ac.at
SUMMARY:AG Study Group: Queering Utopia - Die Suche nach anderslogischem Leben (LV 800704-0 22W)
DESCRIPTION:Lehrveranstaltung 800704 22W, Gruppe 0\nTitel: AG Study Group: Queering Utopia - Die Suche nach anderslogischem Leben\nOrt: eLecture - online\n\nhttps://lfuonline.uibk.ac.at/public/lfuonline_lv.details?sem_id_in=22W&lvnr_id_in=800704\n
CLASS:PUBLIC
DTSTART:20221020T160000Z
DTEND:20221020T173000Z
DTSTAMP:20260423T110746Z
LOCATION:eLecture - online
END:VEVENT
BEGIN:VEVENT
UID:22W_800704_4182389@uibk.ac.at
ORGANIZER;CN="LFU:online Universität Innsbruck":MAILTO:Uni-Innsbruck-noreply@uibk.ac.at
SUMMARY:AG Study Group: Queering Utopia - Die Suche nach anderslogischem Leben (LV 800704-0 22W)
DESCRIPTION:Lehrveranstaltung 800704 22W, Gruppe 0\nTitel: AG Study Group: Queering Utopia - Die Suche nach anderslogischem Leben\nOrt: Hybrider Lernraum (HLR)\n\nhttps://lfuonline.uibk.ac.at/public/lfuonline_lv.details?sem_id_in=22W&lvnr_id_in=800704\n
CLASS:PUBLIC
DTSTART:20221111T124500Z
DTEND:20221111T190000Z
DTSTAMP:20260423T110746Z
LOCATION:Hybrider Lernraum (HLR)
END:VEVENT
BEGIN:VEVENT
UID:22W_800704_4182390@uibk.ac.at
ORGANIZER;CN="LFU:online Universität Innsbruck":MAILTO:Uni-Innsbruck-noreply@uibk.ac.at
SUMMARY:AG Study Group: Queering Utopia - Die Suche nach anderslogischem Leben (LV 800704-0 22W)
DESCRIPTION:Lehrveranstaltung 800704 22W, Gruppe 0\nTitel: AG Study Group: Queering Utopia - Die Suche nach anderslogischem Leben\nOrt: 4U102a\n\nhttps://lfuonline.uibk.ac.at/public/lfuonline_lv.details?sem_id_in=22W&lvnr_id_in=800704\n
CLASS:PUBLIC
DTSTART:20221112T080000Z
DTEND:20221112T150000Z
DTSTAMP:20260423T110746Z
LOCATION:4U102a
END:VEVENT
BEGIN:VEVENT
UID:22W_800704_4129401@uibk.ac.at
ORGANIZER;CN="LFU:online Universität Innsbruck":MAILTO:Uni-Innsbruck-noreply@uibk.ac.at
SUMMARY:AG Study Group: Queering Utopia - Die Suche nach anderslogischem Leben (LV 800704-0 22W)
DESCRIPTION:Lehrveranstaltung 800704 22W, Gruppe 0\nTitel: AG Study Group: Queering Utopia - Die Suche nach anderslogischem Leben\nOrt: eLecture - online\n\nhttps://lfuonline.uibk.ac.at/public/lfuonline_lv.details?sem_id_in=22W&lvnr_id_in=800704\n
CLASS:PUBLIC
DTSTART:20221201T151500Z
DTEND:20221201T190000Z
DTSTAMP:20260423T110746Z
LOCATION:eLecture - online
END:VEVENT
BEGIN:VEVENT
UID:22W_800704_4200405@uibk.ac.at
ORGANIZER;CN="LFU:online Universität Innsbruck":MAILTO:Uni-Innsbruck-noreply@uibk.ac.at
SUMMARY:AG Study Group: Queering Utopia - Die Suche nach anderslogischem Leben (LV 800704-0 22W)
DESCRIPTION:Lehrveranstaltung 800704 22W, Gruppe 0\nTitel: AG Study Group: Queering Utopia - Die Suche nach anderslogischem Leben\nOrt: eLecture - online\n\nhttps://lfuonline.uibk.ac.at/public/lfuonline_lv.details?sem_id_in=22W&lvnr_id_in=800704\n
CLASS:PUBLIC
DTSTART:20221216T131500Z
DTEND:20221216T190000Z
DTSTAMP:20260423T110746Z
LOCATION:eLecture - online
END:VEVENT
BEGIN:VEVENT
UID:22W_800704_4204955@uibk.ac.at
ORGANIZER;CN="LFU:online Universität Innsbruck":MAILTO:Uni-Innsbruck-noreply@uibk.ac.at
SUMMARY:AG Study Group: Queering Utopia - Die Suche nach anderslogischem Leben (LV 800704-0 22W)
DESCRIPTION:Lehrveranstaltung 800704 22W, Gruppe 0\nTitel: AG Study Group: Queering Utopia - Die Suche nach anderslogischem Leben\nOrt: 50101/1 SR\n\nhttps://lfuonline.uibk.ac.at/public/lfuonline_lv.details?sem_id_in=22W&lvnr_id_in=800704\n
CLASS:PUBLIC
DTSTART:20230119T124500Z
DTEND:20230119T174500Z
DTSTAMP:20260423T110746Z
LOCATION:50101/1 SR
END:VEVENT
END:VCALENDAR