BEGIN:VCALENDAR
VERSION:2.0
PRODID:-//Universität Innsbruck//LFU:online//DE
METHOD:PUBLISH
BEGIN:VEVENT
UID:23S_800704_4290730@uibk.ac.at
ORGANIZER;CN="LFU:online Universität Innsbruck":MAILTO:Uni-Innsbruck-noreply@uibk.ac.at
SUMMARY:ABGESAGT: AG Study Group: Toxische Männlichkeit (LV 800704-0 23S)
DESCRIPTION:Lehrveranstaltung 800704 23S, Gruppe 0\nTitel: AG Study Group: Toxische Männlichkeit\nOrt: e-lecture MAGKSW\n\nhttps://lfuonline.uibk.ac.at/public/lfuonline_lv.details?sem_id_in=23S&lvnr_id_in=800704\n
CLASS:PUBLIC
DTSTART:20230316T090000Z
DTEND:20230316T110000Z
DTSTAMP:20260423T110746Z
LOCATION:e-lecture MAGKSW
END:VEVENT
BEGIN:VEVENT
UID:23S_800704_4290746@uibk.ac.at
ORGANIZER;CN="LFU:online Universität Innsbruck":MAILTO:Uni-Innsbruck-noreply@uibk.ac.at
SUMMARY:AG Study Group: Toxische Männlichkeit (LV 800704-0 23S)
DESCRIPTION:Lehrveranstaltung 800704 23S, Gruppe 0\nTitel: AG Study Group: Toxische Männlichkeit\nOrt: e-lecture MAGKSW\n\nhttps://lfuonline.uibk.ac.at/public/lfuonline_lv.details?sem_id_in=23S&lvnr_id_in=800704\n
CLASS:PUBLIC
DTSTART:20230330T080000Z
DTEND:20230330T100000Z
DTSTAMP:20260423T110746Z
LOCATION:e-lecture MAGKSW
END:VEVENT
BEGIN:VEVENT
UID:23S_800704_4290748@uibk.ac.at
ORGANIZER;CN="LFU:online Universität Innsbruck":MAILTO:Uni-Innsbruck-noreply@uibk.ac.at
SUMMARY:AG Study Group: Toxische Männlichkeit (LV 800704-0 23S)
DESCRIPTION:Lehrveranstaltung 800704 23S, Gruppe 0\nTitel: AG Study Group: Toxische Männlichkeit\nOrt: e-lecture MAGKSW\n\nhttps://lfuonline.uibk.ac.at/public/lfuonline_lv.details?sem_id_in=23S&lvnr_id_in=800704\n
CLASS:PUBLIC
DTSTART:20230427T080000Z
DTEND:20230427T100000Z
DTSTAMP:20260423T110746Z
LOCATION:e-lecture MAGKSW
END:VEVENT
BEGIN:VEVENT
UID:23S_800704_4292685@uibk.ac.at
ORGANIZER;CN="LFU:online Universität Innsbruck":MAILTO:Uni-Innsbruck-noreply@uibk.ac.at
SUMMARY:AG Study Group: Toxische Männlichkeit (LV 800704-0 23S)
DESCRIPTION:Lehrveranstaltung 800704 23S, Gruppe 0\nTitel: AG Study Group: Toxische Männlichkeit\nOrt: 4U102a\n\nhttps://lfuonline.uibk.ac.at/public/lfuonline_lv.details?sem_id_in=23S&lvnr_id_in=800704\n
CLASS:PUBLIC
DTSTART:20230428T080000Z
DTEND:20230428T150000Z
DTSTAMP:20260423T110746Z
LOCATION:4U102a
END:VEVENT
BEGIN:VEVENT
UID:23S_800704_4290764@uibk.ac.at
ORGANIZER;CN="LFU:online Universität Innsbruck":MAILTO:Uni-Innsbruck-noreply@uibk.ac.at
SUMMARY:AG Study Group: Toxische Männlichkeit (LV 800704-0 23S)
DESCRIPTION:Lehrveranstaltung 800704 23S, Gruppe 0\nTitel: AG Study Group: Toxische Männlichkeit\nOrt: e-lecture MAGKSW\n\nhttps://lfuonline.uibk.ac.at/public/lfuonline_lv.details?sem_id_in=23S&lvnr_id_in=800704\n
CLASS:PUBLIC
DTSTART:20230511T080000Z
DTEND:20230511T100000Z
DTSTAMP:20260423T110746Z
LOCATION:e-lecture MAGKSW
END:VEVENT
BEGIN:VEVENT
UID:23S_800704_4290765@uibk.ac.at
ORGANIZER;CN="LFU:online Universität Innsbruck":MAILTO:Uni-Innsbruck-noreply@uibk.ac.at
SUMMARY:AG Study Group: Toxische Männlichkeit (LV 800704-0 23S)
DESCRIPTION:Lehrveranstaltung 800704 23S, Gruppe 0\nTitel: AG Study Group: Toxische Männlichkeit\nOrt: e-lecture MAGKSW\n\nhttps://lfuonline.uibk.ac.at/public/lfuonline_lv.details?sem_id_in=23S&lvnr_id_in=800704\n
CLASS:PUBLIC
DTSTART:20230525T080000Z
DTEND:20230525T100000Z
DTSTAMP:20260423T110746Z
LOCATION:e-lecture MAGKSW
END:VEVENT
BEGIN:VEVENT
UID:23S_800704_4292688@uibk.ac.at
ORGANIZER;CN="LFU:online Universität Innsbruck":MAILTO:Uni-Innsbruck-noreply@uibk.ac.at
SUMMARY:AG Study Group: Toxische Männlichkeit (LV 800704-0 23S)
DESCRIPTION:Lehrveranstaltung 800704 23S, Gruppe 0\nTitel: AG Study Group: Toxische Männlichkeit\nOrt: 4U102a\n\nhttps://lfuonline.uibk.ac.at/public/lfuonline_lv.details?sem_id_in=23S&lvnr_id_in=800704\n
CLASS:PUBLIC
DTSTART:20230602T080000Z
DTEND:20230602T150000Z
DTSTAMP:20260423T110746Z
LOCATION:4U102a
END:VEVENT
END:VCALENDAR