BEGIN:VCALENDAR
VERSION:2.0
PRODID:-//Universität Innsbruck//LFU:online//DE
METHOD:PUBLISH
BEGIN:VEVENT
UID:25S_800706_4817421@uibk.ac.at
ORGANIZER;CN="LFU:online Universität Innsbruck":MAILTO:Uni-Innsbruck-noreply@uibk.ac.at
SUMMARY:AG Study Group: Kampfbegriff Gender - Feminismus & LGBTIQ+ als Feindbild rechter Ideologien (LV 800706-0 25S)
DESCRIPTION:Lehrveranstaltung 800706 25S, Gruppe 0\nTitel: AG Study Group: Kampfbegriff Gender - Feminismus & LGBTIQ+ als Feindbild rechter Ideologien\nOrt: e-lecture MAGKSW\n\nhttps://lfuonline.uibk.ac.at/public/lfuonline_lv.details?sem_id_in=25S&lvnr_id_in=800706\n
CLASS:PUBLIC
DTSTART:20250307T090000Z
DTEND:20250307T120000Z
DTSTAMP:20260423T110746Z
LOCATION:e-lecture MAGKSW
COMMENT:Vorbesprechung (verpflichtende Anwesenheit)
END:VEVENT
BEGIN:VEVENT
UID:25S_800706_4798568@uibk.ac.at
ORGANIZER;CN="LFU:online Universität Innsbruck":MAILTO:Uni-Innsbruck-noreply@uibk.ac.at
SUMMARY:AG Study Group: Kampfbegriff Gender - Feminismus & LGBTIQ+ als Feindbild rechter Ideologien (LV 800706-0 25S)
DESCRIPTION:Lehrveranstaltung 800706 25S, Gruppe 0\nTitel: AG Study Group: Kampfbegriff Gender - Feminismus & LGBTIQ+ als Feindbild rechter Ideologien\nOrt: e-lecture MAGKSW\n\nhttps://lfuonline.uibk.ac.at/public/lfuonline_lv.details?sem_id_in=25S&lvnr_id_in=800706\n
CLASS:PUBLIC
DTSTART:20250314T090000Z
DTEND:20250314T120000Z
DTSTAMP:20260423T110746Z
LOCATION:e-lecture MAGKSW
END:VEVENT
BEGIN:VEVENT
UID:25S_800706_4798571@uibk.ac.at
ORGANIZER;CN="LFU:online Universität Innsbruck":MAILTO:Uni-Innsbruck-noreply@uibk.ac.at
SUMMARY:AG Study Group: Kampfbegriff Gender - Feminismus & LGBTIQ+ als Feindbild rechter Ideologien (LV 800706-0 25S)
DESCRIPTION:Lehrveranstaltung 800706 25S, Gruppe 0\nTitel: AG Study Group: Kampfbegriff Gender - Feminismus & LGBTIQ+ als Feindbild rechter Ideologien\nOrt: 50113 SR\n\nhttps://lfuonline.uibk.ac.at/public/lfuonline_lv.details?sem_id_in=25S&lvnr_id_in=800706\n
CLASS:PUBLIC
DTSTART:20250411T080000Z
DTEND:20250411T141500Z
DTSTAMP:20260423T110746Z
LOCATION:50113 SR
END:VEVENT
BEGIN:VEVENT
UID:25S_800706_4798569@uibk.ac.at
ORGANIZER;CN="LFU:online Universität Innsbruck":MAILTO:Uni-Innsbruck-noreply@uibk.ac.at
SUMMARY:AG Study Group: Kampfbegriff Gender - Feminismus & LGBTIQ+ als Feindbild rechter Ideologien (LV 800706-0 25S)
DESCRIPTION:Lehrveranstaltung 800706 25S, Gruppe 0\nTitel: AG Study Group: Kampfbegriff Gender - Feminismus & LGBTIQ+ als Feindbild rechter Ideologien\nOrt: e-lecture MAGKSW\n\nhttps://lfuonline.uibk.ac.at/public/lfuonline_lv.details?sem_id_in=25S&lvnr_id_in=800706\n
CLASS:PUBLIC
DTSTART:20250509T080000Z
DTEND:20250509T110000Z
DTSTAMP:20260423T110746Z
LOCATION:e-lecture MAGKSW
END:VEVENT
BEGIN:VEVENT
UID:25S_800706_4798572@uibk.ac.at
ORGANIZER;CN="LFU:online Universität Innsbruck":MAILTO:Uni-Innsbruck-noreply@uibk.ac.at
SUMMARY:AG Study Group: Kampfbegriff Gender - Feminismus & LGBTIQ+ als Feindbild rechter Ideologien (LV 800706-0 25S)
DESCRIPTION:Lehrveranstaltung 800706 25S, Gruppe 0\nTitel: AG Study Group: Kampfbegriff Gender - Feminismus & LGBTIQ+ als Feindbild rechter Ideologien\nOrt: Seminarraum 13 (Innrain 52a) 01J100\n\nhttps://lfuonline.uibk.ac.at/public/lfuonline_lv.details?sem_id_in=25S&lvnr_id_in=800706\n
CLASS:PUBLIC
DTSTART:20250606T080000Z
DTEND:20250606T141500Z
DTSTAMP:20260423T110746Z
LOCATION:Seminarraum 13 (Innrain 52a) 01J100
END:VEVENT
BEGIN:VEVENT
UID:25S_800706_4798570@uibk.ac.at
ORGANIZER;CN="LFU:online Universität Innsbruck":MAILTO:Uni-Innsbruck-noreply@uibk.ac.at
SUMMARY:AG Study Group: Kampfbegriff Gender - Feminismus & LGBTIQ+ als Feindbild rechter Ideologien (LV 800706-0 25S)
DESCRIPTION:Lehrveranstaltung 800706 25S, Gruppe 0\nTitel: AG Study Group: Kampfbegriff Gender - Feminismus & LGBTIQ+ als Feindbild rechter Ideologien\nOrt: e-lecture MAGKSW\n\nhttps://lfuonline.uibk.ac.at/public/lfuonline_lv.details?sem_id_in=25S&lvnr_id_in=800706\n
CLASS:PUBLIC
DTSTART:20250613T080000Z
DTEND:20250613T110000Z
DTSTAMP:20260423T110746Z
LOCATION:e-lecture MAGKSW
END:VEVENT
END:VCALENDAR