BEGIN:VCALENDAR
VERSION:2.0
PRODID:-//Universität Innsbruck//LFU:online//DE
METHOD:PUBLISH
BEGIN:VEVENT
UID:20S_800710_3534965@uibk.ac.at
ORGANIZER;CN="LFU:online Universität Innsbruck":MAILTO:Uni-Innsbruck-noreply@uibk.ac.at
SUMMARY:VU Einführung über Nachhaltiges Grundwasserressourcen Management (LV 800710-0 20S)
DESCRIPTION:Lehrveranstaltung 800710 20S, Gruppe 0\nTitel: VU Einführung über Nachhaltiges Grundwasserressourcen Management\nOrt: Benutzerraum 5\n\nhttps://lfuonline.uibk.ac.at/public/lfuonline_lv.details?sem_id_in=20S&lvnr_id_in=800710\n
CLASS:PUBLIC
DTSTART:20200309T073000Z
DTEND:20200309T133000Z
DTSTAMP:20260419T121608Z
LOCATION:Benutzerraum 5
END:VEVENT
BEGIN:VEVENT
UID:20S_800710_3585735@uibk.ac.at
ORGANIZER;CN="LFU:online Universität Innsbruck":MAILTO:Uni-Innsbruck-noreply@uibk.ac.at
SUMMARY:VU Einführung über Nachhaltiges Grundwasserressourcen Management (LV 800710-0 20S)
DESCRIPTION:Lehrveranstaltung 800710 20S, Gruppe 0\nTitel: VU Einführung über Nachhaltiges Grundwasserressourcen Management\nOrt: Benutzerraum 5\n\nhttps://lfuonline.uibk.ac.at/public/lfuonline_lv.details?sem_id_in=20S&lvnr_id_in=800710\n
CLASS:PUBLIC
DTSTART:20200309T133000Z
DTEND:20200309T153000Z
DTSTAMP:20260419T121608Z
LOCATION:Benutzerraum 5
END:VEVENT
BEGIN:VEVENT
UID:20S_800710_3534966@uibk.ac.at
ORGANIZER;CN="LFU:online Universität Innsbruck":MAILTO:Uni-Innsbruck-noreply@uibk.ac.at
SUMMARY:VU Einführung über Nachhaltiges Grundwasserressourcen Management (LV 800710-0 20S)
DESCRIPTION:Lehrveranstaltung 800710 20S, Gruppe 0\nTitel: VU Einführung über Nachhaltiges Grundwasserressourcen Management\nOrt: Benutzerraum 5\n\nhttps://lfuonline.uibk.ac.at/public/lfuonline_lv.details?sem_id_in=20S&lvnr_id_in=800710\n
CLASS:PUBLIC
DTSTART:20200310T073000Z
DTEND:20200310T133000Z
DTSTAMP:20260419T121608Z
LOCATION:Benutzerraum 5
END:VEVENT
BEGIN:VEVENT
UID:20S_800710_3585736@uibk.ac.at
ORGANIZER;CN="LFU:online Universität Innsbruck":MAILTO:Uni-Innsbruck-noreply@uibk.ac.at
SUMMARY:VU Einführung über Nachhaltiges Grundwasserressourcen Management (LV 800710-0 20S)
DESCRIPTION:Lehrveranstaltung 800710 20S, Gruppe 0\nTitel: VU Einführung über Nachhaltiges Grundwasserressourcen Management\nOrt: Benutzerraum 5\n\nhttps://lfuonline.uibk.ac.at/public/lfuonline_lv.details?sem_id_in=20S&lvnr_id_in=800710\n
CLASS:PUBLIC
DTSTART:20200310T133000Z
DTEND:20200310T153000Z
DTSTAMP:20260419T121608Z
LOCATION:Benutzerraum 5
END:VEVENT
BEGIN:VEVENT
UID:20S_800710_3534967@uibk.ac.at
ORGANIZER;CN="LFU:online Universität Innsbruck":MAILTO:Uni-Innsbruck-noreply@uibk.ac.at
SUMMARY:VU Einführung über Nachhaltiges Grundwasserressourcen Management (LV 800710-0 20S)
DESCRIPTION:Lehrveranstaltung 800710 20S, Gruppe 0\nTitel: VU Einführung über Nachhaltiges Grundwasserressourcen Management\nOrt: Benutzerraum 5\n\nhttps://lfuonline.uibk.ac.at/public/lfuonline_lv.details?sem_id_in=20S&lvnr_id_in=800710\n
CLASS:PUBLIC
DTSTART:20200311T073000Z
DTEND:20200311T133000Z
DTSTAMP:20260419T121608Z
LOCATION:Benutzerraum 5
END:VEVENT
BEGIN:VEVENT
UID:20S_800710_3534968@uibk.ac.at
ORGANIZER;CN="LFU:online Universität Innsbruck":MAILTO:Uni-Innsbruck-noreply@uibk.ac.at
SUMMARY:VU Einführung über Nachhaltiges Grundwasserressourcen Management (LV 800710-0 20S)
DESCRIPTION:Lehrveranstaltung 800710 20S, Gruppe 0\nTitel: VU Einführung über Nachhaltiges Grundwasserressourcen Management\nOrt: Benutzerraum 5\n\nhttps://lfuonline.uibk.ac.at/public/lfuonline_lv.details?sem_id_in=20S&lvnr_id_in=800710\n
CLASS:PUBLIC
DTSTART:20200312T073000Z
DTEND:20200312T133000Z
DTSTAMP:20260419T121608Z
LOCATION:Benutzerraum 5
END:VEVENT
BEGIN:VEVENT
UID:20S_800710_3534969@uibk.ac.at
ORGANIZER;CN="LFU:online Universität Innsbruck":MAILTO:Uni-Innsbruck-noreply@uibk.ac.at
SUMMARY:VU Einführung über Nachhaltiges Grundwasserressourcen Management (LV 800710-0 20S)
DESCRIPTION:Lehrveranstaltung 800710 20S, Gruppe 0\nTitel: VU Einführung über Nachhaltiges Grundwasserressourcen Management\nOrt: Benutzerraum 5\n\nhttps://lfuonline.uibk.ac.at/public/lfuonline_lv.details?sem_id_in=20S&lvnr_id_in=800710\n
CLASS:PUBLIC
DTSTART:20200313T073000Z
DTEND:20200313T133000Z
DTSTAMP:20260419T121608Z
LOCATION:Benutzerraum 5
END:VEVENT
BEGIN:VEVENT
UID:20S_800710_3535821@uibk.ac.at
ORGANIZER;CN="LFU:online Universität Innsbruck":MAILTO:Uni-Innsbruck-noreply@uibk.ac.at
SUMMARY:VU Einführung über Nachhaltiges Grundwasserressourcen Management (LV 800710-0 20S)
DESCRIPTION:Lehrveranstaltung 800710 20S, Gruppe 0\nTitel: VU Einführung über Nachhaltiges Grundwasserressourcen Management\nOrt: Benutzerraum 5\n\nhttps://lfuonline.uibk.ac.at/public/lfuonline_lv.details?sem_id_in=20S&lvnr_id_in=800710\n
CLASS:PUBLIC
DTSTART:20200316T073000Z
DTEND:20200316T133000Z
DTSTAMP:20260419T121608Z
LOCATION:Benutzerraum 5
END:VEVENT
BEGIN:VEVENT
UID:20S_800710_3585737@uibk.ac.at
ORGANIZER;CN="LFU:online Universität Innsbruck":MAILTO:Uni-Innsbruck-noreply@uibk.ac.at
SUMMARY:VU Einführung über Nachhaltiges Grundwasserressourcen Management (LV 800710-0 20S)
DESCRIPTION:Lehrveranstaltung 800710 20S, Gruppe 0\nTitel: VU Einführung über Nachhaltiges Grundwasserressourcen Management\nOrt: Benutzerraum 5\n\nhttps://lfuonline.uibk.ac.at/public/lfuonline_lv.details?sem_id_in=20S&lvnr_id_in=800710\n
CLASS:PUBLIC
DTSTART:20200316T133000Z
DTEND:20200316T143000Z
DTSTAMP:20260419T121608Z
LOCATION:Benutzerraum 5
END:VEVENT
BEGIN:VEVENT
UID:20S_800710_3535822@uibk.ac.at
ORGANIZER;CN="LFU:online Universität Innsbruck":MAILTO:Uni-Innsbruck-noreply@uibk.ac.at
SUMMARY:VU Einführung über Nachhaltiges Grundwasserressourcen Management (LV 800710-0 20S)
DESCRIPTION:Lehrveranstaltung 800710 20S, Gruppe 0\nTitel: VU Einführung über Nachhaltiges Grundwasserressourcen Management\nOrt: Benutzerraum 5\n\nhttps://lfuonline.uibk.ac.at/public/lfuonline_lv.details?sem_id_in=20S&lvnr_id_in=800710\n
CLASS:PUBLIC
DTSTART:20200317T073000Z
DTEND:20200317T133000Z
DTSTAMP:20260419T121608Z
LOCATION:Benutzerraum 5
END:VEVENT
BEGIN:VEVENT
UID:20S_800710_3534972@uibk.ac.at
ORGANIZER;CN="LFU:online Universität Innsbruck":MAILTO:Uni-Innsbruck-noreply@uibk.ac.at
SUMMARY:VU Einführung über Nachhaltiges Grundwasserressourcen Management (LV 800710-0 20S)
DESCRIPTION:Lehrveranstaltung 800710 20S, Gruppe 0\nTitel: VU Einführung über Nachhaltiges Grundwasserressourcen Management\nOrt: Benutzerraum 5\n\nhttps://lfuonline.uibk.ac.at/public/lfuonline_lv.details?sem_id_in=20S&lvnr_id_in=800710\n
CLASS:PUBLIC
DTSTART:20200318T073000Z
DTEND:20200318T103000Z
DTSTAMP:20260419T121608Z
LOCATION:Benutzerraum 5
END:VEVENT
END:VCALENDAR