BEGIN:VCALENDAR
VERSION:2.0
PRODID:-//Universität Innsbruck//LFU:online//DE
METHOD:PUBLISH
BEGIN:VEVENT
UID:26S_800967_5062848@uibk.ac.at
ORGANIZER;CN="LFU:online Universität Innsbruck":MAILTO:Uni-Innsbruck-noreply@uibk.ac.at
SUMMARY:SE Seminar zu Klima und Umwelt in Gebirgsräumen 8 (LV 800967-0 26S)
DESCRIPTION:Lehrveranstaltung 800967 26S, Gruppe 0\nTitel: SE Seminar zu Klima und Umwelt in Gebirgsräumen 8\nOrt: Auswärtiger Ort\n\nhttps://lfuonline.uibk.ac.at/public/lfuonline_lv.details?sem_id_in=26S&lvnr_id_in=800967\n
CLASS:PUBLIC
DTSTART:20260611T060000Z
DTEND:20260611T200000Z
DTSTAMP:20260426T040221Z
LOCATION:Auswärtiger Ort
COMMENT:Schneefernerhaus/ Zugspitze/ Biberwier 
END:VEVENT
BEGIN:VEVENT
UID:26S_800967_5062849@uibk.ac.at
ORGANIZER;CN="LFU:online Universität Innsbruck":MAILTO:Uni-Innsbruck-noreply@uibk.ac.at
SUMMARY:SE Seminar zu Klima und Umwelt in Gebirgsräumen 8 (LV 800967-0 26S)
DESCRIPTION:Lehrveranstaltung 800967 26S, Gruppe 0\nTitel: SE Seminar zu Klima und Umwelt in Gebirgsräumen 8\nOrt: Auswärtiger Ort\n\nhttps://lfuonline.uibk.ac.at/public/lfuonline_lv.details?sem_id_in=26S&lvnr_id_in=800967\n
CLASS:PUBLIC
DTSTART:20260612T060000Z
DTEND:20260612T120000Z
DTSTAMP:20260426T040221Z
LOCATION:Auswärtiger Ort
COMMENT:Schneefernerhaus/ Zugspitze/ Biberwier 
END:VEVENT
END:VCALENDAR