BEGIN:VCALENDAR
VERSION:2.0
PRODID:-//Universität Innsbruck//LFU:online//DE
METHOD:PUBLISH
BEGIN:VEVENT
UID:24W_800989_4689824@uibk.ac.at
ORGANIZER;CN="LFU:online Universität Innsbruck":MAILTO:Uni-Innsbruck-noreply@uibk.ac.at
SUMMARY:SE DissertanInnenseminar - Präsentation und Diskussion der eigenen Forschungsleistung unter dem Fokus von Naturgefahren in Gebirgsregionen 8 (LV 800989-0 24W)
DESCRIPTION:Lehrveranstaltung 800989 24W, Gruppe 0\nTitel: SE DissertanInnenseminar - Präsentation und Diskussion der eigenen Forschungsleistung unter dem Fokus von Naturgefahren in Gebirgsregionen 8\nOrt: Freiland\n\nhttps://lfuonline.uibk.ac.at/public/lfuonline_lv.details?sem_id_in=24W&lvnr_id_in=800989\n
CLASS:PUBLIC
DTSTART:20250117T070000Z
DTEND:20250117T160000Z
DTSTAMP:20260425T105746Z
LOCATION:Freiland
COMMENT:AK Seehof 
END:VEVENT
END:VCALENDAR