BEGIN:VCALENDAR
VERSION:2.0
PRODID:-//Universität Innsbruck//LFU:online//DE
METHOD:PUBLISH
BEGIN:VEVENT
UID:14W_844530_2380481@uibk.ac.at
ORGANIZER;CN="LFU:online Universität Innsbruck":MAILTO:Uni-Innsbruck-noreply@uibk.ac.at
SUMMARY:Mechanik in der Mechatronik 1 (LV 844530-0 14W)
DESCRIPTION:Lehrveranstaltung 844530 14W, Gruppe 0\nTitel: Mechanik in der Mechatronik 1\nOrt: HS F (Technik)\n\nhttps://lfuonline.uibk.ac.at/public/lfuonline_lv.details?sem_id_in=14W&lvnr_id_in=844530\n
CLASS:PUBLIC
DTSTART:20141002T084500Z
DTEND:20141002T110000Z
DTSTAMP:20260419T121511Z
LOCATION:HS F (Technik)
END:VEVENT
BEGIN:VEVENT
UID:14W_844530_2380482@uibk.ac.at
ORGANIZER;CN="LFU:online Universität Innsbruck":MAILTO:Uni-Innsbruck-noreply@uibk.ac.at
SUMMARY:Mechanik in der Mechatronik 1 (LV 844530-0 14W)
DESCRIPTION:Lehrveranstaltung 844530 14W, Gruppe 0\nTitel: Mechanik in der Mechatronik 1\nOrt: HS F (Technik)\n\nhttps://lfuonline.uibk.ac.at/public/lfuonline_lv.details?sem_id_in=14W&lvnr_id_in=844530\n
CLASS:PUBLIC
DTSTART:20141009T084500Z
DTEND:20141009T110000Z
DTSTAMP:20260419T121511Z
LOCATION:HS F (Technik)
END:VEVENT
BEGIN:VEVENT
UID:14W_844530_2380483@uibk.ac.at
ORGANIZER;CN="LFU:online Universität Innsbruck":MAILTO:Uni-Innsbruck-noreply@uibk.ac.at
SUMMARY:Mechanik in der Mechatronik 1 (LV 844530-0 14W)
DESCRIPTION:Lehrveranstaltung 844530 14W, Gruppe 0\nTitel: Mechanik in der Mechatronik 1\nOrt: HS F (Technik)\n\nhttps://lfuonline.uibk.ac.at/public/lfuonline_lv.details?sem_id_in=14W&lvnr_id_in=844530\n
CLASS:PUBLIC
DTSTART:20141016T084500Z
DTEND:20141016T110000Z
DTSTAMP:20260419T121511Z
LOCATION:HS F (Technik)
END:VEVENT
BEGIN:VEVENT
UID:14W_844530_2380484@uibk.ac.at
ORGANIZER;CN="LFU:online Universität Innsbruck":MAILTO:Uni-Innsbruck-noreply@uibk.ac.at
SUMMARY:Mechanik in der Mechatronik 1 (LV 844530-0 14W)
DESCRIPTION:Lehrveranstaltung 844530 14W, Gruppe 0\nTitel: Mechanik in der Mechatronik 1\nOrt: HS F (Technik)\n\nhttps://lfuonline.uibk.ac.at/public/lfuonline_lv.details?sem_id_in=14W&lvnr_id_in=844530\n
CLASS:PUBLIC
DTSTART:20141023T084500Z
DTEND:20141023T110000Z
DTSTAMP:20260419T121511Z
LOCATION:HS F (Technik)
END:VEVENT
BEGIN:VEVENT
UID:14W_844530_2380485@uibk.ac.at
ORGANIZER;CN="LFU:online Universität Innsbruck":MAILTO:Uni-Innsbruck-noreply@uibk.ac.at
SUMMARY:Mechanik in der Mechatronik 1 (LV 844530-0 14W)
DESCRIPTION:Lehrveranstaltung 844530 14W, Gruppe 0\nTitel: Mechanik in der Mechatronik 1\nOrt: HS F (Technik)\n\nhttps://lfuonline.uibk.ac.at/public/lfuonline_lv.details?sem_id_in=14W&lvnr_id_in=844530\n
CLASS:PUBLIC
DTSTART:20141030T094500Z
DTEND:20141030T120000Z
DTSTAMP:20260419T121511Z
LOCATION:HS F (Technik)
END:VEVENT
BEGIN:VEVENT
UID:14W_844530_2380486@uibk.ac.at
ORGANIZER;CN="LFU:online Universität Innsbruck":MAILTO:Uni-Innsbruck-noreply@uibk.ac.at
SUMMARY:Mechanik in der Mechatronik 1 (LV 844530-0 14W)
DESCRIPTION:Lehrveranstaltung 844530 14W, Gruppe 0\nTitel: Mechanik in der Mechatronik 1\nOrt: HS F (Technik)\n\nhttps://lfuonline.uibk.ac.at/public/lfuonline_lv.details?sem_id_in=14W&lvnr_id_in=844530\n
CLASS:PUBLIC
DTSTART:20141106T094500Z
DTEND:20141106T120000Z
DTSTAMP:20260419T121511Z
LOCATION:HS F (Technik)
END:VEVENT
BEGIN:VEVENT
UID:14W_844530_2380487@uibk.ac.at
ORGANIZER;CN="LFU:online Universität Innsbruck":MAILTO:Uni-Innsbruck-noreply@uibk.ac.at
SUMMARY:Mechanik in der Mechatronik 1 (LV 844530-0 14W)
DESCRIPTION:Lehrveranstaltung 844530 14W, Gruppe 0\nTitel: Mechanik in der Mechatronik 1\nOrt: HS F (Technik)\n\nhttps://lfuonline.uibk.ac.at/public/lfuonline_lv.details?sem_id_in=14W&lvnr_id_in=844530\n
CLASS:PUBLIC
DTSTART:20141113T094500Z
DTEND:20141113T120000Z
DTSTAMP:20260419T121511Z
LOCATION:HS F (Technik)
END:VEVENT
BEGIN:VEVENT
UID:14W_844530_2380488@uibk.ac.at
ORGANIZER;CN="LFU:online Universität Innsbruck":MAILTO:Uni-Innsbruck-noreply@uibk.ac.at
SUMMARY:Mechanik in der Mechatronik 1 (LV 844530-0 14W)
DESCRIPTION:Lehrveranstaltung 844530 14W, Gruppe 0\nTitel: Mechanik in der Mechatronik 1\nOrt: HS F (Technik)\n\nhttps://lfuonline.uibk.ac.at/public/lfuonline_lv.details?sem_id_in=14W&lvnr_id_in=844530\n
CLASS:PUBLIC
DTSTART:20141120T094500Z
DTEND:20141120T120000Z
DTSTAMP:20260419T121511Z
LOCATION:HS F (Technik)
END:VEVENT
BEGIN:VEVENT
UID:14W_844530_2380489@uibk.ac.at
ORGANIZER;CN="LFU:online Universität Innsbruck":MAILTO:Uni-Innsbruck-noreply@uibk.ac.at
SUMMARY:Mechanik in der Mechatronik 1 (LV 844530-0 14W)
DESCRIPTION:Lehrveranstaltung 844530 14W, Gruppe 0\nTitel: Mechanik in der Mechatronik 1\nOrt: HS F (Technik)\n\nhttps://lfuonline.uibk.ac.at/public/lfuonline_lv.details?sem_id_in=14W&lvnr_id_in=844530\n
CLASS:PUBLIC
DTSTART:20141127T094500Z
DTEND:20141127T120000Z
DTSTAMP:20260419T121511Z
LOCATION:HS F (Technik)
END:VEVENT
BEGIN:VEVENT
UID:14W_844530_2380490@uibk.ac.at
ORGANIZER;CN="LFU:online Universität Innsbruck":MAILTO:Uni-Innsbruck-noreply@uibk.ac.at
SUMMARY:Mechanik in der Mechatronik 1 (LV 844530-0 14W)
DESCRIPTION:Lehrveranstaltung 844530 14W, Gruppe 0\nTitel: Mechanik in der Mechatronik 1\nOrt: HS F (Technik)\n\nhttps://lfuonline.uibk.ac.at/public/lfuonline_lv.details?sem_id_in=14W&lvnr_id_in=844530\n
CLASS:PUBLIC
DTSTART:20141204T094500Z
DTEND:20141204T120000Z
DTSTAMP:20260419T121511Z
LOCATION:HS F (Technik)
END:VEVENT
BEGIN:VEVENT
UID:14W_844530_2380491@uibk.ac.at
ORGANIZER;CN="LFU:online Universität Innsbruck":MAILTO:Uni-Innsbruck-noreply@uibk.ac.at
SUMMARY:Mechanik in der Mechatronik 1 (LV 844530-0 14W)
DESCRIPTION:Lehrveranstaltung 844530 14W, Gruppe 0\nTitel: Mechanik in der Mechatronik 1\nOrt: HS F (Technik)\n\nhttps://lfuonline.uibk.ac.at/public/lfuonline_lv.details?sem_id_in=14W&lvnr_id_in=844530\n
CLASS:PUBLIC
DTSTART:20141211T094500Z
DTEND:20141211T120000Z
DTSTAMP:20260419T121511Z
LOCATION:HS F (Technik)
END:VEVENT
BEGIN:VEVENT
UID:14W_844530_2380492@uibk.ac.at
ORGANIZER;CN="LFU:online Universität Innsbruck":MAILTO:Uni-Innsbruck-noreply@uibk.ac.at
SUMMARY:Mechanik in der Mechatronik 1 (LV 844530-0 14W)
DESCRIPTION:Lehrveranstaltung 844530 14W, Gruppe 0\nTitel: Mechanik in der Mechatronik 1\nOrt: HS F (Technik)\n\nhttps://lfuonline.uibk.ac.at/public/lfuonline_lv.details?sem_id_in=14W&lvnr_id_in=844530\n
CLASS:PUBLIC
DTSTART:20150108T094500Z
DTEND:20150108T120000Z
DTSTAMP:20260419T121511Z
LOCATION:HS F (Technik)
END:VEVENT
BEGIN:VEVENT
UID:14W_844530_2380493@uibk.ac.at
ORGANIZER;CN="LFU:online Universität Innsbruck":MAILTO:Uni-Innsbruck-noreply@uibk.ac.at
SUMMARY:Mechanik in der Mechatronik 1 (LV 844530-0 14W)
DESCRIPTION:Lehrveranstaltung 844530 14W, Gruppe 0\nTitel: Mechanik in der Mechatronik 1\nOrt: HS F (Technik)\n\nhttps://lfuonline.uibk.ac.at/public/lfuonline_lv.details?sem_id_in=14W&lvnr_id_in=844530\n
CLASS:PUBLIC
DTSTART:20150115T094500Z
DTEND:20150115T120000Z
DTSTAMP:20260419T121511Z
LOCATION:HS F (Technik)
END:VEVENT
BEGIN:VEVENT
UID:14W_844530_2380494@uibk.ac.at
ORGANIZER;CN="LFU:online Universität Innsbruck":MAILTO:Uni-Innsbruck-noreply@uibk.ac.at
SUMMARY:Mechanik in der Mechatronik 1 (LV 844530-0 14W)
DESCRIPTION:Lehrveranstaltung 844530 14W, Gruppe 0\nTitel: Mechanik in der Mechatronik 1\nOrt: HS F (Technik)\n\nhttps://lfuonline.uibk.ac.at/public/lfuonline_lv.details?sem_id_in=14W&lvnr_id_in=844530\n
CLASS:PUBLIC
DTSTART:20150122T094500Z
DTEND:20150122T120000Z
DTSTAMP:20260419T121511Z
LOCATION:HS F (Technik)
END:VEVENT
BEGIN:VEVENT
UID:14W_844530_2380495@uibk.ac.at
ORGANIZER;CN="LFU:online Universität Innsbruck":MAILTO:Uni-Innsbruck-noreply@uibk.ac.at
SUMMARY:Mechanik in der Mechatronik 1 (LV 844530-0 14W)
DESCRIPTION:Lehrveranstaltung 844530 14W, Gruppe 0\nTitel: Mechanik in der Mechatronik 1\nOrt: HS F (Technik)\n\nhttps://lfuonline.uibk.ac.at/public/lfuonline_lv.details?sem_id_in=14W&lvnr_id_in=844530\n
CLASS:PUBLIC
DTSTART:20150129T094500Z
DTEND:20150129T120000Z
DTSTAMP:20260419T121511Z
LOCATION:HS F (Technik)
END:VEVENT
BEGIN:VEVENT
UID:14W_844530_2494539@uibk.ac.at
ORGANIZER;CN="LFU:online Universität Innsbruck":MAILTO:Uni-Innsbruck-noreply@uibk.ac.at
SUMMARY:Mechanik in der Mechatronik 1 (LV 844530-0 14W)
DESCRIPTION:Lehrveranstaltung 844530 14W, Gruppe 0\nTitel: Mechanik in der Mechatronik 1\nOrt: HSB  2\n\nhttps://lfuonline.uibk.ac.at/public/lfuonline_lv.details?sem_id_in=14W&lvnr_id_in=844530\n
CLASS:PUBLIC
DTSTART:20150206T070000Z
DTEND:20150206T100000Z
DTSTAMP:20260419T121511Z
LOCATION:HSB  2
COMMENT:Prüfung
END:VEVENT
BEGIN:VEVENT
UID:14W_844530_2452636@uibk.ac.at
ORGANIZER;CN="LFU:online Universität Innsbruck":MAILTO:Uni-Innsbruck-noreply@uibk.ac.at
SUMMARY:Mechanik in der Mechatronik 1 (LV 844530-0 14W)
DESCRIPTION:Lehrveranstaltung 844530 14W, Gruppe 0\nTitel: Mechanik in der Mechatronik 1\nOrt: HSB  1\n\nhttps://lfuonline.uibk.ac.at/public/lfuonline_lv.details?sem_id_in=14W&lvnr_id_in=844530\n
CLASS:PUBLIC
DTSTART:20150206T070000Z
DTEND:20150206T100000Z
DTSTAMP:20260419T121511Z
LOCATION:HSB  1
COMMENT:Prüfung 
END:VEVENT
END:VCALENDAR