BEGIN:VCALENDAR
VERSION:2.0
PRODID:-//Universität Innsbruck//LFU:online//DE
METHOD:PUBLISH
BEGIN:VEVENT
UID:24W_845223_4593373@uibk.ac.at
ORGANIZER;CN="LFU:online Universität Innsbruck":MAILTO:Uni-Innsbruck-noreply@uibk.ac.at
SUMMARY:VU Instationäre Hydraulik (LV 845223-0 24W)
DESCRIPTION:Lehrveranstaltung 845223 24W, Gruppe 0\nTitel: VU Instationäre Hydraulik\nOrt: rr 26\n\nhttps://lfuonline.uibk.ac.at/public/lfuonline_lv.details?sem_id_in=24W&lvnr_id_in=845223\n
CLASS:PUBLIC
DTSTART:20241003T133000Z
DTEND:20241003T150000Z
DTSTAMP:20260423T124251Z
LOCATION:rr 26
END:VEVENT
BEGIN:VEVENT
UID:24W_845223_4593374@uibk.ac.at
ORGANIZER;CN="LFU:online Universität Innsbruck":MAILTO:Uni-Innsbruck-noreply@uibk.ac.at
SUMMARY:VU Instationäre Hydraulik (LV 845223-0 24W)
DESCRIPTION:Lehrveranstaltung 845223 24W, Gruppe 0\nTitel: VU Instationäre Hydraulik\nOrt: rr 26\n\nhttps://lfuonline.uibk.ac.at/public/lfuonline_lv.details?sem_id_in=24W&lvnr_id_in=845223\n
CLASS:PUBLIC
DTSTART:20241010T133000Z
DTEND:20241010T150000Z
DTSTAMP:20260423T124251Z
LOCATION:rr 26
END:VEVENT
BEGIN:VEVENT
UID:24W_845223_4593375@uibk.ac.at
ORGANIZER;CN="LFU:online Universität Innsbruck":MAILTO:Uni-Innsbruck-noreply@uibk.ac.at
SUMMARY:VU Instationäre Hydraulik (LV 845223-0 24W)
DESCRIPTION:Lehrveranstaltung 845223 24W, Gruppe 0\nTitel: VU Instationäre Hydraulik\nOrt: rr 26\n\nhttps://lfuonline.uibk.ac.at/public/lfuonline_lv.details?sem_id_in=24W&lvnr_id_in=845223\n
CLASS:PUBLIC
DTSTART:20241017T133000Z
DTEND:20241017T150000Z
DTSTAMP:20260423T124251Z
LOCATION:rr 26
END:VEVENT
BEGIN:VEVENT
UID:24W_845223_4593376@uibk.ac.at
ORGANIZER;CN="LFU:online Universität Innsbruck":MAILTO:Uni-Innsbruck-noreply@uibk.ac.at
SUMMARY:VU Instationäre Hydraulik (LV 845223-0 24W)
DESCRIPTION:Lehrveranstaltung 845223 24W, Gruppe 0\nTitel: VU Instationäre Hydraulik\nOrt: rr 26\n\nhttps://lfuonline.uibk.ac.at/public/lfuonline_lv.details?sem_id_in=24W&lvnr_id_in=845223\n
CLASS:PUBLIC
DTSTART:20241024T133000Z
DTEND:20241024T150000Z
DTSTAMP:20260423T124251Z
LOCATION:rr 26
END:VEVENT
BEGIN:VEVENT
UID:24W_845223_4593377@uibk.ac.at
ORGANIZER;CN="LFU:online Universität Innsbruck":MAILTO:Uni-Innsbruck-noreply@uibk.ac.at
SUMMARY:VU Instationäre Hydraulik (LV 845223-0 24W)
DESCRIPTION:Lehrveranstaltung 845223 24W, Gruppe 0\nTitel: VU Instationäre Hydraulik\nOrt: rr 26\n\nhttps://lfuonline.uibk.ac.at/public/lfuonline_lv.details?sem_id_in=24W&lvnr_id_in=845223\n
CLASS:PUBLIC
DTSTART:20241031T143000Z
DTEND:20241031T160000Z
DTSTAMP:20260423T124251Z
LOCATION:rr 26
END:VEVENT
BEGIN:VEVENT
UID:24W_845223_4593378@uibk.ac.at
ORGANIZER;CN="LFU:online Universität Innsbruck":MAILTO:Uni-Innsbruck-noreply@uibk.ac.at
SUMMARY:VU Instationäre Hydraulik (LV 845223-0 24W)
DESCRIPTION:Lehrveranstaltung 845223 24W, Gruppe 0\nTitel: VU Instationäre Hydraulik\nOrt: rr 26\n\nhttps://lfuonline.uibk.ac.at/public/lfuonline_lv.details?sem_id_in=24W&lvnr_id_in=845223\n
CLASS:PUBLIC
DTSTART:20241107T143000Z
DTEND:20241107T160000Z
DTSTAMP:20260423T124251Z
LOCATION:rr 26
END:VEVENT
BEGIN:VEVENT
UID:24W_845223_4593379@uibk.ac.at
ORGANIZER;CN="LFU:online Universität Innsbruck":MAILTO:Uni-Innsbruck-noreply@uibk.ac.at
SUMMARY:VU Instationäre Hydraulik (LV 845223-0 24W)
DESCRIPTION:Lehrveranstaltung 845223 24W, Gruppe 0\nTitel: VU Instationäre Hydraulik\nOrt: rr 26\n\nhttps://lfuonline.uibk.ac.at/public/lfuonline_lv.details?sem_id_in=24W&lvnr_id_in=845223\n
CLASS:PUBLIC
DTSTART:20241114T143000Z
DTEND:20241114T160000Z
DTSTAMP:20260423T124251Z
LOCATION:rr 26
END:VEVENT
BEGIN:VEVENT
UID:24W_845223_4593380@uibk.ac.at
ORGANIZER;CN="LFU:online Universität Innsbruck":MAILTO:Uni-Innsbruck-noreply@uibk.ac.at
SUMMARY:VU Instationäre Hydraulik (LV 845223-0 24W)
DESCRIPTION:Lehrveranstaltung 845223 24W, Gruppe 0\nTitel: VU Instationäre Hydraulik\nOrt: rr 26\n\nhttps://lfuonline.uibk.ac.at/public/lfuonline_lv.details?sem_id_in=24W&lvnr_id_in=845223\n
CLASS:PUBLIC
DTSTART:20241121T143000Z
DTEND:20241121T160000Z
DTSTAMP:20260423T124251Z
LOCATION:rr 26
END:VEVENT
BEGIN:VEVENT
UID:24W_845223_4593381@uibk.ac.at
ORGANIZER;CN="LFU:online Universität Innsbruck":MAILTO:Uni-Innsbruck-noreply@uibk.ac.at
SUMMARY:VU Instationäre Hydraulik (LV 845223-0 24W)
DESCRIPTION:Lehrveranstaltung 845223 24W, Gruppe 0\nTitel: VU Instationäre Hydraulik\nOrt: rr 26\n\nhttps://lfuonline.uibk.ac.at/public/lfuonline_lv.details?sem_id_in=24W&lvnr_id_in=845223\n
CLASS:PUBLIC
DTSTART:20241128T143000Z
DTEND:20241128T160000Z
DTSTAMP:20260423T124251Z
LOCATION:rr 26
END:VEVENT
BEGIN:VEVENT
UID:24W_845223_4593382@uibk.ac.at
ORGANIZER;CN="LFU:online Universität Innsbruck":MAILTO:Uni-Innsbruck-noreply@uibk.ac.at
SUMMARY:VU Instationäre Hydraulik (LV 845223-0 24W)
DESCRIPTION:Lehrveranstaltung 845223 24W, Gruppe 0\nTitel: VU Instationäre Hydraulik\nOrt: rr 26\n\nhttps://lfuonline.uibk.ac.at/public/lfuonline_lv.details?sem_id_in=24W&lvnr_id_in=845223\n
CLASS:PUBLIC
DTSTART:20241205T143000Z
DTEND:20241205T160000Z
DTSTAMP:20260423T124251Z
LOCATION:rr 26
END:VEVENT
BEGIN:VEVENT
UID:24W_845223_4593383@uibk.ac.at
ORGANIZER;CN="LFU:online Universität Innsbruck":MAILTO:Uni-Innsbruck-noreply@uibk.ac.at
SUMMARY:VU Instationäre Hydraulik (LV 845223-0 24W)
DESCRIPTION:Lehrveranstaltung 845223 24W, Gruppe 0\nTitel: VU Instationäre Hydraulik\nOrt: rr 26\n\nhttps://lfuonline.uibk.ac.at/public/lfuonline_lv.details?sem_id_in=24W&lvnr_id_in=845223\n
CLASS:PUBLIC
DTSTART:20241212T143000Z
DTEND:20241212T160000Z
DTSTAMP:20260423T124251Z
LOCATION:rr 26
END:VEVENT
BEGIN:VEVENT
UID:24W_845223_4593384@uibk.ac.at
ORGANIZER;CN="LFU:online Universität Innsbruck":MAILTO:Uni-Innsbruck-noreply@uibk.ac.at
SUMMARY:VU Instationäre Hydraulik (LV 845223-0 24W)
DESCRIPTION:Lehrveranstaltung 845223 24W, Gruppe 0\nTitel: VU Instationäre Hydraulik\nOrt: rr 26\n\nhttps://lfuonline.uibk.ac.at/public/lfuonline_lv.details?sem_id_in=24W&lvnr_id_in=845223\n
CLASS:PUBLIC
DTSTART:20250109T143000Z
DTEND:20250109T160000Z
DTSTAMP:20260423T124251Z
LOCATION:rr 26
END:VEVENT
BEGIN:VEVENT
UID:24W_845223_4593385@uibk.ac.at
ORGANIZER;CN="LFU:online Universität Innsbruck":MAILTO:Uni-Innsbruck-noreply@uibk.ac.at
SUMMARY:VU Instationäre Hydraulik (LV 845223-0 24W)
DESCRIPTION:Lehrveranstaltung 845223 24W, Gruppe 0\nTitel: VU Instationäre Hydraulik\nOrt: rr 26\n\nhttps://lfuonline.uibk.ac.at/public/lfuonline_lv.details?sem_id_in=24W&lvnr_id_in=845223\n
CLASS:PUBLIC
DTSTART:20250116T143000Z
DTEND:20250116T160000Z
DTSTAMP:20260423T124251Z
LOCATION:rr 26
END:VEVENT
BEGIN:VEVENT
UID:24W_845223_4593386@uibk.ac.at
ORGANIZER;CN="LFU:online Universität Innsbruck":MAILTO:Uni-Innsbruck-noreply@uibk.ac.at
SUMMARY:VU Instationäre Hydraulik (LV 845223-0 24W)
DESCRIPTION:Lehrveranstaltung 845223 24W, Gruppe 0\nTitel: VU Instationäre Hydraulik\nOrt: rr 26\n\nhttps://lfuonline.uibk.ac.at/public/lfuonline_lv.details?sem_id_in=24W&lvnr_id_in=845223\n
CLASS:PUBLIC
DTSTART:20250123T143000Z
DTEND:20250123T160000Z
DTSTAMP:20260423T124251Z
LOCATION:rr 26
END:VEVENT
BEGIN:VEVENT
UID:24W_845223_4593387@uibk.ac.at
ORGANIZER;CN="LFU:online Universität Innsbruck":MAILTO:Uni-Innsbruck-noreply@uibk.ac.at
SUMMARY:VU Instationäre Hydraulik (LV 845223-0 24W)
DESCRIPTION:Lehrveranstaltung 845223 24W, Gruppe 0\nTitel: VU Instationäre Hydraulik\nOrt: rr 26\n\nhttps://lfuonline.uibk.ac.at/public/lfuonline_lv.details?sem_id_in=24W&lvnr_id_in=845223\n
CLASS:PUBLIC
DTSTART:20250130T143000Z
DTEND:20250130T160000Z
DTSTAMP:20260423T124251Z
LOCATION:rr 26
END:VEVENT
END:VCALENDAR