BEGIN:VCALENDAR
VERSION:2.0
PRODID:-//Universität Innsbruck//LFU:online//DE
METHOD:PUBLISH
BEGIN:VEVENT
UID:25S_845229_4723990@uibk.ac.at
ORGANIZER;CN="LFU:online Universität Innsbruck":MAILTO:Uni-Innsbruck-noreply@uibk.ac.at
SUMMARY:UE Wasserbau (LV 845229-0 25S)
DESCRIPTION:Lehrveranstaltung 845229 25S, Gruppe 0\nTitel: UE Wasserbau\nOrt: HSB  7\n\nhttps://lfuonline.uibk.ac.at/public/lfuonline_lv.details?sem_id_in=25S&lvnr_id_in=845229\n
CLASS:PUBLIC
DTSTART:20250304T124500Z
DTEND:20250304T141500Z
DTSTAMP:20260423T155204Z
LOCATION:HSB  7
END:VEVENT
BEGIN:VEVENT
UID:25S_845229_4723995@uibk.ac.at
ORGANIZER;CN="LFU:online Universität Innsbruck":MAILTO:Uni-Innsbruck-noreply@uibk.ac.at
SUMMARY:UE Wasserbau (LV 845229-0 25S)
DESCRIPTION:Lehrveranstaltung 845229 25S, Gruppe 0\nTitel: UE Wasserbau\nOrt: HSB  7\n\nhttps://lfuonline.uibk.ac.at/public/lfuonline_lv.details?sem_id_in=25S&lvnr_id_in=845229\n
CLASS:PUBLIC
DTSTART:20250408T114500Z
DTEND:20250408T131500Z
DTSTAMP:20260423T155204Z
LOCATION:HSB  7
END:VEVENT
BEGIN:VEVENT
UID:25S_845229_4723996@uibk.ac.at
ORGANIZER;CN="LFU:online Universität Innsbruck":MAILTO:Uni-Innsbruck-noreply@uibk.ac.at
SUMMARY:UE Wasserbau (LV 845229-0 25S)
DESCRIPTION:Lehrveranstaltung 845229 25S, Gruppe 0\nTitel: UE Wasserbau\nOrt: HSB  7\n\nhttps://lfuonline.uibk.ac.at/public/lfuonline_lv.details?sem_id_in=25S&lvnr_id_in=845229\n
CLASS:PUBLIC
DTSTART:20250429T114500Z
DTEND:20250429T131500Z
DTSTAMP:20260423T155204Z
LOCATION:HSB  7
END:VEVENT
BEGIN:VEVENT
UID:25S_845229_4723998@uibk.ac.at
ORGANIZER;CN="LFU:online Universität Innsbruck":MAILTO:Uni-Innsbruck-noreply@uibk.ac.at
SUMMARY:UE Wasserbau (LV 845229-0 25S)
DESCRIPTION:Lehrveranstaltung 845229 25S, Gruppe 0\nTitel: UE Wasserbau\nOrt: HSB  7\n\nhttps://lfuonline.uibk.ac.at/public/lfuonline_lv.details?sem_id_in=25S&lvnr_id_in=845229\n
CLASS:PUBLIC
DTSTART:20250513T114500Z
DTEND:20250513T131500Z
DTSTAMP:20260423T155204Z
LOCATION:HSB  7
END:VEVENT
BEGIN:VEVENT
UID:25S_845229_4724000@uibk.ac.at
ORGANIZER;CN="LFU:online Universität Innsbruck":MAILTO:Uni-Innsbruck-noreply@uibk.ac.at
SUMMARY:UE Wasserbau (LV 845229-0 25S)
DESCRIPTION:Lehrveranstaltung 845229 25S, Gruppe 0\nTitel: UE Wasserbau\nOrt: HSB  7\n\nhttps://lfuonline.uibk.ac.at/public/lfuonline_lv.details?sem_id_in=25S&lvnr_id_in=845229\n
CLASS:PUBLIC
DTSTART:20250527T114500Z
DTEND:20250527T131500Z
DTSTAMP:20260423T155204Z
LOCATION:HSB  7
END:VEVENT
BEGIN:VEVENT
UID:25S_845229_4724002@uibk.ac.at
ORGANIZER;CN="LFU:online Universität Innsbruck":MAILTO:Uni-Innsbruck-noreply@uibk.ac.at
SUMMARY:UE Wasserbau (LV 845229-0 25S)
DESCRIPTION:Lehrveranstaltung 845229 25S, Gruppe 0\nTitel: UE Wasserbau\nOrt: HSB  7\n\nhttps://lfuonline.uibk.ac.at/public/lfuonline_lv.details?sem_id_in=25S&lvnr_id_in=845229\n
CLASS:PUBLIC
DTSTART:20250610T114500Z
DTEND:20250610T131500Z
DTSTAMP:20260423T155204Z
LOCATION:HSB  7
END:VEVENT
BEGIN:VEVENT
UID:25S_845229_4724003@uibk.ac.at
ORGANIZER;CN="LFU:online Universität Innsbruck":MAILTO:Uni-Innsbruck-noreply@uibk.ac.at
SUMMARY:UE Wasserbau (LV 845229-0 25S)
DESCRIPTION:Lehrveranstaltung 845229 25S, Gruppe 0\nTitel: UE Wasserbau\nOrt: HSB  7\n\nhttps://lfuonline.uibk.ac.at/public/lfuonline_lv.details?sem_id_in=25S&lvnr_id_in=845229\n
CLASS:PUBLIC
DTSTART:20250617T114500Z
DTEND:20250617T131500Z
DTSTAMP:20260423T155204Z
LOCATION:HSB  7
END:VEVENT
BEGIN:VEVENT
UID:25S_845229_4808022@uibk.ac.at
ORGANIZER;CN="LFU:online Universität Innsbruck":MAILTO:Uni-Innsbruck-noreply@uibk.ac.at
SUMMARY:UE Wasserbau (LV 845229-0 25S)
DESCRIPTION:Lehrveranstaltung 845229 25S, Gruppe 0\nTitel: UE Wasserbau\nOrt: HSB  3\n\nhttps://lfuonline.uibk.ac.at/public/lfuonline_lv.details?sem_id_in=25S&lvnr_id_in=845229\n
CLASS:PUBLIC
DTSTART:20250617T133000Z
DTEND:20250617T150000Z
DTSTAMP:20260423T155204Z
LOCATION:HSB  3
COMMENT:für alle Gruppen findet die Prüfung im HSB 3 statt
END:VEVENT
END:VCALENDAR