BEGIN:VCALENDAR
VERSION:2.0
PRODID:-//Universität Innsbruck//LFU:online//DE
METHOD:PUBLISH
BEGIN:VEVENT
UID:24W_845231_4683963@uibk.ac.at
ORGANIZER;CN="LFU:online Universität Innsbruck":MAILTO:Uni-Innsbruck-noreply@uibk.ac.at
SUMMARY:VU Ausgewählte Kapitel aus Wasserbau (LV 845231-0 24W)
DESCRIPTION:Lehrveranstaltung 845231 24W, Gruppe 0\nTitel: VU Ausgewählte Kapitel aus Wasserbau\nOrt: Besprechungsraum Nr. 326\n\nhttps://lfuonline.uibk.ac.at/public/lfuonline_lv.details?sem_id_in=24W&lvnr_id_in=845231\n
CLASS:PUBLIC
DTSTART:20241003T151500Z
DTEND:20241003T164500Z
DTSTAMP:20260423T111821Z
LOCATION:Besprechungsraum Nr. 326
END:VEVENT
BEGIN:VEVENT
UID:24W_845231_4683964@uibk.ac.at
ORGANIZER;CN="LFU:online Universität Innsbruck":MAILTO:Uni-Innsbruck-noreply@uibk.ac.at
SUMMARY:VU Ausgewählte Kapitel aus Wasserbau (LV 845231-0 24W)
DESCRIPTION:Lehrveranstaltung 845231 24W, Gruppe 0\nTitel: VU Ausgewählte Kapitel aus Wasserbau\nOrt: Besprechungsraum Nr. 326\n\nhttps://lfuonline.uibk.ac.at/public/lfuonline_lv.details?sem_id_in=24W&lvnr_id_in=845231\n
CLASS:PUBLIC
DTSTART:20241010T151500Z
DTEND:20241010T164500Z
DTSTAMP:20260423T111821Z
LOCATION:Besprechungsraum Nr. 326
END:VEVENT
BEGIN:VEVENT
UID:24W_845231_4683965@uibk.ac.at
ORGANIZER;CN="LFU:online Universität Innsbruck":MAILTO:Uni-Innsbruck-noreply@uibk.ac.at
SUMMARY:VU Ausgewählte Kapitel aus Wasserbau (LV 845231-0 24W)
DESCRIPTION:Lehrveranstaltung 845231 24W, Gruppe 0\nTitel: VU Ausgewählte Kapitel aus Wasserbau\nOrt: Besprechungsraum Nr. 326\n\nhttps://lfuonline.uibk.ac.at/public/lfuonline_lv.details?sem_id_in=24W&lvnr_id_in=845231\n
CLASS:PUBLIC
DTSTART:20241017T151500Z
DTEND:20241017T164500Z
DTSTAMP:20260423T111821Z
LOCATION:Besprechungsraum Nr. 326
END:VEVENT
BEGIN:VEVENT
UID:24W_845231_4683966@uibk.ac.at
ORGANIZER;CN="LFU:online Universität Innsbruck":MAILTO:Uni-Innsbruck-noreply@uibk.ac.at
SUMMARY:VU Ausgewählte Kapitel aus Wasserbau (LV 845231-0 24W)
DESCRIPTION:Lehrveranstaltung 845231 24W, Gruppe 0\nTitel: VU Ausgewählte Kapitel aus Wasserbau\nOrt: Besprechungsraum Nr. 326\n\nhttps://lfuonline.uibk.ac.at/public/lfuonline_lv.details?sem_id_in=24W&lvnr_id_in=845231\n
CLASS:PUBLIC
DTSTART:20241024T151500Z
DTEND:20241024T164500Z
DTSTAMP:20260423T111821Z
LOCATION:Besprechungsraum Nr. 326
END:VEVENT
BEGIN:VEVENT
UID:24W_845231_4683967@uibk.ac.at
ORGANIZER;CN="LFU:online Universität Innsbruck":MAILTO:Uni-Innsbruck-noreply@uibk.ac.at
SUMMARY:VU Ausgewählte Kapitel aus Wasserbau (LV 845231-0 24W)
DESCRIPTION:Lehrveranstaltung 845231 24W, Gruppe 0\nTitel: VU Ausgewählte Kapitel aus Wasserbau\nOrt: Besprechungsraum Nr. 326\n\nhttps://lfuonline.uibk.ac.at/public/lfuonline_lv.details?sem_id_in=24W&lvnr_id_in=845231\n
CLASS:PUBLIC
DTSTART:20241031T161500Z
DTEND:20241031T174500Z
DTSTAMP:20260423T111821Z
LOCATION:Besprechungsraum Nr. 326
END:VEVENT
BEGIN:VEVENT
UID:24W_845231_4683968@uibk.ac.at
ORGANIZER;CN="LFU:online Universität Innsbruck":MAILTO:Uni-Innsbruck-noreply@uibk.ac.at
SUMMARY:VU Ausgewählte Kapitel aus Wasserbau (LV 845231-0 24W)
DESCRIPTION:Lehrveranstaltung 845231 24W, Gruppe 0\nTitel: VU Ausgewählte Kapitel aus Wasserbau\nOrt: Besprechungsraum Nr. 326\n\nhttps://lfuonline.uibk.ac.at/public/lfuonline_lv.details?sem_id_in=24W&lvnr_id_in=845231\n
CLASS:PUBLIC
DTSTART:20241107T161500Z
DTEND:20241107T174500Z
DTSTAMP:20260423T111821Z
LOCATION:Besprechungsraum Nr. 326
END:VEVENT
BEGIN:VEVENT
UID:24W_845231_4683969@uibk.ac.at
ORGANIZER;CN="LFU:online Universität Innsbruck":MAILTO:Uni-Innsbruck-noreply@uibk.ac.at
SUMMARY:VU Ausgewählte Kapitel aus Wasserbau (LV 845231-0 24W)
DESCRIPTION:Lehrveranstaltung 845231 24W, Gruppe 0\nTitel: VU Ausgewählte Kapitel aus Wasserbau\nOrt: Besprechungsraum Nr. 326\n\nhttps://lfuonline.uibk.ac.at/public/lfuonline_lv.details?sem_id_in=24W&lvnr_id_in=845231\n
CLASS:PUBLIC
DTSTART:20241114T161500Z
DTEND:20241114T174500Z
DTSTAMP:20260423T111821Z
LOCATION:Besprechungsraum Nr. 326
END:VEVENT
BEGIN:VEVENT
UID:24W_845231_4683970@uibk.ac.at
ORGANIZER;CN="LFU:online Universität Innsbruck":MAILTO:Uni-Innsbruck-noreply@uibk.ac.at
SUMMARY:VU Ausgewählte Kapitel aus Wasserbau (LV 845231-0 24W)
DESCRIPTION:Lehrveranstaltung 845231 24W, Gruppe 0\nTitel: VU Ausgewählte Kapitel aus Wasserbau\nOrt: Besprechungsraum Nr. 326\n\nhttps://lfuonline.uibk.ac.at/public/lfuonline_lv.details?sem_id_in=24W&lvnr_id_in=845231\n
CLASS:PUBLIC
DTSTART:20241121T161500Z
DTEND:20241121T174500Z
DTSTAMP:20260423T111821Z
LOCATION:Besprechungsraum Nr. 326
END:VEVENT
BEGIN:VEVENT
UID:24W_845231_4683971@uibk.ac.at
ORGANIZER;CN="LFU:online Universität Innsbruck":MAILTO:Uni-Innsbruck-noreply@uibk.ac.at
SUMMARY:VU Ausgewählte Kapitel aus Wasserbau (LV 845231-0 24W)
DESCRIPTION:Lehrveranstaltung 845231 24W, Gruppe 0\nTitel: VU Ausgewählte Kapitel aus Wasserbau\nOrt: Besprechungsraum Nr. 326\n\nhttps://lfuonline.uibk.ac.at/public/lfuonline_lv.details?sem_id_in=24W&lvnr_id_in=845231\n
CLASS:PUBLIC
DTSTART:20241128T161500Z
DTEND:20241128T174500Z
DTSTAMP:20260423T111821Z
LOCATION:Besprechungsraum Nr. 326
END:VEVENT
BEGIN:VEVENT
UID:24W_845231_4683972@uibk.ac.at
ORGANIZER;CN="LFU:online Universität Innsbruck":MAILTO:Uni-Innsbruck-noreply@uibk.ac.at
SUMMARY:VU Ausgewählte Kapitel aus Wasserbau (LV 845231-0 24W)
DESCRIPTION:Lehrveranstaltung 845231 24W, Gruppe 0\nTitel: VU Ausgewählte Kapitel aus Wasserbau\nOrt: Besprechungsraum Nr. 326\n\nhttps://lfuonline.uibk.ac.at/public/lfuonline_lv.details?sem_id_in=24W&lvnr_id_in=845231\n
CLASS:PUBLIC
DTSTART:20241205T161500Z
DTEND:20241205T174500Z
DTSTAMP:20260423T111821Z
LOCATION:Besprechungsraum Nr. 326
END:VEVENT
BEGIN:VEVENT
UID:24W_845231_4683973@uibk.ac.at
ORGANIZER;CN="LFU:online Universität Innsbruck":MAILTO:Uni-Innsbruck-noreply@uibk.ac.at
SUMMARY:VU Ausgewählte Kapitel aus Wasserbau (LV 845231-0 24W)
DESCRIPTION:Lehrveranstaltung 845231 24W, Gruppe 0\nTitel: VU Ausgewählte Kapitel aus Wasserbau\nOrt: Besprechungsraum Nr. 326\n\nhttps://lfuonline.uibk.ac.at/public/lfuonline_lv.details?sem_id_in=24W&lvnr_id_in=845231\n
CLASS:PUBLIC
DTSTART:20241212T161500Z
DTEND:20241212T174500Z
DTSTAMP:20260423T111821Z
LOCATION:Besprechungsraum Nr. 326
END:VEVENT
BEGIN:VEVENT
UID:24W_845231_4683974@uibk.ac.at
ORGANIZER;CN="LFU:online Universität Innsbruck":MAILTO:Uni-Innsbruck-noreply@uibk.ac.at
SUMMARY:VU Ausgewählte Kapitel aus Wasserbau (LV 845231-0 24W)
DESCRIPTION:Lehrveranstaltung 845231 24W, Gruppe 0\nTitel: VU Ausgewählte Kapitel aus Wasserbau\nOrt: Besprechungsraum Nr. 326\n\nhttps://lfuonline.uibk.ac.at/public/lfuonline_lv.details?sem_id_in=24W&lvnr_id_in=845231\n
CLASS:PUBLIC
DTSTART:20250109T161500Z
DTEND:20250109T174500Z
DTSTAMP:20260423T111821Z
LOCATION:Besprechungsraum Nr. 326
END:VEVENT
BEGIN:VEVENT
UID:24W_845231_4683975@uibk.ac.at
ORGANIZER;CN="LFU:online Universität Innsbruck":MAILTO:Uni-Innsbruck-noreply@uibk.ac.at
SUMMARY:VU Ausgewählte Kapitel aus Wasserbau (LV 845231-0 24W)
DESCRIPTION:Lehrveranstaltung 845231 24W, Gruppe 0\nTitel: VU Ausgewählte Kapitel aus Wasserbau\nOrt: Besprechungsraum Nr. 326\n\nhttps://lfuonline.uibk.ac.at/public/lfuonline_lv.details?sem_id_in=24W&lvnr_id_in=845231\n
CLASS:PUBLIC
DTSTART:20250116T161500Z
DTEND:20250116T174500Z
DTSTAMP:20260423T111821Z
LOCATION:Besprechungsraum Nr. 326
END:VEVENT
BEGIN:VEVENT
UID:24W_845231_4683976@uibk.ac.at
ORGANIZER;CN="LFU:online Universität Innsbruck":MAILTO:Uni-Innsbruck-noreply@uibk.ac.at
SUMMARY:VU Ausgewählte Kapitel aus Wasserbau (LV 845231-0 24W)
DESCRIPTION:Lehrveranstaltung 845231 24W, Gruppe 0\nTitel: VU Ausgewählte Kapitel aus Wasserbau\nOrt: Besprechungsraum Nr. 326\n\nhttps://lfuonline.uibk.ac.at/public/lfuonline_lv.details?sem_id_in=24W&lvnr_id_in=845231\n
CLASS:PUBLIC
DTSTART:20250123T161500Z
DTEND:20250123T174500Z
DTSTAMP:20260423T111821Z
LOCATION:Besprechungsraum Nr. 326
END:VEVENT
BEGIN:VEVENT
UID:24W_845231_4683977@uibk.ac.at
ORGANIZER;CN="LFU:online Universität Innsbruck":MAILTO:Uni-Innsbruck-noreply@uibk.ac.at
SUMMARY:VU Ausgewählte Kapitel aus Wasserbau (LV 845231-0 24W)
DESCRIPTION:Lehrveranstaltung 845231 24W, Gruppe 0\nTitel: VU Ausgewählte Kapitel aus Wasserbau\nOrt: Besprechungsraum Nr. 326\n\nhttps://lfuonline.uibk.ac.at/public/lfuonline_lv.details?sem_id_in=24W&lvnr_id_in=845231\n
CLASS:PUBLIC
DTSTART:20250130T161500Z
DTEND:20250130T174500Z
DTSTAMP:20260423T111821Z
LOCATION:Besprechungsraum Nr. 326
END:VEVENT
END:VCALENDAR