BEGIN:VCALENDAR
VERSION:2.0
PRODID:-//Universität Innsbruck//LFU:online//DE
METHOD:PUBLISH
BEGIN:VEVENT
UID:25S_845233_4724078@uibk.ac.at
ORGANIZER;CN="LFU:online Universität Innsbruck":MAILTO:Uni-Innsbruck-noreply@uibk.ac.at
SUMMARY:VU Ingenieurhydrologie (LV 845233-0 25S)
DESCRIPTION:Lehrveranstaltung 845233 25S, Gruppe 0\nTitel: VU Ingenieurhydrologie\nOrt: HSB  9\n\nhttps://lfuonline.uibk.ac.at/public/lfuonline_lv.details?sem_id_in=25S&lvnr_id_in=845233\n
CLASS:PUBLIC
DTSTART:20250310T143000Z
DTEND:20250310T160000Z
DTSTAMP:20260423T112129Z
LOCATION:HSB  9
END:VEVENT
BEGIN:VEVENT
UID:25S_845233_4724079@uibk.ac.at
ORGANIZER;CN="LFU:online Universität Innsbruck":MAILTO:Uni-Innsbruck-noreply@uibk.ac.at
SUMMARY:VU Ingenieurhydrologie (LV 845233-0 25S)
DESCRIPTION:Lehrveranstaltung 845233 25S, Gruppe 0\nTitel: VU Ingenieurhydrologie\nOrt: HSB  9\n\nhttps://lfuonline.uibk.ac.at/public/lfuonline_lv.details?sem_id_in=25S&lvnr_id_in=845233\n
CLASS:PUBLIC
DTSTART:20250317T143000Z
DTEND:20250317T160000Z
DTSTAMP:20260423T112129Z
LOCATION:HSB  9
END:VEVENT
BEGIN:VEVENT
UID:25S_845233_4724080@uibk.ac.at
ORGANIZER;CN="LFU:online Universität Innsbruck":MAILTO:Uni-Innsbruck-noreply@uibk.ac.at
SUMMARY:VU Ingenieurhydrologie (LV 845233-0 25S)
DESCRIPTION:Lehrveranstaltung 845233 25S, Gruppe 0\nTitel: VU Ingenieurhydrologie\nOrt: HSB  9\n\nhttps://lfuonline.uibk.ac.at/public/lfuonline_lv.details?sem_id_in=25S&lvnr_id_in=845233\n
CLASS:PUBLIC
DTSTART:20250324T143000Z
DTEND:20250324T160000Z
DTSTAMP:20260423T112129Z
LOCATION:HSB  9
END:VEVENT
BEGIN:VEVENT
UID:25S_845233_4724081@uibk.ac.at
ORGANIZER;CN="LFU:online Universität Innsbruck":MAILTO:Uni-Innsbruck-noreply@uibk.ac.at
SUMMARY:VU Ingenieurhydrologie (LV 845233-0 25S)
DESCRIPTION:Lehrveranstaltung 845233 25S, Gruppe 0\nTitel: VU Ingenieurhydrologie\nOrt: HSB  9\n\nhttps://lfuonline.uibk.ac.at/public/lfuonline_lv.details?sem_id_in=25S&lvnr_id_in=845233\n
CLASS:PUBLIC
DTSTART:20250331T133000Z
DTEND:20250331T150000Z
DTSTAMP:20260423T112129Z
LOCATION:HSB  9
END:VEVENT
BEGIN:VEVENT
UID:25S_845233_4724082@uibk.ac.at
ORGANIZER;CN="LFU:online Universität Innsbruck":MAILTO:Uni-Innsbruck-noreply@uibk.ac.at
SUMMARY:VU Ingenieurhydrologie (LV 845233-0 25S)
DESCRIPTION:Lehrveranstaltung 845233 25S, Gruppe 0\nTitel: VU Ingenieurhydrologie\nOrt: HSB  9\n\nhttps://lfuonline.uibk.ac.at/public/lfuonline_lv.details?sem_id_in=25S&lvnr_id_in=845233\n
CLASS:PUBLIC
DTSTART:20250407T133000Z
DTEND:20250407T150000Z
DTSTAMP:20260423T112129Z
LOCATION:HSB  9
END:VEVENT
BEGIN:VEVENT
UID:25S_845233_4724083@uibk.ac.at
ORGANIZER;CN="LFU:online Universität Innsbruck":MAILTO:Uni-Innsbruck-noreply@uibk.ac.at
SUMMARY:VU Ingenieurhydrologie (LV 845233-0 25S)
DESCRIPTION:Lehrveranstaltung 845233 25S, Gruppe 0\nTitel: VU Ingenieurhydrologie\nOrt: HSB  9\n\nhttps://lfuonline.uibk.ac.at/public/lfuonline_lv.details?sem_id_in=25S&lvnr_id_in=845233\n
CLASS:PUBLIC
DTSTART:20250428T133000Z
DTEND:20250428T150000Z
DTSTAMP:20260423T112129Z
LOCATION:HSB  9
END:VEVENT
BEGIN:VEVENT
UID:25S_845233_4724084@uibk.ac.at
ORGANIZER;CN="LFU:online Universität Innsbruck":MAILTO:Uni-Innsbruck-noreply@uibk.ac.at
SUMMARY:VU Ingenieurhydrologie (LV 845233-0 25S)
DESCRIPTION:Lehrveranstaltung 845233 25S, Gruppe 0\nTitel: VU Ingenieurhydrologie\nOrt: HSB  9\n\nhttps://lfuonline.uibk.ac.at/public/lfuonline_lv.details?sem_id_in=25S&lvnr_id_in=845233\n
CLASS:PUBLIC
DTSTART:20250505T133000Z
DTEND:20250505T150000Z
DTSTAMP:20260423T112129Z
LOCATION:HSB  9
END:VEVENT
BEGIN:VEVENT
UID:25S_845233_4724085@uibk.ac.at
ORGANIZER;CN="LFU:online Universität Innsbruck":MAILTO:Uni-Innsbruck-noreply@uibk.ac.at
SUMMARY:VU Ingenieurhydrologie (LV 845233-0 25S)
DESCRIPTION:Lehrveranstaltung 845233 25S, Gruppe 0\nTitel: VU Ingenieurhydrologie\nOrt: rr 25\n\nhttps://lfuonline.uibk.ac.at/public/lfuonline_lv.details?sem_id_in=25S&lvnr_id_in=845233\n
CLASS:PUBLIC
DTSTART:20250512T133000Z
DTEND:20250512T170000Z
DTSTAMP:20260423T112129Z
LOCATION:rr 25
END:VEVENT
BEGIN:VEVENT
UID:25S_845233_4724086@uibk.ac.at
ORGANIZER;CN="LFU:online Universität Innsbruck":MAILTO:Uni-Innsbruck-noreply@uibk.ac.at
SUMMARY:VU Ingenieurhydrologie (LV 845233-0 25S)
DESCRIPTION:Lehrveranstaltung 845233 25S, Gruppe 0\nTitel: VU Ingenieurhydrologie\nOrt: rr 25\n\nhttps://lfuonline.uibk.ac.at/public/lfuonline_lv.details?sem_id_in=25S&lvnr_id_in=845233\n
CLASS:PUBLIC
DTSTART:20250519T133000Z
DTEND:20250519T170000Z
DTSTAMP:20260423T112129Z
LOCATION:rr 25
END:VEVENT
BEGIN:VEVENT
UID:25S_845233_4724087@uibk.ac.at
ORGANIZER;CN="LFU:online Universität Innsbruck":MAILTO:Uni-Innsbruck-noreply@uibk.ac.at
SUMMARY:VU Ingenieurhydrologie (LV 845233-0 25S)
DESCRIPTION:Lehrveranstaltung 845233 25S, Gruppe 0\nTitel: VU Ingenieurhydrologie\nOrt: rr 25\n\nhttps://lfuonline.uibk.ac.at/public/lfuonline_lv.details?sem_id_in=25S&lvnr_id_in=845233\n
CLASS:PUBLIC
DTSTART:20250526T133000Z
DTEND:20250526T170000Z
DTSTAMP:20260423T112129Z
LOCATION:rr 25
END:VEVENT
BEGIN:VEVENT
UID:25S_845233_4724088@uibk.ac.at
ORGANIZER;CN="LFU:online Universität Innsbruck":MAILTO:Uni-Innsbruck-noreply@uibk.ac.at
SUMMARY:VU Ingenieurhydrologie (LV 845233-0 25S)
DESCRIPTION:Lehrveranstaltung 845233 25S, Gruppe 0\nTitel: VU Ingenieurhydrologie\nOrt: HSB  3\n\nhttps://lfuonline.uibk.ac.at/public/lfuonline_lv.details?sem_id_in=25S&lvnr_id_in=845233\n
CLASS:PUBLIC
DTSTART:20250602T133000Z
DTEND:20250602T150000Z
DTSTAMP:20260423T112129Z
LOCATION:HSB  3
COMMENT:Prüfung
END:VEVENT
BEGIN:VEVENT
UID:25S_845233_4724089@uibk.ac.at
ORGANIZER;CN="LFU:online Universität Innsbruck":MAILTO:Uni-Innsbruck-noreply@uibk.ac.at
SUMMARY:VU Ingenieurhydrologie (LV 845233-0 25S)
DESCRIPTION:Lehrveranstaltung 845233 25S, Gruppe 0\nTitel: VU Ingenieurhydrologie\nOrt: HSB  9\n\nhttps://lfuonline.uibk.ac.at/public/lfuonline_lv.details?sem_id_in=25S&lvnr_id_in=845233\n
CLASS:PUBLIC
DTSTART:20250616T133000Z
DTEND:20250616T150000Z
DTSTAMP:20260423T112129Z
LOCATION:HSB  9
END:VEVENT
BEGIN:VEVENT
UID:25S_845233_4724090@uibk.ac.at
ORGANIZER;CN="LFU:online Universität Innsbruck":MAILTO:Uni-Innsbruck-noreply@uibk.ac.at
SUMMARY:VU Ingenieurhydrologie (LV 845233-0 25S)
DESCRIPTION:Lehrveranstaltung 845233 25S, Gruppe 0\nTitel: VU Ingenieurhydrologie\nOrt: HSB  9\n\nhttps://lfuonline.uibk.ac.at/public/lfuonline_lv.details?sem_id_in=25S&lvnr_id_in=845233\n
CLASS:PUBLIC
DTSTART:20250623T133000Z
DTEND:20250623T150000Z
DTSTAMP:20260423T112129Z
LOCATION:HSB  9
END:VEVENT
END:VCALENDAR