BEGIN:VCALENDAR
VERSION:2.0
PRODID:-//Universität Innsbruck//LFU:online//DE
METHOD:PUBLISH
BEGIN:VEVENT
UID:24W_845234_4593532@uibk.ac.at
ORGANIZER;CN="LFU:online Universität Innsbruck":MAILTO:Uni-Innsbruck-noreply@uibk.ac.at
SUMMARY:VU Planungsrecht und Fallbeispiele im Wasserbau (LV 845234-0 24W)
DESCRIPTION:Lehrveranstaltung 845234 24W, Gruppe 0\nTitel: VU Planungsrecht und Fallbeispiele im Wasserbau\nOrt: rr 21\n\nhttps://lfuonline.uibk.ac.at/public/lfuonline_lv.details?sem_id_in=24W&lvnr_id_in=845234\n
CLASS:PUBLIC
DTSTART:20241001T133000Z
DTEND:20241001T164500Z
DTSTAMP:20260423T130142Z
LOCATION:rr 21
END:VEVENT
BEGIN:VEVENT
UID:24W_845234_4593533@uibk.ac.at
ORGANIZER;CN="LFU:online Universität Innsbruck":MAILTO:Uni-Innsbruck-noreply@uibk.ac.at
SUMMARY:VU Planungsrecht und Fallbeispiele im Wasserbau (LV 845234-0 24W)
DESCRIPTION:Lehrveranstaltung 845234 24W, Gruppe 0\nTitel: VU Planungsrecht und Fallbeispiele im Wasserbau\nOrt: rr 21\n\nhttps://lfuonline.uibk.ac.at/public/lfuonline_lv.details?sem_id_in=24W&lvnr_id_in=845234\n
CLASS:PUBLIC
DTSTART:20241008T133000Z
DTEND:20241008T164500Z
DTSTAMP:20260423T130142Z
LOCATION:rr 21
END:VEVENT
BEGIN:VEVENT
UID:24W_845234_4593534@uibk.ac.at
ORGANIZER;CN="LFU:online Universität Innsbruck":MAILTO:Uni-Innsbruck-noreply@uibk.ac.at
SUMMARY:VU Planungsrecht und Fallbeispiele im Wasserbau (LV 845234-0 24W)
DESCRIPTION:Lehrveranstaltung 845234 24W, Gruppe 0\nTitel: VU Planungsrecht und Fallbeispiele im Wasserbau\nOrt: rr 21\n\nhttps://lfuonline.uibk.ac.at/public/lfuonline_lv.details?sem_id_in=24W&lvnr_id_in=845234\n
CLASS:PUBLIC
DTSTART:20241015T133000Z
DTEND:20241015T164500Z
DTSTAMP:20260423T130142Z
LOCATION:rr 21
END:VEVENT
BEGIN:VEVENT
UID:24W_845234_4593535@uibk.ac.at
ORGANIZER;CN="LFU:online Universität Innsbruck":MAILTO:Uni-Innsbruck-noreply@uibk.ac.at
SUMMARY:VU Planungsrecht und Fallbeispiele im Wasserbau (LV 845234-0 24W)
DESCRIPTION:Lehrveranstaltung 845234 24W, Gruppe 0\nTitel: VU Planungsrecht und Fallbeispiele im Wasserbau\nOrt: rr 21\n\nhttps://lfuonline.uibk.ac.at/public/lfuonline_lv.details?sem_id_in=24W&lvnr_id_in=845234\n
CLASS:PUBLIC
DTSTART:20241022T133000Z
DTEND:20241022T164500Z
DTSTAMP:20260423T130142Z
LOCATION:rr 21
END:VEVENT
BEGIN:VEVENT
UID:24W_845234_4593536@uibk.ac.at
ORGANIZER;CN="LFU:online Universität Innsbruck":MAILTO:Uni-Innsbruck-noreply@uibk.ac.at
SUMMARY:VU Planungsrecht und Fallbeispiele im Wasserbau (LV 845234-0 24W)
DESCRIPTION:Lehrveranstaltung 845234 24W, Gruppe 0\nTitel: VU Planungsrecht und Fallbeispiele im Wasserbau\nOrt: rr 21\n\nhttps://lfuonline.uibk.ac.at/public/lfuonline_lv.details?sem_id_in=24W&lvnr_id_in=845234\n
CLASS:PUBLIC
DTSTART:20241029T143000Z
DTEND:20241029T174500Z
DTSTAMP:20260423T130142Z
LOCATION:rr 21
END:VEVENT
BEGIN:VEVENT
UID:24W_845234_4593537@uibk.ac.at
ORGANIZER;CN="LFU:online Universität Innsbruck":MAILTO:Uni-Innsbruck-noreply@uibk.ac.at
SUMMARY:VU Planungsrecht und Fallbeispiele im Wasserbau (LV 845234-0 24W)
DESCRIPTION:Lehrveranstaltung 845234 24W, Gruppe 0\nTitel: VU Planungsrecht und Fallbeispiele im Wasserbau\nOrt: rr 21\n\nhttps://lfuonline.uibk.ac.at/public/lfuonline_lv.details?sem_id_in=24W&lvnr_id_in=845234\n
CLASS:PUBLIC
DTSTART:20241105T143000Z
DTEND:20241105T174500Z
DTSTAMP:20260423T130142Z
LOCATION:rr 21
END:VEVENT
BEGIN:VEVENT
UID:24W_845234_4593538@uibk.ac.at
ORGANIZER;CN="LFU:online Universität Innsbruck":MAILTO:Uni-Innsbruck-noreply@uibk.ac.at
SUMMARY:VU Planungsrecht und Fallbeispiele im Wasserbau (LV 845234-0 24W)
DESCRIPTION:Lehrveranstaltung 845234 24W, Gruppe 0\nTitel: VU Planungsrecht und Fallbeispiele im Wasserbau\nOrt: rr 21\n\nhttps://lfuonline.uibk.ac.at/public/lfuonline_lv.details?sem_id_in=24W&lvnr_id_in=845234\n
CLASS:PUBLIC
DTSTART:20241112T143000Z
DTEND:20241112T174500Z
DTSTAMP:20260423T130142Z
LOCATION:rr 21
END:VEVENT
BEGIN:VEVENT
UID:24W_845234_4593539@uibk.ac.at
ORGANIZER;CN="LFU:online Universität Innsbruck":MAILTO:Uni-Innsbruck-noreply@uibk.ac.at
SUMMARY:VU Planungsrecht und Fallbeispiele im Wasserbau (LV 845234-0 24W)
DESCRIPTION:Lehrveranstaltung 845234 24W, Gruppe 0\nTitel: VU Planungsrecht und Fallbeispiele im Wasserbau\nOrt: rr 21\n\nhttps://lfuonline.uibk.ac.at/public/lfuonline_lv.details?sem_id_in=24W&lvnr_id_in=845234\n
CLASS:PUBLIC
DTSTART:20241119T143000Z
DTEND:20241119T174500Z
DTSTAMP:20260423T130142Z
LOCATION:rr 21
END:VEVENT
BEGIN:VEVENT
UID:24W_845234_4593540@uibk.ac.at
ORGANIZER;CN="LFU:online Universität Innsbruck":MAILTO:Uni-Innsbruck-noreply@uibk.ac.at
SUMMARY:VU Planungsrecht und Fallbeispiele im Wasserbau (LV 845234-0 24W)
DESCRIPTION:Lehrveranstaltung 845234 24W, Gruppe 0\nTitel: VU Planungsrecht und Fallbeispiele im Wasserbau\nOrt: rr 21\n\nhttps://lfuonline.uibk.ac.at/public/lfuonline_lv.details?sem_id_in=24W&lvnr_id_in=845234\n
CLASS:PUBLIC
DTSTART:20241126T143000Z
DTEND:20241126T174500Z
DTSTAMP:20260423T130142Z
LOCATION:rr 21
END:VEVENT
BEGIN:VEVENT
UID:24W_845234_4593541@uibk.ac.at
ORGANIZER;CN="LFU:online Universität Innsbruck":MAILTO:Uni-Innsbruck-noreply@uibk.ac.at
SUMMARY:VU Planungsrecht und Fallbeispiele im Wasserbau (LV 845234-0 24W)
DESCRIPTION:Lehrveranstaltung 845234 24W, Gruppe 0\nTitel: VU Planungsrecht und Fallbeispiele im Wasserbau\nOrt: rr 21\n\nhttps://lfuonline.uibk.ac.at/public/lfuonline_lv.details?sem_id_in=24W&lvnr_id_in=845234\n
CLASS:PUBLIC
DTSTART:20241203T143000Z
DTEND:20241203T174500Z
DTSTAMP:20260423T130142Z
LOCATION:rr 21
END:VEVENT
BEGIN:VEVENT
UID:24W_845234_4593542@uibk.ac.at
ORGANIZER;CN="LFU:online Universität Innsbruck":MAILTO:Uni-Innsbruck-noreply@uibk.ac.at
SUMMARY:VU Planungsrecht und Fallbeispiele im Wasserbau (LV 845234-0 24W)
DESCRIPTION:Lehrveranstaltung 845234 24W, Gruppe 0\nTitel: VU Planungsrecht und Fallbeispiele im Wasserbau\nOrt: rr 21\n\nhttps://lfuonline.uibk.ac.at/public/lfuonline_lv.details?sem_id_in=24W&lvnr_id_in=845234\n
CLASS:PUBLIC
DTSTART:20241210T143000Z
DTEND:20241210T174500Z
DTSTAMP:20260423T130142Z
LOCATION:rr 21
END:VEVENT
BEGIN:VEVENT
UID:24W_845234_4593543@uibk.ac.at
ORGANIZER;CN="LFU:online Universität Innsbruck":MAILTO:Uni-Innsbruck-noreply@uibk.ac.at
SUMMARY:VU Planungsrecht und Fallbeispiele im Wasserbau (LV 845234-0 24W)
DESCRIPTION:Lehrveranstaltung 845234 24W, Gruppe 0\nTitel: VU Planungsrecht und Fallbeispiele im Wasserbau\nOrt: rr 21\n\nhttps://lfuonline.uibk.ac.at/public/lfuonline_lv.details?sem_id_in=24W&lvnr_id_in=845234\n
CLASS:PUBLIC
DTSTART:20250107T143000Z
DTEND:20250107T174500Z
DTSTAMP:20260423T130142Z
LOCATION:rr 21
END:VEVENT
BEGIN:VEVENT
UID:24W_845234_4593544@uibk.ac.at
ORGANIZER;CN="LFU:online Universität Innsbruck":MAILTO:Uni-Innsbruck-noreply@uibk.ac.at
SUMMARY:VU Planungsrecht und Fallbeispiele im Wasserbau (LV 845234-0 24W)
DESCRIPTION:Lehrveranstaltung 845234 24W, Gruppe 0\nTitel: VU Planungsrecht und Fallbeispiele im Wasserbau\nOrt: rr 21\n\nhttps://lfuonline.uibk.ac.at/public/lfuonline_lv.details?sem_id_in=24W&lvnr_id_in=845234\n
CLASS:PUBLIC
DTSTART:20250114T143000Z
DTEND:20250114T174500Z
DTSTAMP:20260423T130142Z
LOCATION:rr 21
END:VEVENT
BEGIN:VEVENT
UID:24W_845234_4593545@uibk.ac.at
ORGANIZER;CN="LFU:online Universität Innsbruck":MAILTO:Uni-Innsbruck-noreply@uibk.ac.at
SUMMARY:VU Planungsrecht und Fallbeispiele im Wasserbau (LV 845234-0 24W)
DESCRIPTION:Lehrveranstaltung 845234 24W, Gruppe 0\nTitel: VU Planungsrecht und Fallbeispiele im Wasserbau\nOrt: rr 21\n\nhttps://lfuonline.uibk.ac.at/public/lfuonline_lv.details?sem_id_in=24W&lvnr_id_in=845234\n
CLASS:PUBLIC
DTSTART:20250121T143000Z
DTEND:20250121T174500Z
DTSTAMP:20260423T130142Z
LOCATION:rr 21
END:VEVENT
BEGIN:VEVENT
UID:24W_845234_4593546@uibk.ac.at
ORGANIZER;CN="LFU:online Universität Innsbruck":MAILTO:Uni-Innsbruck-noreply@uibk.ac.at
SUMMARY:VU Planungsrecht und Fallbeispiele im Wasserbau (LV 845234-0 24W)
DESCRIPTION:Lehrveranstaltung 845234 24W, Gruppe 0\nTitel: VU Planungsrecht und Fallbeispiele im Wasserbau\nOrt: rr 21\n\nhttps://lfuonline.uibk.ac.at/public/lfuonline_lv.details?sem_id_in=24W&lvnr_id_in=845234\n
CLASS:PUBLIC
DTSTART:20250128T143000Z
DTEND:20250128T174500Z
DTSTAMP:20260423T130142Z
LOCATION:rr 21
END:VEVENT
BEGIN:VEVENT
UID:24W_845234_4708874@uibk.ac.at
ORGANIZER;CN="LFU:online Universität Innsbruck":MAILTO:Uni-Innsbruck-noreply@uibk.ac.at
SUMMARY:VU Planungsrecht und Fallbeispiele im Wasserbau (LV 845234-0 24W)
DESCRIPTION:Lehrveranstaltung 845234 24W, Gruppe 0\nTitel: VU Planungsrecht und Fallbeispiele im Wasserbau\nOrt: Besprechungsraum Nr. 326\n\nhttps://lfuonline.uibk.ac.at/public/lfuonline_lv.details?sem_id_in=24W&lvnr_id_in=845234\n
CLASS:PUBLIC
DTSTART:20250128T143000Z
DTEND:20250128T190000Z
DTSTAMP:20260423T130142Z
LOCATION:Besprechungsraum Nr. 326
COMMENT:Prüfung
END:VEVENT
BEGIN:VEVENT
UID:24W_845234_4708875@uibk.ac.at
ORGANIZER;CN="LFU:online Universität Innsbruck":MAILTO:Uni-Innsbruck-noreply@uibk.ac.at
SUMMARY:VU Planungsrecht und Fallbeispiele im Wasserbau (LV 845234-0 24W)
DESCRIPTION:Lehrveranstaltung 845234 24W, Gruppe 0\nTitel: VU Planungsrecht und Fallbeispiele im Wasserbau\nOrt: Besprechungsraum Nr. 326\n\nhttps://lfuonline.uibk.ac.at/public/lfuonline_lv.details?sem_id_in=24W&lvnr_id_in=845234\n
CLASS:PUBLIC
DTSTART:20250225T143000Z
DTEND:20250225T190000Z
DTSTAMP:20260423T130142Z
LOCATION:Besprechungsraum Nr. 326
COMMENT:Prüfung
END:VEVENT
BEGIN:VEVENT
UID:24W_845234_4708876@uibk.ac.at
ORGANIZER;CN="LFU:online Universität Innsbruck":MAILTO:Uni-Innsbruck-noreply@uibk.ac.at
SUMMARY:VU Planungsrecht und Fallbeispiele im Wasserbau (LV 845234-0 24W)
DESCRIPTION:Lehrveranstaltung 845234 24W, Gruppe 0\nTitel: VU Planungsrecht und Fallbeispiele im Wasserbau\nOrt: Besprechungsraum Nr. 326\n\nhttps://lfuonline.uibk.ac.at/public/lfuonline_lv.details?sem_id_in=24W&lvnr_id_in=845234\n
CLASS:PUBLIC
DTSTART:20250304T143000Z
DTEND:20250304T190000Z
DTSTAMP:20260423T130142Z
LOCATION:Besprechungsraum Nr. 326
COMMENT:Prüfung
END:VEVENT
END:VCALENDAR