BEGIN:VCALENDAR
VERSION:2.0
PRODID:-//Universität Innsbruck//LFU:online//DE
METHOD:PUBLISH
BEGIN:VEVENT
UID:21W_846121_3897920@uibk.ac.at
ORGANIZER;CN="LFU:online Universität Innsbruck":MAILTO:Uni-Innsbruck-noreply@uibk.ac.at
SUMMARY:VO Grundlagen der Physik (LV 846121-0 21W)
DESCRIPTION:Lehrveranstaltung 846121 21W, Gruppe 0\nTitel: VO Grundlagen der Physik\nOrt: eLecture - online\n\nhttps://lfuonline.uibk.ac.at/public/lfuonline_lv.details?sem_id_in=21W&lvnr_id_in=846121\n
CLASS:PUBLIC
DTSTART:20211005T111500Z
DTEND:20211005T130000Z
DTSTAMP:20260421T050621Z
LOCATION:eLecture - online
END:VEVENT
BEGIN:VEVENT
UID:21W_846121_3897921@uibk.ac.at
ORGANIZER;CN="LFU:online Universität Innsbruck":MAILTO:Uni-Innsbruck-noreply@uibk.ac.at
SUMMARY:VO Grundlagen der Physik (LV 846121-0 21W)
DESCRIPTION:Lehrveranstaltung 846121 21W, Gruppe 0\nTitel: VO Grundlagen der Physik\nOrt: eLecture - online\n\nhttps://lfuonline.uibk.ac.at/public/lfuonline_lv.details?sem_id_in=21W&lvnr_id_in=846121\n
CLASS:PUBLIC
DTSTART:20211012T111500Z
DTEND:20211012T130000Z
DTSTAMP:20260421T050621Z
LOCATION:eLecture - online
END:VEVENT
BEGIN:VEVENT
UID:21W_846121_3897922@uibk.ac.at
ORGANIZER;CN="LFU:online Universität Innsbruck":MAILTO:Uni-Innsbruck-noreply@uibk.ac.at
SUMMARY:VO Grundlagen der Physik (LV 846121-0 21W)
DESCRIPTION:Lehrveranstaltung 846121 21W, Gruppe 0\nTitel: VO Grundlagen der Physik\nOrt: eLecture - online\n\nhttps://lfuonline.uibk.ac.at/public/lfuonline_lv.details?sem_id_in=21W&lvnr_id_in=846121\n
CLASS:PUBLIC
DTSTART:20211019T111500Z
DTEND:20211019T130000Z
DTSTAMP:20260421T050621Z
LOCATION:eLecture - online
END:VEVENT
BEGIN:VEVENT
UID:21W_846121_3897923@uibk.ac.at
ORGANIZER;CN="LFU:online Universität Innsbruck":MAILTO:Uni-Innsbruck-noreply@uibk.ac.at
SUMMARY:VO Grundlagen der Physik (LV 846121-0 21W)
DESCRIPTION:Lehrveranstaltung 846121 21W, Gruppe 0\nTitel: VO Grundlagen der Physik\nOrt: eLecture - online\n\nhttps://lfuonline.uibk.ac.at/public/lfuonline_lv.details?sem_id_in=21W&lvnr_id_in=846121\n
CLASS:PUBLIC
DTSTART:20211109T121500Z
DTEND:20211109T140000Z
DTSTAMP:20260421T050621Z
LOCATION:eLecture - online
END:VEVENT
BEGIN:VEVENT
UID:21W_846121_3897924@uibk.ac.at
ORGANIZER;CN="LFU:online Universität Innsbruck":MAILTO:Uni-Innsbruck-noreply@uibk.ac.at
SUMMARY:VO Grundlagen der Physik (LV 846121-0 21W)
DESCRIPTION:Lehrveranstaltung 846121 21W, Gruppe 0\nTitel: VO Grundlagen der Physik\nOrt: eLecture - online\n\nhttps://lfuonline.uibk.ac.at/public/lfuonline_lv.details?sem_id_in=21W&lvnr_id_in=846121\n
CLASS:PUBLIC
DTSTART:20211116T121500Z
DTEND:20211116T140000Z
DTSTAMP:20260421T050621Z
LOCATION:eLecture - online
END:VEVENT
BEGIN:VEVENT
UID:21W_846121_3897925@uibk.ac.at
ORGANIZER;CN="LFU:online Universität Innsbruck":MAILTO:Uni-Innsbruck-noreply@uibk.ac.at
SUMMARY:VO Grundlagen der Physik (LV 846121-0 21W)
DESCRIPTION:Lehrveranstaltung 846121 21W, Gruppe 0\nTitel: VO Grundlagen der Physik\nOrt: eLecture - online\n\nhttps://lfuonline.uibk.ac.at/public/lfuonline_lv.details?sem_id_in=21W&lvnr_id_in=846121\n
CLASS:PUBLIC
DTSTART:20211123T121500Z
DTEND:20211123T140000Z
DTSTAMP:20260421T050621Z
LOCATION:eLecture - online
END:VEVENT
BEGIN:VEVENT
UID:21W_846121_3897926@uibk.ac.at
ORGANIZER;CN="LFU:online Universität Innsbruck":MAILTO:Uni-Innsbruck-noreply@uibk.ac.at
SUMMARY:VO Grundlagen der Physik (LV 846121-0 21W)
DESCRIPTION:Lehrveranstaltung 846121 21W, Gruppe 0\nTitel: VO Grundlagen der Physik\nOrt: eLecture - online\n\nhttps://lfuonline.uibk.ac.at/public/lfuonline_lv.details?sem_id_in=21W&lvnr_id_in=846121\n
CLASS:PUBLIC
DTSTART:20211130T121500Z
DTEND:20211130T140000Z
DTSTAMP:20260421T050621Z
LOCATION:eLecture - online
END:VEVENT
BEGIN:VEVENT
UID:21W_846121_3966451@uibk.ac.at
ORGANIZER;CN="LFU:online Universität Innsbruck":MAILTO:Uni-Innsbruck-noreply@uibk.ac.at
SUMMARY:VO Grundlagen der Physik (LV 846121-0 21W)
DESCRIPTION:Lehrveranstaltung 846121 21W, Gruppe 0\nTitel: VO Grundlagen der Physik\nOrt: eLecture - online\n\nhttps://lfuonline.uibk.ac.at/public/lfuonline_lv.details?sem_id_in=21W&lvnr_id_in=846121\n
CLASS:PUBLIC
DTSTART:20211207T121500Z
DTEND:20211207T140000Z
DTSTAMP:20260421T050621Z
LOCATION:eLecture - online
END:VEVENT
BEGIN:VEVENT
UID:21W_846121_3966452@uibk.ac.at
ORGANIZER;CN="LFU:online Universität Innsbruck":MAILTO:Uni-Innsbruck-noreply@uibk.ac.at
SUMMARY:VO Grundlagen der Physik (LV 846121-0 21W)
DESCRIPTION:Lehrveranstaltung 846121 21W, Gruppe 0\nTitel: VO Grundlagen der Physik\nOrt: eLecture - online\n\nhttps://lfuonline.uibk.ac.at/public/lfuonline_lv.details?sem_id_in=21W&lvnr_id_in=846121\n
CLASS:PUBLIC
DTSTART:20211214T121500Z
DTEND:20211214T140000Z
DTSTAMP:20260421T050621Z
LOCATION:eLecture - online
END:VEVENT
BEGIN:VEVENT
UID:21W_846121_3966453@uibk.ac.at
ORGANIZER;CN="LFU:online Universität Innsbruck":MAILTO:Uni-Innsbruck-noreply@uibk.ac.at
SUMMARY:VO Grundlagen der Physik (LV 846121-0 21W)
DESCRIPTION:Lehrveranstaltung 846121 21W, Gruppe 0\nTitel: VO Grundlagen der Physik\nOrt: eLecture - online\n\nhttps://lfuonline.uibk.ac.at/public/lfuonline_lv.details?sem_id_in=21W&lvnr_id_in=846121\n
CLASS:PUBLIC
DTSTART:20220111T121500Z
DTEND:20220111T140000Z
DTSTAMP:20260421T050621Z
LOCATION:eLecture - online
END:VEVENT
BEGIN:VEVENT
UID:21W_846121_3897930@uibk.ac.at
ORGANIZER;CN="LFU:online Universität Innsbruck":MAILTO:Uni-Innsbruck-noreply@uibk.ac.at
SUMMARY:VO Grundlagen der Physik (LV 846121-0 21W)
DESCRIPTION:Lehrveranstaltung 846121 21W, Gruppe 0\nTitel: VO Grundlagen der Physik\nOrt: eLecture - online\n\nhttps://lfuonline.uibk.ac.at/public/lfuonline_lv.details?sem_id_in=21W&lvnr_id_in=846121\n
CLASS:PUBLIC
DTSTART:20220118T121500Z
DTEND:20220118T140000Z
DTSTAMP:20260421T050621Z
LOCATION:eLecture - online
END:VEVENT
BEGIN:VEVENT
UID:21W_846121_3897931@uibk.ac.at
ORGANIZER;CN="LFU:online Universität Innsbruck":MAILTO:Uni-Innsbruck-noreply@uibk.ac.at
SUMMARY:VO Grundlagen der Physik (LV 846121-0 21W)
DESCRIPTION:Lehrveranstaltung 846121 21W, Gruppe 0\nTitel: VO Grundlagen der Physik\nOrt: eLecture - online\n\nhttps://lfuonline.uibk.ac.at/public/lfuonline_lv.details?sem_id_in=21W&lvnr_id_in=846121\n
CLASS:PUBLIC
DTSTART:20220125T121500Z
DTEND:20220125T140000Z
DTSTAMP:20260421T050621Z
LOCATION:eLecture - online
END:VEVENT
BEGIN:VEVENT
UID:21W_846121_3897932@uibk.ac.at
ORGANIZER;CN="LFU:online Universität Innsbruck":MAILTO:Uni-Innsbruck-noreply@uibk.ac.at
SUMMARY:VO Grundlagen der Physik (LV 846121-0 21W)
DESCRIPTION:Lehrveranstaltung 846121 21W, Gruppe 0\nTitel: VO Grundlagen der Physik\nOrt: eLecture - online\n\nhttps://lfuonline.uibk.ac.at/public/lfuonline_lv.details?sem_id_in=21W&lvnr_id_in=846121\n
CLASS:PUBLIC
DTSTART:20220201T121500Z
DTEND:20220201T140000Z
DTSTAMP:20260421T050621Z
LOCATION:eLecture - online
END:VEVENT
END:VCALENDAR