BEGIN:VCALENDAR
VERSION:2.0
PRODID:-//Universität Innsbruck//LFU:online//DE
METHOD:PUBLISH
BEGIN:VEVENT
UID:21W_846124_3897850@uibk.ac.at
ORGANIZER;CN="LFU:online Universität Innsbruck":MAILTO:Uni-Innsbruck-noreply@uibk.ac.at
SUMMARY:UE Grundlagen der Physik in der Mechatronik (LV 846124-0 21W)
DESCRIPTION:Lehrveranstaltung 846124 21W, Gruppe 0\nTitel: UE Grundlagen der Physik in der Mechatronik\nOrt: eLecture - online\n\nhttps://lfuonline.uibk.ac.at/public/lfuonline_lv.details?sem_id_in=21W&lvnr_id_in=846124\n
CLASS:PUBLIC
DTSTART:20211005T101500Z
DTEND:20211005T110000Z
DTSTAMP:20260421T050621Z
LOCATION:eLecture - online
END:VEVENT
BEGIN:VEVENT
UID:21W_846124_3897851@uibk.ac.at
ORGANIZER;CN="LFU:online Universität Innsbruck":MAILTO:Uni-Innsbruck-noreply@uibk.ac.at
SUMMARY:UE Grundlagen der Physik in der Mechatronik (LV 846124-0 21W)
DESCRIPTION:Lehrveranstaltung 846124 21W, Gruppe 0\nTitel: UE Grundlagen der Physik in der Mechatronik\nOrt: eLecture - online\n\nhttps://lfuonline.uibk.ac.at/public/lfuonline_lv.details?sem_id_in=21W&lvnr_id_in=846124\n
CLASS:PUBLIC
DTSTART:20211012T101500Z
DTEND:20211012T110000Z
DTSTAMP:20260421T050621Z
LOCATION:eLecture - online
END:VEVENT
BEGIN:VEVENT
UID:21W_846124_3897852@uibk.ac.at
ORGANIZER;CN="LFU:online Universität Innsbruck":MAILTO:Uni-Innsbruck-noreply@uibk.ac.at
SUMMARY:UE Grundlagen der Physik in der Mechatronik (LV 846124-0 21W)
DESCRIPTION:Lehrveranstaltung 846124 21W, Gruppe 0\nTitel: UE Grundlagen der Physik in der Mechatronik\nOrt: eLecture - online\n\nhttps://lfuonline.uibk.ac.at/public/lfuonline_lv.details?sem_id_in=21W&lvnr_id_in=846124\n
CLASS:PUBLIC
DTSTART:20211019T101500Z
DTEND:20211019T110000Z
DTSTAMP:20260421T050621Z
LOCATION:eLecture - online
END:VEVENT
BEGIN:VEVENT
UID:21W_846124_3897853@uibk.ac.at
ORGANIZER;CN="LFU:online Universität Innsbruck":MAILTO:Uni-Innsbruck-noreply@uibk.ac.at
SUMMARY:UE Grundlagen der Physik in der Mechatronik (LV 846124-0 21W)
DESCRIPTION:Lehrveranstaltung 846124 21W, Gruppe 0\nTitel: UE Grundlagen der Physik in der Mechatronik\nOrt: eLecture - online\n\nhttps://lfuonline.uibk.ac.at/public/lfuonline_lv.details?sem_id_in=21W&lvnr_id_in=846124\n
CLASS:PUBLIC
DTSTART:20211109T111500Z
DTEND:20211109T120000Z
DTSTAMP:20260421T050621Z
LOCATION:eLecture - online
END:VEVENT
BEGIN:VEVENT
UID:21W_846124_3897854@uibk.ac.at
ORGANIZER;CN="LFU:online Universität Innsbruck":MAILTO:Uni-Innsbruck-noreply@uibk.ac.at
SUMMARY:UE Grundlagen der Physik in der Mechatronik (LV 846124-0 21W)
DESCRIPTION:Lehrveranstaltung 846124 21W, Gruppe 0\nTitel: UE Grundlagen der Physik in der Mechatronik\nOrt: eLecture - online\n\nhttps://lfuonline.uibk.ac.at/public/lfuonline_lv.details?sem_id_in=21W&lvnr_id_in=846124\n
CLASS:PUBLIC
DTSTART:20211116T111500Z
DTEND:20211116T120000Z
DTSTAMP:20260421T050621Z
LOCATION:eLecture - online
END:VEVENT
BEGIN:VEVENT
UID:21W_846124_3897855@uibk.ac.at
ORGANIZER;CN="LFU:online Universität Innsbruck":MAILTO:Uni-Innsbruck-noreply@uibk.ac.at
SUMMARY:UE Grundlagen der Physik in der Mechatronik (LV 846124-0 21W)
DESCRIPTION:Lehrveranstaltung 846124 21W, Gruppe 0\nTitel: UE Grundlagen der Physik in der Mechatronik\nOrt: eLecture - online\n\nhttps://lfuonline.uibk.ac.at/public/lfuonline_lv.details?sem_id_in=21W&lvnr_id_in=846124\n
CLASS:PUBLIC
DTSTART:20211123T111500Z
DTEND:20211123T120000Z
DTSTAMP:20260421T050621Z
LOCATION:eLecture - online
END:VEVENT
BEGIN:VEVENT
UID:21W_846124_3897856@uibk.ac.at
ORGANIZER;CN="LFU:online Universität Innsbruck":MAILTO:Uni-Innsbruck-noreply@uibk.ac.at
SUMMARY:UE Grundlagen der Physik in der Mechatronik (LV 846124-0 21W)
DESCRIPTION:Lehrveranstaltung 846124 21W, Gruppe 0\nTitel: UE Grundlagen der Physik in der Mechatronik\nOrt: eLecture - online\n\nhttps://lfuonline.uibk.ac.at/public/lfuonline_lv.details?sem_id_in=21W&lvnr_id_in=846124\n
CLASS:PUBLIC
DTSTART:20211130T111500Z
DTEND:20211130T120000Z
DTSTAMP:20260421T050621Z
LOCATION:eLecture - online
END:VEVENT
BEGIN:VEVENT
UID:21W_846124_3897857@uibk.ac.at
ORGANIZER;CN="LFU:online Universität Innsbruck":MAILTO:Uni-Innsbruck-noreply@uibk.ac.at
SUMMARY:UE Grundlagen der Physik in der Mechatronik (LV 846124-0 21W)
DESCRIPTION:Lehrveranstaltung 846124 21W, Gruppe 0\nTitel: UE Grundlagen der Physik in der Mechatronik\nOrt: eLecture - online\n\nhttps://lfuonline.uibk.ac.at/public/lfuonline_lv.details?sem_id_in=21W&lvnr_id_in=846124\n
CLASS:PUBLIC
DTSTART:20211207T111500Z
DTEND:20211207T120000Z
DTSTAMP:20260421T050621Z
LOCATION:eLecture - online
END:VEVENT
BEGIN:VEVENT
UID:21W_846124_3897858@uibk.ac.at
ORGANIZER;CN="LFU:online Universität Innsbruck":MAILTO:Uni-Innsbruck-noreply@uibk.ac.at
SUMMARY:UE Grundlagen der Physik in der Mechatronik (LV 846124-0 21W)
DESCRIPTION:Lehrveranstaltung 846124 21W, Gruppe 0\nTitel: UE Grundlagen der Physik in der Mechatronik\nOrt: eLecture - online\n\nhttps://lfuonline.uibk.ac.at/public/lfuonline_lv.details?sem_id_in=21W&lvnr_id_in=846124\n
CLASS:PUBLIC
DTSTART:20211214T111500Z
DTEND:20211214T120000Z
DTSTAMP:20260421T050621Z
LOCATION:eLecture - online
END:VEVENT
BEGIN:VEVENT
UID:21W_846124_3897859@uibk.ac.at
ORGANIZER;CN="LFU:online Universität Innsbruck":MAILTO:Uni-Innsbruck-noreply@uibk.ac.at
SUMMARY:UE Grundlagen der Physik in der Mechatronik (LV 846124-0 21W)
DESCRIPTION:Lehrveranstaltung 846124 21W, Gruppe 0\nTitel: UE Grundlagen der Physik in der Mechatronik\nOrt: eLecture - online\n\nhttps://lfuonline.uibk.ac.at/public/lfuonline_lv.details?sem_id_in=21W&lvnr_id_in=846124\n
CLASS:PUBLIC
DTSTART:20220111T111500Z
DTEND:20220111T120000Z
DTSTAMP:20260421T050621Z
LOCATION:eLecture - online
END:VEVENT
BEGIN:VEVENT
UID:21W_846124_3897860@uibk.ac.at
ORGANIZER;CN="LFU:online Universität Innsbruck":MAILTO:Uni-Innsbruck-noreply@uibk.ac.at
SUMMARY:UE Grundlagen der Physik in der Mechatronik (LV 846124-0 21W)
DESCRIPTION:Lehrveranstaltung 846124 21W, Gruppe 0\nTitel: UE Grundlagen der Physik in der Mechatronik\nOrt: eLecture - online\n\nhttps://lfuonline.uibk.ac.at/public/lfuonline_lv.details?sem_id_in=21W&lvnr_id_in=846124\n
CLASS:PUBLIC
DTSTART:20220118T111500Z
DTEND:20220118T120000Z
DTSTAMP:20260421T050621Z
LOCATION:eLecture - online
END:VEVENT
BEGIN:VEVENT
UID:21W_846124_3897861@uibk.ac.at
ORGANIZER;CN="LFU:online Universität Innsbruck":MAILTO:Uni-Innsbruck-noreply@uibk.ac.at
SUMMARY:UE Grundlagen der Physik in der Mechatronik (LV 846124-0 21W)
DESCRIPTION:Lehrveranstaltung 846124 21W, Gruppe 0\nTitel: UE Grundlagen der Physik in der Mechatronik\nOrt: eLecture - online\n\nhttps://lfuonline.uibk.ac.at/public/lfuonline_lv.details?sem_id_in=21W&lvnr_id_in=846124\n
CLASS:PUBLIC
DTSTART:20220125T111500Z
DTEND:20220125T120000Z
DTSTAMP:20260421T050621Z
LOCATION:eLecture - online
END:VEVENT
BEGIN:VEVENT
UID:21W_846124_3897862@uibk.ac.at
ORGANIZER;CN="LFU:online Universität Innsbruck":MAILTO:Uni-Innsbruck-noreply@uibk.ac.at
SUMMARY:UE Grundlagen der Physik in der Mechatronik (LV 846124-0 21W)
DESCRIPTION:Lehrveranstaltung 846124 21W, Gruppe 0\nTitel: UE Grundlagen der Physik in der Mechatronik\nOrt: eLecture - online\n\nhttps://lfuonline.uibk.ac.at/public/lfuonline_lv.details?sem_id_in=21W&lvnr_id_in=846124\n
CLASS:PUBLIC
DTSTART:20220201T111500Z
DTEND:20220201T120000Z
DTSTAMP:20260421T050621Z
LOCATION:eLecture - online
END:VEVENT
BEGIN:VEVENT
UID:21W_846124_4066421@uibk.ac.at
ORGANIZER;CN="LFU:online Universität Innsbruck":MAILTO:Uni-Innsbruck-noreply@uibk.ac.at
SUMMARY:UE Grundlagen der Physik in der Mechatronik (LV 846124-0 21W)
DESCRIPTION:Lehrveranstaltung 846124 21W, Gruppe 0\nTitel: UE Grundlagen der Physik in der Mechatronik\nOrt: HSB  6\n\nhttps://lfuonline.uibk.ac.at/public/lfuonline_lv.details?sem_id_in=21W&lvnr_id_in=846124\n
CLASS:PUBLIC
DTSTART:20220330T140000Z
DTEND:20220330T160000Z
DTSTAMP:20260421T050621Z
LOCATION:HSB  6
COMMENT:Prüfung
END:VEVENT
END:VCALENDAR