BEGIN:VCALENDAR
VERSION:2.0
PRODID:-//Universität Innsbruck//LFU:online//DE
METHOD:PUBLISH
BEGIN:VEVENT
UID:21W_846173_3898525@uibk.ac.at
ORGANIZER;CN="LFU:online Universität Innsbruck":MAILTO:Uni-Innsbruck-noreply@uibk.ac.at
SUMMARY:VU Energieeffiziente Beleuchtung (LV 846173-0 21W)
DESCRIPTION:Lehrveranstaltung 846173 21W, Gruppe 0\nTitel: VU Energieeffiziente Beleuchtung\nOrt: eLecture - online\n\nhttps://lfuonline.uibk.ac.at/public/lfuonline_lv.details?sem_id_in=21W&lvnr_id_in=846173\n
CLASS:PUBLIC
DTSTART:20211029T071500Z
DTEND:20211029T100000Z
DTSTAMP:20260420T120823Z
LOCATION:eLecture - online
END:VEVENT
BEGIN:VEVENT
UID:21W_846173_3956169@uibk.ac.at
ORGANIZER;CN="LFU:online Universität Innsbruck":MAILTO:Uni-Innsbruck-noreply@uibk.ac.at
SUMMARY:VU Energieeffiziente Beleuchtung (LV 846173-0 21W)
DESCRIPTION:Lehrveranstaltung 846173 21W, Gruppe 0\nTitel: VU Energieeffiziente Beleuchtung\nOrt: eLecture - online\n\nhttps://lfuonline.uibk.ac.at/public/lfuonline_lv.details?sem_id_in=21W&lvnr_id_in=846173\n
CLASS:PUBLIC
DTSTART:20211105T081500Z
DTEND:20211105T110000Z
DTSTAMP:20260420T120823Z
LOCATION:eLecture - online
END:VEVENT
BEGIN:VEVENT
UID:21W_846173_3898526@uibk.ac.at
ORGANIZER;CN="LFU:online Universität Innsbruck":MAILTO:Uni-Innsbruck-noreply@uibk.ac.at
SUMMARY:VU Energieeffiziente Beleuchtung (LV 846173-0 21W)
DESCRIPTION:Lehrveranstaltung 846173 21W, Gruppe 0\nTitel: VU Energieeffiziente Beleuchtung\nOrt: eLecture - online\n\nhttps://lfuonline.uibk.ac.at/public/lfuonline_lv.details?sem_id_in=21W&lvnr_id_in=846173\n
CLASS:PUBLIC
DTSTART:20211112T081500Z
DTEND:20211112T110000Z
DTSTAMP:20260420T120823Z
LOCATION:eLecture - online
END:VEVENT
BEGIN:VEVENT
UID:21W_846173_3898527@uibk.ac.at
ORGANIZER;CN="LFU:online Universität Innsbruck":MAILTO:Uni-Innsbruck-noreply@uibk.ac.at
SUMMARY:VU Energieeffiziente Beleuchtung (LV 846173-0 21W)
DESCRIPTION:Lehrveranstaltung 846173 21W, Gruppe 0\nTitel: VU Energieeffiziente Beleuchtung\nOrt: eLecture - online\n\nhttps://lfuonline.uibk.ac.at/public/lfuonline_lv.details?sem_id_in=21W&lvnr_id_in=846173\n
CLASS:PUBLIC
DTSTART:20211126T081500Z
DTEND:20211126T110000Z
DTSTAMP:20260420T120823Z
LOCATION:eLecture - online
END:VEVENT
BEGIN:VEVENT
UID:21W_846173_3898528@uibk.ac.at
ORGANIZER;CN="LFU:online Universität Innsbruck":MAILTO:Uni-Innsbruck-noreply@uibk.ac.at
SUMMARY:VU Energieeffiziente Beleuchtung (LV 846173-0 21W)
DESCRIPTION:Lehrveranstaltung 846173 21W, Gruppe 0\nTitel: VU Energieeffiziente Beleuchtung\nOrt: eLecture - online\n\nhttps://lfuonline.uibk.ac.at/public/lfuonline_lv.details?sem_id_in=21W&lvnr_id_in=846173\n
CLASS:PUBLIC
DTSTART:20211210T081500Z
DTEND:20211210T110000Z
DTSTAMP:20260420T120823Z
LOCATION:eLecture - online
END:VEVENT
BEGIN:VEVENT
UID:21W_846173_3898529@uibk.ac.at
ORGANIZER;CN="LFU:online Universität Innsbruck":MAILTO:Uni-Innsbruck-noreply@uibk.ac.at
SUMMARY:VU Energieeffiziente Beleuchtung (LV 846173-0 21W)
DESCRIPTION:Lehrveranstaltung 846173 21W, Gruppe 0\nTitel: VU Energieeffiziente Beleuchtung\nOrt: eLecture - online\n\nhttps://lfuonline.uibk.ac.at/public/lfuonline_lv.details?sem_id_in=21W&lvnr_id_in=846173\n
CLASS:PUBLIC
DTSTART:20220114T081500Z
DTEND:20220114T110000Z
DTSTAMP:20260420T120823Z
LOCATION:eLecture - online
END:VEVENT
BEGIN:VEVENT
UID:21W_846173_3898530@uibk.ac.at
ORGANIZER;CN="LFU:online Universität Innsbruck":MAILTO:Uni-Innsbruck-noreply@uibk.ac.at
SUMMARY:VU Energieeffiziente Beleuchtung (LV 846173-0 21W)
DESCRIPTION:Lehrveranstaltung 846173 21W, Gruppe 0\nTitel: VU Energieeffiziente Beleuchtung\nOrt: eLecture - online\n\nhttps://lfuonline.uibk.ac.at/public/lfuonline_lv.details?sem_id_in=21W&lvnr_id_in=846173\n
CLASS:PUBLIC
DTSTART:20220128T081500Z
DTEND:20220128T110000Z
DTSTAMP:20260420T120823Z
LOCATION:eLecture - online
END:VEVENT
END:VCALENDAR